Back to Multiple platform build/check report for BioC 3.19: simplified long |
|
This page was generated on 2024-04-16 11:38:59 -0400 (Tue, 16 Apr 2024).
Hostname | OS | Arch (*) | R version | Installed pkgs |
---|---|---|---|---|
nebbiolo1 | Linux (Ubuntu 22.04.3 LTS) | x86_64 | R Under development (unstable) (2024-03-18 r86148) -- "Unsuffered Consequences" | 4739 |
palomino3 | Windows Server 2022 Datacenter | x64 | R Under development (unstable) (2024-03-16 r86144 ucrt) -- "Unsuffered Consequences" | 4472 |
lconway | macOS 12.7.1 Monterey | x86_64 | R Under development (unstable) (2024-03-18 r86148) -- "Unsuffered Consequences" | 4500 |
kunpeng2 | Linux (openEuler 22.03 LTS-SP1) | aarch64 | R Under development (unstable) (2024-03-19 r86153) -- "Unsuffered Consequences" | 4458 |
Click on any hostname to see more info about the system (e.g. compilers) (*) as reported by 'uname -p', except on Windows and Mac OS X |
Package 2216/2280 | Hostname | OS / Arch | INSTALL | BUILD | CHECK | BUILD BIN | ||||||||
UMI4Cats 1.13.0 (landing page) Mireia Ramos-Rodriguez
| nebbiolo1 | Linux (Ubuntu 22.04.3 LTS) / x86_64 | OK | OK | OK | ![]() | ||||||||
palomino3 | Windows Server 2022 Datacenter / x64 | OK | OK | OK | OK | ![]() | ||||||||
lconway | macOS 12.7.1 Monterey / x86_64 | OK | OK | OK | OK | ![]() | ||||||||
kunpeng2 | Linux (openEuler 22.03 LTS-SP1) / aarch64 | OK | OK | OK | ||||||||||
kjohnson3 | macOS 13.6.5 Ventura / arm64 | see weekly results here | ||||||||||||
To the developers/maintainers of the UMI4Cats package: - Allow up to 24 hours (and sometimes 48 hours) for your latest push to git@git.bioconductor.org:packages/UMI4Cats.git to reflect on this report. See Troubleshooting Build Report for more information. - Use the following Renviron settings to reproduce errors and warnings. - If 'R CMD check' started to fail recently on the Linux builder(s) over a missing dependency, add the missing dependency to 'Suggests:' in your DESCRIPTION file. See Renviron.bioc for more information. |
Package: UMI4Cats |
Version: 1.13.0 |
Command: rm -rf UMI4Cats.buildbin-libdir && mkdir UMI4Cats.buildbin-libdir && F:\biocbuild\bbs-3.19-bioc\R\bin\R.exe CMD INSTALL --build --library=UMI4Cats.buildbin-libdir UMI4Cats_1.13.0.tar.gz |
StartedAt: 2024-04-16 09:24:33 -0400 (Tue, 16 Apr 2024) |
EndedAt: 2024-04-16 09:25:29 -0400 (Tue, 16 Apr 2024) |
EllapsedTime: 55.9 seconds |
RetCode: 0 |
Status: OK |
PackageFile: UMI4Cats_1.13.0.zip |
PackageFileSize: 2.921 MiB |
############################################################################## ############################################################################## ### ### Running command: ### ### rm -rf UMI4Cats.buildbin-libdir && mkdir UMI4Cats.buildbin-libdir && F:\biocbuild\bbs-3.19-bioc\R\bin\R.exe CMD INSTALL --build --library=UMI4Cats.buildbin-libdir UMI4Cats_1.13.0.tar.gz ### ############################################################################## ############################################################################## * installing *source* package 'UMI4Cats' ... ** using staged installation ** R ** data ** inst ** byte-compile and prepare package for lazy loading ** help *** installing help indices *** copying figures ** building package indices ** installing vignettes ** testing if installed package can be loaded from temporary location ** testing if installed package can be loaded from final location ** testing if installed package keeps a record of temporary installation path * MD5 sums packaged installation of 'UMI4Cats' as UMI4Cats_1.13.0.zip * DONE (UMI4Cats)