Back to Multiple platform build/check report for BioC 3.19: simplified long |
|
This page was generated on 2024-05-08 11:41:28 -0400 (Wed, 08 May 2024).
Hostname | OS | Arch (*) | R version | Installed pkgs |
---|---|---|---|---|
nebbiolo1 | Linux (Ubuntu 22.04.3 LTS) | x86_64 | 4.4.0 (2024-04-24) -- "Puppy Cup" | 4707 |
palomino3 | Windows Server 2022 Datacenter | x64 | 4.4.0 (2024-04-24 ucrt) -- "Puppy Cup" | 4484 |
lconway | macOS 12.7.1 Monterey | x86_64 | 4.4.0 (2024-04-24) -- "Puppy Cup" | 4514 |
kunpeng2 | Linux (openEuler 22.03 LTS-SP1) | aarch64 | 4.4.0 beta (2024-04-15 r86425) -- "Puppy Cup" | 4480 |
Click on any hostname to see more info about the system (e.g. compilers) (*) as reported by 'uname -p', except on Windows and Mac OS X |
Package 2135/2300 | Hostname | OS / Arch | INSTALL | BUILD | CHECK | BUILD BIN | ||||||||
TargetSearch 2.6.0 (landing page) Alvaro Cuadros-Inostroza
| nebbiolo1 | Linux (Ubuntu 22.04.3 LTS) / x86_64 | OK | OK | OK | ![]() | ||||||||
palomino3 | Windows Server 2022 Datacenter / x64 | OK | ERROR | skipped | skipped | |||||||||
lconway | macOS 12.7.1 Monterey / x86_64 | OK | OK | OK | OK | ![]() | ||||||||
kunpeng2 | Linux (openEuler 22.03 LTS-SP1) / aarch64 | OK | OK | OK | ||||||||||
kjohnson3 | macOS 13.6.5 Ventura / arm64 | see weekly results here | ||||||||||||
To the developers/maintainers of the TargetSearch package: - Allow up to 24 hours (and sometimes 48 hours) for your latest push to git@git.bioconductor.org:packages/TargetSearch.git to reflect on this report. See Troubleshooting Build Report for more information. - Use the following Renviron settings to reproduce errors and warnings. - If 'R CMD check' started to fail recently on the Linux builder(s) over a missing dependency, add the missing dependency to 'Suggests:' in your DESCRIPTION file. See Renviron.bioc for more information. - See Martin Grigorov's blog post for how to debug Linux ARM64 related issues on a x86_64 host. |
Package: TargetSearch |
Version: 2.6.0 |
Command: /home/biocbuild/R/R-beta-2024-04-15_r86425/bin/R CMD check --install=check:TargetSearch.install-out.txt --library=/home/biocbuild/R/R-beta-2024-04-15_r86425/site-library --no-vignettes --timings TargetSearch_2.6.0.tar.gz |
StartedAt: 2024-05-08 12:35:33 -0000 (Wed, 08 May 2024) |
EndedAt: 2024-05-08 12:36:46 -0000 (Wed, 08 May 2024) |
EllapsedTime: 73.1 seconds |
RetCode: 0 |
Status: OK |
CheckDir: TargetSearch.Rcheck |
Warnings: 0 |
############################################################################## ############################################################################## ### ### Running command: ### ### /home/biocbuild/R/R-beta-2024-04-15_r86425/bin/R CMD check --install=check:TargetSearch.install-out.txt --library=/home/biocbuild/R/R-beta-2024-04-15_r86425/site-library --no-vignettes --timings TargetSearch_2.6.0.tar.gz ### ############################################################################## ############################################################################## * using log directory ‘/home/biocbuild/bbs-3.19-bioc/meat/TargetSearch.Rcheck’ * using R version 4.4.0 beta (2024-04-15 r86425) * using platform: aarch64-unknown-linux-gnu * R was compiled by gcc (GCC) 10.3.1 GNU Fortran (GCC) 10.3.1 * running under: openEuler 22.03 (LTS-SP1) * using session charset: UTF-8 * using option ‘--no-vignettes’ * checking for file ‘TargetSearch/DESCRIPTION’ ... OK * checking extension type ... Package * this is package ‘TargetSearch’ version ‘2.6.0’ * checking package namespace information ... OK * checking package dependencies ... OK * checking if this is a source package ... OK * checking if there is a namespace ... OK * checking for hidden files and directories ... OK * checking for portable file names ... OK * checking for sufficient/correct file permissions ... OK * checking whether package ‘TargetSearch’ can be installed ... OK * used C compiler: ‘gcc (GCC) 10.3.1’ * checking installed package size ... OK * checking package directory ... OK * checking ‘build’ directory ... OK * checking DESCRIPTION meta-information ... OK * checking top-level files ... OK * checking for left-over files ... OK * checking index information ... OK * checking package subdirectories ... OK * checking code files for non-ASCII characters ... OK * checking R files for syntax errors ... OK * checking whether the package can be loaded ... OK * checking whether the package can be loaded with stated dependencies ... OK * checking whether the package can be unloaded cleanly ... OK * checking whether the namespace can be loaded with stated dependencies ... OK * checking whether the namespace can be unloaded cleanly ... OK * checking loading without being on the library search path ... OK * checking dependencies in R code ... OK * checking S3 generic/method consistency ... OK * checking replacement functions ... OK * checking foreign function calls ... OK * checking R code for possible problems ... OK * checking Rd files ... OK * checking Rd metadata ... OK * checking Rd cross-references ... OK * checking for missing documentation entries ... OK * checking for code/documentation mismatches ... OK * checking Rd \usage sections ... OK * checking Rd contents ... OK * checking for unstated dependencies in examples ... OK * checking contents of ‘data’ directory ... OK * checking data for non-ASCII characters ... OK * checking data for ASCII and uncompressed saves ... OK * checking line endings in C/C++/Fortran sources/headers ... OK * checking compiled code ... NOTE Note: information on .o files is not available * checking installed files from ‘inst/doc’ ... OK * checking files in ‘vignettes’ ... OK * checking examples ... OK Examples with CPU (user + system) or elapsed time > 5s user system elapsed RIcorrect 10.825 0.415 11.439 * checking for unstated dependencies in ‘tests’ ... OK * checking tests ... Running ‘tinytest.R’ OK * checking for unstated dependencies in vignettes ... OK * checking package vignettes ... OK * checking running R code from vignettes ... SKIPPED * checking re-building of vignette outputs ... SKIPPED * checking PDF version of manual ... OK * DONE Status: 1 NOTE See ‘/home/biocbuild/bbs-3.19-bioc/meat/TargetSearch.Rcheck/00check.log’ for details.
TargetSearch.Rcheck/00install.out
############################################################################## ############################################################################## ### ### Running command: ### ### /home/biocbuild/R/R-beta-2024-04-15_r86425/bin/R CMD INSTALL TargetSearch ### ############################################################################## ############################################################################## * installing to library ‘/home/biocbuild/R/R-beta-2024-04-15_r86425/site-library’ * installing *source* package ‘TargetSearch’ ... ** using staged installation ** libs using C compiler: ‘gcc (GCC) 10.3.1’ gcc -I"/home/biocbuild/R/R-beta-2024-04-15_r86425/include" -DNDEBUG -I/usr/local/include -fPIC -g -O2 -Wall -c Rinit.c -o Rinit.o gcc -I"/home/biocbuild/R/R-beta-2024-04-15_r86425/include" -DNDEBUG -I/usr/local/include -fPIC -g -O2 -Wall -c baseline.c -o baseline.o gcc -I"/home/biocbuild/R/R-beta-2024-04-15_r86425/include" -DNDEBUG -I/usr/local/include -fPIC -g -O2 -Wall -c detection.c -o detection.o gcc -I"/home/biocbuild/R/R-beta-2024-04-15_r86425/include" -DNDEBUG -I/usr/local/include -fPIC -g -O2 -Wall -c file.c -o file.o gcc -I"/home/biocbuild/R/R-beta-2024-04-15_r86425/include" -DNDEBUG -I/usr/local/include -fPIC -g -O2 -Wall -c find.c -o find.o gcc -I"/home/biocbuild/R/R-beta-2024-04-15_r86425/include" -DNDEBUG -I/usr/local/include -fPIC -g -O2 -Wall -c get_line.c -o get_line.o gcc -I"/home/biocbuild/R/R-beta-2024-04-15_r86425/include" -DNDEBUG -I/usr/local/include -fPIC -g -O2 -Wall -c hpf.c -o hpf.o gcc -I"/home/biocbuild/R/R-beta-2024-04-15_r86425/include" -DNDEBUG -I/usr/local/include -fPIC -g -O2 -Wall -c matrix.c -o matrix.o gcc -I"/home/biocbuild/R/R-beta-2024-04-15_r86425/include" -DNDEBUG -I/usr/local/include -fPIC -g -O2 -Wall -c ncdf.c -o ncdf.o gcc -I"/home/biocbuild/R/R-beta-2024-04-15_r86425/include" -DNDEBUG -I/usr/local/include -fPIC -g -O2 -Wall -c peak.c -o peak.o gcc -I"/home/biocbuild/R/R-beta-2024-04-15_r86425/include" -DNDEBUG -I/usr/local/include -fPIC -g -O2 -Wall -c spectrum.c -o spectrum.o gcc -I"/home/biocbuild/R/R-beta-2024-04-15_r86425/include" -DNDEBUG -I/usr/local/include -fPIC -g -O2 -Wall -c strutils.c -o strutils.o gcc -I"/home/biocbuild/R/R-beta-2024-04-15_r86425/include" -DNDEBUG -I/usr/local/include -fPIC -g -O2 -Wall -c utils.c -o utils.o gcc -shared -L/home/biocbuild/R/R-beta-2024-04-15_r86425/lib -L/usr/local/lib -o TargetSearch.so Rinit.o baseline.o detection.o file.o find.o get_line.o hpf.o matrix.o ncdf.o peak.o spectrum.o strutils.o utils.o -L/home/biocbuild/R/R-beta-2024-04-15_r86425/lib -lR installing to /home/biocbuild/R/R-beta-2024-04-15_r86425/site-library/00LOCK-TargetSearch/00new/TargetSearch/libs ** R ** data ** inst ** byte-compile and prepare package for lazy loading ** help *** installing help indices ** building package indices ** installing vignettes ** testing if installed package can be loaded from temporary location ** checking absolute paths in shared objects and dynamic libraries ** testing if installed package can be loaded from final location ** testing if installed package keeps a record of temporary installation path * DONE (TargetSearch)
TargetSearch.Rcheck/tests/tinytest.Rout
R version 4.4.0 beta (2024-04-15 r86425) -- "Puppy Cup" Copyright (C) 2024 The R Foundation for Statistical Computing Platform: aarch64-unknown-linux-gnu R is free software and comes with ABSOLUTELY NO WARRANTY. You are welcome to redistribute it under certain conditions. Type 'license()' or 'licence()' for distribution details. R is a collaborative project with many contributors. Type 'contributors()' for more information and 'citation()' on how to cite R or R packages in publications. Type 'demo()' for some demos, 'help()' for on-line help, or 'help.start()' for an HTML browser interface to help. Type 'q()' to quit R. > if ( requireNamespace("tinytest", quietly=TRUE) && requireNamespace("TargetSearchData", quietly=TRUE)) { + tinytest::test_package("TargetSearch", color=FALSE, verbose=1) + } Loading required package: TargetSearchData test_FindAllPeaks.R........... 19 tests OK 1.0s test_file.R................... 4 tests OK 62ms test_import_fame.R............ 14 tests OK 22ms test_import_library.R......... 15 tests OK 0.1s test_ncdf4_plot_peak.R........ 7 tests OK 0.5s test_quantMatrix.R............ 8 tests OK 48ms test_ri_data_extract.R........ 6 tests OK 4.8s test_ri_plot_peak.R........... 22 tests OK 0.2s test_tsLib.R.................. 17 tests OK 51ms test_tsProfile.R.............. 12 tests OK 19ms test_tsRim.R.................. 6 tests OK 5ms test_tsSample.R............... 9 tests OK 12ms test_write_ri_file.R.......... 6 tests OK 11ms All ok, 145 results (6.8s) > > proc.time() user system elapsed 6.987 0.123 7.118
TargetSearch.Rcheck/TargetSearch-Ex.timings
name | user | system | elapsed | |
FAMEoutliers | 0.078 | 0.000 | 0.078 | |
FindAllPeaks | 0.652 | 0.028 | 0.703 | |
FindPeaks | 0.123 | 0.004 | 0.127 | |
ImportFameSettings | 0.009 | 0.003 | 0.014 | |
ImportLibrary | 0.027 | 0.001 | 0.027 | |
ImportSamples | 0.014 | 0.000 | 0.015 | |
NetCDFPeakFinding | 0.151 | 0.014 | 0.181 | |
Profile | 0.650 | 0.008 | 0.660 | |
ProfileCleanUp | 0.503 | 0.000 | 0.505 | |
RIcorrect | 10.825 | 0.415 | 11.439 | |
TSExample | 2.307 | 0.048 | 2.360 | |
Write.Results | 0.062 | 0.004 | 0.067 | |
baseline | 0.242 | 0.012 | 0.255 | |
baselineCorrection | 0.248 | 0.016 | 0.265 | |
baselineCorrectionQuant | 0.306 | 0.008 | 0.315 | |
checkRimLim | 0.671 | 0.032 | 0.704 | |
file | 0.061 | 0.000 | 0.062 | |
fixRI | 0.880 | 0.016 | 0.897 | |
medianRILib | 0.243 | 0.004 | 0.247 | |
ncdf4Convert-method | 0.096 | 0.000 | 0.096 | |
ncdf4_convert | 0.03 | 0.00 | 0.03 | |
ncdf4_convert_from_path | 1.682 | 0.068 | 1.753 | |
ncdf4_data_extract | 0.350 | 0.004 | 0.355 | |
ncdf4_plot_peak | 0.919 | 0.048 | 0.969 | |
ncdf4_update_ri | 0.229 | 0.008 | 0.237 | |
peakCDFextraction | 0.392 | 0.008 | 0.400 | |
peakFind | 0.138 | 0.000 | 0.138 | |
plotFAME | 0.006 | 0.003 | 0.009 | |
plotPeak | 0.142 | 0.008 | 0.150 | |
plotPeakRI | 0.487 | 0.004 | 0.492 | |
plotPeakSimple | 0.244 | 0.020 | 0.264 | |
plotRIdev | 0.325 | 0.004 | 0.329 | |
plotRefSpectra | 0.124 | 0.004 | 0.128 | |
plotSpectra | 0.138 | 0.004 | 0.142 | |
quantMatrix | 0.495 | 0.000 | 0.495 | |
ri2rt | 0.004 | 0.000 | 0.005 | |
riMatrix | 0.766 | 0.032 | 0.800 | |
ri_data_extract | 0.03 | 0.00 | 0.03 | |
ri_plot_peak | 0.684 | 0.008 | 0.694 | |
rt2ri | 0.004 | 0.000 | 0.004 | |
sampleRI | 0.256 | 0.011 | 0.269 | |
tsLib-class | 0.029 | 0.000 | 0.029 | |
tsMSdata-class | 0.002 | 0.008 | 0.010 | |
tsProfile-class | 0.009 | 0.000 | 0.009 | |
tsRim-class | 0.003 | 0.000 | 0.003 | |
tsSample-class | 0.026 | 0.000 | 0.026 | |
tsUpdate-method | 0 | 0 | 0 | |
updateRI | 1.185 | 0.008 | 1.196 | |
writeLibText | 0.024 | 0.000 | 0.024 | |
writeMSP | 0.02 | 0.00 | 0.02 | |