| Back to Multiple platform build/check report for BioC 3.19: simplified long |
|
This page was generated on 2024-10-18 20:39 -0400 (Fri, 18 Oct 2024).
| Hostname | OS | Arch (*) | R version | Installed pkgs |
|---|---|---|---|---|
| nebbiolo1 | Linux (Ubuntu 22.04.3 LTS) | x86_64 | 4.4.1 (2024-06-14) -- "Race for Your Life" | 4763 |
| palomino7 | Windows Server 2022 Datacenter | x64 | 4.4.1 (2024-06-14 ucrt) -- "Race for Your Life" | 4500 |
| merida1 | macOS 12.7.5 Monterey | x86_64 | 4.4.1 (2024-06-14) -- "Race for Your Life" | 4530 |
| kjohnson1 | macOS 13.6.6 Ventura | arm64 | 4.4.1 (2024-06-14) -- "Race for Your Life" | 4480 |
| Click on any hostname to see more info about the system (e.g. compilers) (*) as reported by 'uname -p', except on Windows and Mac OS X | ||||
| Package 2208/2300 | Hostname | OS / Arch | INSTALL | BUILD | CHECK | BUILD BIN | ||||||||
| TRESS 1.10.0 (landing page) Zhenxing Guo
| nebbiolo1 | Linux (Ubuntu 22.04.3 LTS) / x86_64 | OK | OK | OK | |||||||||
| palomino7 | Windows Server 2022 Datacenter / x64 | OK | OK | OK | OK | |||||||||
| merida1 | macOS 12.7.5 Monterey / x86_64 | OK | OK | OK | OK | |||||||||
| kjohnson1 | macOS 13.6.6 Ventura / arm64 | OK | OK | OK | NA | |||||||||
|
To the developers/maintainers of the TRESS package: - Allow up to 24 hours (and sometimes 48 hours) for your latest push to git@git.bioconductor.org:packages/TRESS.git to reflect on this report. See Troubleshooting Build Report for more information. - Use the following Renviron settings to reproduce errors and warnings. - If 'R CMD check' started to fail recently on the Linux builder(s) over a missing dependency, add the missing dependency to 'Suggests:' in your DESCRIPTION file. See Renviron.bioc for more information. |
| Package: TRESS |
| Version: 1.10.0 |
| Command: /home/biocbuild/bbs-3.19-bioc/R/bin/R CMD check --install=check:TRESS.install-out.txt --library=/home/biocbuild/bbs-3.19-bioc/R/site-library --timings TRESS_1.10.0.tar.gz |
| StartedAt: 2024-10-17 06:04:26 -0400 (Thu, 17 Oct 2024) |
| EndedAt: 2024-10-17 06:08:51 -0400 (Thu, 17 Oct 2024) |
| EllapsedTime: 264.5 seconds |
| RetCode: 0 |
| Status: OK |
| CheckDir: TRESS.Rcheck |
| Warnings: 0 |
##############################################################################
##############################################################################
###
### Running command:
###
### /home/biocbuild/bbs-3.19-bioc/R/bin/R CMD check --install=check:TRESS.install-out.txt --library=/home/biocbuild/bbs-3.19-bioc/R/site-library --timings TRESS_1.10.0.tar.gz
###
##############################################################################
##############################################################################
* using log directory ‘/home/biocbuild/bbs-3.19-bioc/meat/TRESS.Rcheck’
* using R version 4.4.1 (2024-06-14)
* using platform: x86_64-pc-linux-gnu
* R was compiled by
gcc (Ubuntu 11.4.0-1ubuntu1~22.04) 11.4.0
GNU Fortran (Ubuntu 11.4.0-1ubuntu1~22.04) 11.4.0
* running under: Ubuntu 22.04.5 LTS
* using session charset: UTF-8
* checking for file ‘TRESS/DESCRIPTION’ ... OK
* checking extension type ... Package
* this is package ‘TRESS’ version ‘1.10.0’
* package encoding: UTF-8
* checking package namespace information ... OK
* checking package dependencies ... NOTE
Vignette dependency required without any vignettes:: ‘knitr’
* checking if this is a source package ... OK
* checking if there is a namespace ... OK
* checking for hidden files and directories ... OK
* checking for portable file names ... OK
* checking for sufficient/correct file permissions ... OK
* checking whether package ‘TRESS’ can be installed ... OK
* checking installed package size ... OK
* checking package directory ... OK
* checking DESCRIPTION meta-information ... OK
* checking top-level files ... OK
* checking for left-over files ... OK
* checking index information ... OK
* checking package subdirectories ... OK
* checking code files for non-ASCII characters ... OK
* checking R files for syntax errors ... OK
* checking whether the package can be loaded ... OK
* checking whether the package can be loaded with stated dependencies ... OK
* checking whether the package can be unloaded cleanly ... OK
* checking whether the namespace can be loaded with stated dependencies ... OK
* checking whether the namespace can be unloaded cleanly ... OK
* checking loading without being on the library search path ... OK
* checking dependencies in R code ... OK
* checking S3 generic/method consistency ... OK
* checking replacement functions ... OK
* checking foreign function calls ... OK
* checking R code for possible problems ... OK
* checking Rd files ... NOTE
checkRd: (-1) CallCandidates.Rd:61: Escaped LaTeX specials: \&
checkRd: (-1) CallCandidates.Rd:63: Escaped LaTeX specials: \&
checkRd: (-1) CallPeaks.multiRep.Rd:7: Escaped LaTeX specials: \&
checkRd: (-1) CallPeaks.paramEsti.Rd:10: Escaped LaTeX specials: \&
checkRd: (-1) CallPeaks.paramEsti.Rd:23: Escaped LaTeX specials: \&
checkRd: (-1) findBumps.Rd:8: Escaped LaTeX specials: \&
* checking Rd metadata ... OK
* checking Rd cross-references ... OK
* checking for missing documentation entries ... OK
* checking for code/documentation mismatches ... OK
* checking Rd \usage sections ... OK
* checking Rd contents ... OK
* checking for unstated dependencies in examples ... OK
* checking contents of ‘data’ directory ... OK
* checking data for non-ASCII characters ... OK
* checking data for ASCII and uncompressed saves ... OK
* checking examples ... OK
Examples with CPU (user + system) or elapsed time > 5s
user system elapsed
CallDMRs.paramEsti 20.606 3.656 15.724
TRESS_DMRtest 18.186 1.381 12.391
CoefName 16.769 1.488 14.790
DMRInfer 8.062 1.250 0.222
CallPeaks.multiRep 6.391 1.609 1.896
* checking PDF version of manual ... OK
* DONE
Status: 2 NOTEs
See
‘/home/biocbuild/bbs-3.19-bioc/meat/TRESS.Rcheck/00check.log’
for details.
TRESS.Rcheck/00install.out
############################################################################## ############################################################################## ### ### Running command: ### ### /home/biocbuild/bbs-3.19-bioc/R/bin/R CMD INSTALL TRESS ### ############################################################################## ############################################################################## * installing to library ‘/home/biocbuild/bbs-3.19-bioc/R/site-library’ * installing *source* package ‘TRESS’ ... ** using staged installation ** R ** data ** inst ** byte-compile and prepare package for lazy loading ** help *** installing help indices ** building package indices ** testing if installed package can be loaded from temporary location ** testing if installed package can be loaded from final location ** testing if installed package keeps a record of temporary installation path * DONE (TRESS)
TRESS.Rcheck/TRESS-Ex.timings
| name | user | system | elapsed | |
| CallCandidates | 1.644 | 0.148 | 1.791 | |
| CallDMRs.paramEsti | 20.606 | 3.656 | 15.724 | |
| CallPeaks.multiRep | 6.391 | 1.609 | 1.896 | |
| CallPeaks.oneRep | 0.072 | 0.020 | 0.092 | |
| CallPeaks.paramEsti | 2.496 | 0.732 | 3.228 | |
| CoefName | 16.769 | 1.488 | 14.790 | |
| DMRInfer | 8.062 | 1.250 | 0.222 | |
| DivideBins | 0.001 | 0.000 | 0.001 | |
| ShowOnePeak | 0.209 | 0.032 | 0.242 | |
| TRESS_DMRfit | 0 | 0 | 0 | |
| TRESS_DMRtest | 18.186 | 1.381 | 12.391 | |
| TRESS_peak | 0.000 | 0.000 | 0.001 | |
| filterRegions | 0.006 | 0.003 | 0.009 | |
| findBumps | 3.921 | 0.369 | 0.085 | |
| meRatio | 0.013 | 0.004 | 0.017 | |