Back to Multiple platform build/check report for BioC 3.19:   simplified   long
ABCDEFGHIJKLMNOPQRS[T]UVWXYZ

This page was generated on 2024-10-18 20:41 -0400 (Fri, 18 Oct 2024).

HostnameOSArch (*)R versionInstalled pkgs
nebbiolo1Linux (Ubuntu 22.04.3 LTS)x86_644.4.1 (2024-06-14) -- "Race for Your Life" 4763
palomino7Windows Server 2022 Datacenterx644.4.1 (2024-06-14 ucrt) -- "Race for Your Life" 4500
merida1macOS 12.7.5 Montereyx86_644.4.1 (2024-06-14) -- "Race for Your Life" 4530
kjohnson1macOS 13.6.6 Venturaarm644.4.1 (2024-06-14) -- "Race for Your Life" 4480
Click on any hostname to see more info about the system (e.g. compilers)      (*) as reported by 'uname -p', except on Windows and Mac OS X

Package 2184/2300HostnameOS / ArchINSTALLBUILDCHECKBUILD BIN
TPP2D 1.20.0  (landing page)
Nils Kurzawa
Snapshot Date: 2024-10-16 14:00 -0400 (Wed, 16 Oct 2024)
git_url: https://git.bioconductor.org/packages/TPP2D
git_branch: RELEASE_3_19
git_last_commit: 2752b10
git_last_commit_date: 2024-04-30 11:14:51 -0400 (Tue, 30 Apr 2024)
nebbiolo1Linux (Ubuntu 22.04.3 LTS) / x86_64  OK    OK    OK  UNNEEDED, same version is already published
palomino7Windows Server 2022 Datacenter / x64  OK    OK    OK    OK  UNNEEDED, same version is already published
merida1macOS 12.7.5 Monterey / x86_64  OK    OK    OK    OK  UNNEEDED, same version is already published
kjohnson1macOS 13.6.6 Ventura / arm64  OK    OK    OK    NA  


CHECK results for TPP2D on merida1

To the developers/maintainers of the TPP2D package:
- Allow up to 24 hours (and sometimes 48 hours) for your latest push to git@git.bioconductor.org:packages/TPP2D.git to reflect on this report. See Troubleshooting Build Report for more information.
- Use the following Renviron settings to reproduce errors and warnings.
- If 'R CMD check' started to fail recently on the Linux builder(s) over a missing dependency, add the missing dependency to 'Suggests:' in your DESCRIPTION file. See Renviron.bioc for more information.

raw results


Summary

Package: TPP2D
Version: 1.20.0
Command: /Library/Frameworks/R.framework/Resources/bin/R CMD check --install=check:TPP2D.install-out.txt --library=/Library/Frameworks/R.framework/Resources/library --no-vignettes --timings TPP2D_1.20.0.tar.gz
StartedAt: 2024-10-17 14:30:53 -0400 (Thu, 17 Oct 2024)
EndedAt: 2024-10-17 14:35:46 -0400 (Thu, 17 Oct 2024)
EllapsedTime: 293.4 seconds
RetCode: 0
Status:   OK  
CheckDir: TPP2D.Rcheck
Warnings: 0

Command output

##############################################################################
##############################################################################
###
### Running command:
###
###   /Library/Frameworks/R.framework/Resources/bin/R CMD check --install=check:TPP2D.install-out.txt --library=/Library/Frameworks/R.framework/Resources/library --no-vignettes --timings TPP2D_1.20.0.tar.gz
###
##############################################################################
##############################################################################


* using log directory ‘/Users/biocbuild/bbs-3.19-bioc/meat/TPP2D.Rcheck’
* using R version 4.4.1 (2024-06-14)
* using platform: x86_64-apple-darwin20
* R was compiled by
    Apple clang version 14.0.0 (clang-1400.0.29.202)
    GNU Fortran (GCC) 12.2.0
* running under: macOS Monterey 12.7.6
* using session charset: UTF-8
* using option ‘--no-vignettes’
* checking for file ‘TPP2D/DESCRIPTION’ ... OK
* this is package ‘TPP2D’ version ‘1.20.0’
* package encoding: UTF-8
* checking package namespace information ... OK
* checking package dependencies ... OK
* checking if this is a source package ... OK
* checking if there is a namespace ... OK
* checking for hidden files and directories ... OK
* checking for portable file names ... OK
* checking for sufficient/correct file permissions ... OK
* checking whether package ‘TPP2D’ can be installed ... OK
* checking installed package size ... OK
* checking package directory ... OK
* checking ‘build’ directory ... OK
* checking DESCRIPTION meta-information ... OK
* checking top-level files ... OK
* checking for left-over files ... OK
* checking index information ... OK
* checking package subdirectories ... OK
* checking code files for non-ASCII characters ... OK
* checking R files for syntax errors ... OK
* checking whether the package can be loaded ... OK
* checking whether the package can be loaded with stated dependencies ... OK
* checking whether the package can be unloaded cleanly ... OK
* checking whether the namespace can be loaded with stated dependencies ... OK
* checking whether the namespace can be unloaded cleanly ... OK
* checking dependencies in R code ... NOTE
There are ::: calls to the package's namespace in its code. A package
  almost never needs to use ::: for its own objects:
  ‘.min_RSS_h0’ ‘.min_RSS_h1_slope_pEC50’
* checking S3 generic/method consistency ... OK
* checking replacement functions ... OK
* checking foreign function calls ... OK
* checking R code for possible problems ... OK
* checking Rd files ... OK
* checking Rd metadata ... OK
* checking Rd cross-references ... OK
* checking for missing documentation entries ... OK
* checking for code/documentation mismatches ... OK
* checking Rd \usage sections ... OK
* checking Rd contents ... OK
* checking for unstated dependencies in examples ... OK
* checking contents of ‘data’ directory ... OK
* checking data for non-ASCII characters ... OK
* checking data for ASCII and uncompressed saves ... OK
* checking R/sysdata.rda ... OK
* checking files in ‘vignettes’ ... OK
* checking examples ... OK
Examples with CPU (user + system) or elapsed time > 5s
                                    user system elapsed
computeFStatFromParams            14.595  0.206  18.144
fitAndEvalDataset                 14.410  0.186  17.685
getModelParamsDf                  14.284  0.138  17.514
computeFstat                      12.024  0.164  14.919
plot2dTppVolcano                   8.927  0.069  10.865
competeModels                      7.418  0.144   9.190
bootstrapNullAlternativeModelFast  4.384  0.061   5.388
getFDR                             2.726  0.044  12.584
findHits                           2.725  0.042  11.401
getPvalues                         1.430  0.024  10.586
bootstrapNull                      0.142  0.014   5.082
* checking for unstated dependencies in ‘tests’ ... OK
* checking tests ...
  Running ‘testthat.R’
 OK
* checking for unstated dependencies in vignettes ... OK
* checking package vignettes ... OK
* checking running R code from vignettes ... SKIPPED
* checking re-building of vignette outputs ... SKIPPED
* checking PDF version of manual ... OK
* DONE

Status: 1 NOTE
See
  ‘/Users/biocbuild/bbs-3.19-bioc/meat/TPP2D.Rcheck/00check.log’
for details.


Installation output

TPP2D.Rcheck/00install.out

##############################################################################
##############################################################################
###
### Running command:
###
###   /Library/Frameworks/R.framework/Resources/bin/R CMD INSTALL TPP2D
###
##############################################################################
##############################################################################


* installing to library ‘/Library/Frameworks/R.framework/Versions/4.4-x86_64/Resources/library’
* installing *source* package ‘TPP2D’ ...
** using staged installation
** R
** data
** inst
** byte-compile and prepare package for lazy loading
** help
*** installing help indices
** building package indices
** installing vignettes
** testing if installed package can be loaded from temporary location
** testing if installed package can be loaded from final location
** testing if installed package keeps a record of temporary installation path
* DONE (TPP2D)

Tests output

TPP2D.Rcheck/tests/testthat.Rout


R version 4.4.1 (2024-06-14) -- "Race for Your Life"
Copyright (C) 2024 The R Foundation for Statistical Computing
Platform: x86_64-apple-darwin20

R is free software and comes with ABSOLUTELY NO WARRANTY.
You are welcome to redistribute it under certain conditions.
Type 'license()' or 'licence()' for distribution details.

R is a collaborative project with many contributors.
Type 'contributors()' for more information and
'citation()' on how to cite R or R packages in publications.

Type 'demo()' for some demos, 'help()' for on-line help, or
'help.start()' for an HTML browser interface to help.
Type 'q()' to quit R.

> Sys.setenv("R_TESTS" = "")
> library(testthat)
> library(TPP2D)
Loading required package: dplyr

Attaching package: 'dplyr'

The following object is masked from 'package:testthat':

    matches

The following objects are masked from 'package:stats':

    filter, lag

The following objects are masked from 'package:base':

    intersect, setdiff, setequal, union

> 
> test_check("TPP2D")
[1] "Warning: You have specificed B < 20, it is recommended to use at least B = 20 in order to obtain reliable results."

  |                                                                            
  |                                                                      |   0%
  |                                                                            
  |======================================================================| 100%

[ FAIL 0 | WARN 2 | SKIP 0 | PASS 18 ]

[ FAIL 0 | WARN 2 | SKIP 0 | PASS 18 ]
> 
> proc.time()
   user  system elapsed 
 13.953   0.537  17.487 

Example timings

TPP2D.Rcheck/TPP2D-Ex.timings

nameusersystemelapsed
TPP_importCheckConfigTable0.0400.0110.068
annotateDataList1.2910.0831.657
bootstrapNull0.1420.0145.082
bootstrapNullAlternativeModel3.8160.0684.538
bootstrapNullAlternativeModelFast4.3840.0615.388
competeModels7.4180.1449.190
computeFStatFromParams14.595 0.20618.144
computeFstat12.024 0.16414.919
configWide2Long0.0110.0020.019
filterOutContaminants0.0940.0040.119
findHits 2.725 0.04211.401
fitAndEvalDataset14.410 0.18617.685
fitH0Model0.2680.0050.281
fitH1Model2.1760.0302.557
getFDR 2.726 0.04412.584
getModelParamsDf14.284 0.13817.514
getPEC504Temperature0.8920.0101.096
getPvalues 1.430 0.02410.586
gg_qq0.1350.0030.141
import2dDataset0.9390.0131.121
import2dMain0.4370.0100.539
plot2dTppFcHeatmap0.4970.0110.617
plot2dTppFit0.7360.0090.915
plot2dTppProfile0.6910.0080.847
plot2dTppRelProfile0.6960.0080.856
plot2dTppVolcano 8.927 0.06910.865
recomputeSignalFromRatios0.1340.0030.162
renameColumns0.9630.0141.186
resolveAmbiguousProteinNames0.0710.0010.093
runTPP2D3.3580.0304.007
tpp2dExperiment-class0.0010.0010.001