| Back to Multiple platform build/check report for BioC 3.19: simplified long |
|
This page was generated on 2024-10-18 20:38 -0400 (Fri, 18 Oct 2024).
| Hostname | OS | Arch (*) | R version | Installed pkgs |
|---|---|---|---|---|
| nebbiolo1 | Linux (Ubuntu 22.04.3 LTS) | x86_64 | 4.4.1 (2024-06-14) -- "Race for Your Life" | 4763 |
| palomino7 | Windows Server 2022 Datacenter | x64 | 4.4.1 (2024-06-14 ucrt) -- "Race for Your Life" | 4500 |
| merida1 | macOS 12.7.5 Monterey | x86_64 | 4.4.1 (2024-06-14) -- "Race for Your Life" | 4530 |
| kjohnson1 | macOS 13.6.6 Ventura | arm64 | 4.4.1 (2024-06-14) -- "Race for Your Life" | 4480 |
| Click on any hostname to see more info about the system (e.g. compilers) (*) as reported by 'uname -p', except on Windows and Mac OS X | ||||
| Package 1951/2300 | Hostname | OS / Arch | INSTALL | BUILD | CHECK | BUILD BIN | ||||||||
| SeqVarTools 1.42.0 (landing page) Stephanie M. Gogarten
| nebbiolo1 | Linux (Ubuntu 22.04.3 LTS) / x86_64 | OK | OK | OK | |||||||||
| palomino7 | Windows Server 2022 Datacenter / x64 | OK | OK | OK | OK | |||||||||
| merida1 | macOS 12.7.5 Monterey / x86_64 | OK | OK | OK | OK | |||||||||
| kjohnson1 | macOS 13.6.6 Ventura / arm64 | OK | OK | OK | NA | |||||||||
|
To the developers/maintainers of the SeqVarTools package: - Allow up to 24 hours (and sometimes 48 hours) for your latest push to git@git.bioconductor.org:packages/SeqVarTools.git to reflect on this report. See Troubleshooting Build Report for more information. - Use the following Renviron settings to reproduce errors and warnings. - If 'R CMD check' started to fail recently on the Linux builder(s) over a missing dependency, add the missing dependency to 'Suggests:' in your DESCRIPTION file. See Renviron.bioc for more information. |
| Package: SeqVarTools |
| Version: 1.42.0 |
| Command: /home/biocbuild/bbs-3.19-bioc/R/bin/R CMD check --install=check:SeqVarTools.install-out.txt --library=/home/biocbuild/bbs-3.19-bioc/R/site-library --timings SeqVarTools_1.42.0.tar.gz |
| StartedAt: 2024-10-17 05:04:19 -0400 (Thu, 17 Oct 2024) |
| EndedAt: 2024-10-17 05:07:32 -0400 (Thu, 17 Oct 2024) |
| EllapsedTime: 193.4 seconds |
| RetCode: 0 |
| Status: OK |
| CheckDir: SeqVarTools.Rcheck |
| Warnings: 0 |
##############################################################################
##############################################################################
###
### Running command:
###
### /home/biocbuild/bbs-3.19-bioc/R/bin/R CMD check --install=check:SeqVarTools.install-out.txt --library=/home/biocbuild/bbs-3.19-bioc/R/site-library --timings SeqVarTools_1.42.0.tar.gz
###
##############################################################################
##############################################################################
* using log directory ‘/home/biocbuild/bbs-3.19-bioc/meat/SeqVarTools.Rcheck’
* using R version 4.4.1 (2024-06-14)
* using platform: x86_64-pc-linux-gnu
* R was compiled by
gcc (Ubuntu 11.4.0-1ubuntu1~22.04) 11.4.0
GNU Fortran (Ubuntu 11.4.0-1ubuntu1~22.04) 11.4.0
* running under: Ubuntu 22.04.5 LTS
* using session charset: UTF-8
* checking for file ‘SeqVarTools/DESCRIPTION’ ... OK
* checking extension type ... Package
* this is package ‘SeqVarTools’ version ‘1.42.0’
* checking package namespace information ... OK
* checking package dependencies ... OK
* checking if this is a source package ... OK
* checking if there is a namespace ... OK
* checking for hidden files and directories ... OK
* checking for portable file names ... OK
* checking for sufficient/correct file permissions ... OK
* checking whether package ‘SeqVarTools’ can be installed ... OK
* checking installed package size ... OK
* checking package directory ... OK
* checking ‘build’ directory ... OK
* checking DESCRIPTION meta-information ... OK
* checking top-level files ... OK
* checking for left-over files ... OK
* checking index information ... OK
* checking package subdirectories ... OK
* checking code files for non-ASCII characters ... OK
* checking R files for syntax errors ... OK
* checking whether the package can be loaded ... OK
* checking whether the package can be loaded with stated dependencies ... OK
* checking whether the package can be unloaded cleanly ... OK
* checking whether the namespace can be loaded with stated dependencies ... OK
* checking whether the namespace can be unloaded cleanly ... OK
* checking loading without being on the library search path ... OK
* checking dependencies in R code ... OK
* checking S3 generic/method consistency ... OK
* checking replacement functions ... OK
* checking foreign function calls ... OK
* checking R code for possible problems ... OK
* checking Rd files ... NOTE
checkRd: (-1) getGenotype.Rd:40: Lost braces
40 | \item{sparse}{Logical for whether to return the alterate allele dosage as a sparse matrix using the \pkg{link{Matrix}} package. In most cases, setting \code{sparse=TRUE} will dramatically reduce the size of the returned object.}
| ^
* checking Rd metadata ... OK
* checking Rd cross-references ... OK
* checking for missing documentation entries ... OK
* checking for code/documentation mismatches ... OK
* checking Rd \usage sections ... OK
* checking Rd contents ... OK
* checking for unstated dependencies in examples ... OK
* checking contents of ‘data’ directory ... OK
* checking data for non-ASCII characters ... OK
* checking LazyData ... OK
* checking data for ASCII and uncompressed saves ... OK
* checking files in ‘vignettes’ ... OK
* checking examples ... OK
* checking for unstated dependencies in ‘tests’ ... OK
* checking tests ...
Running ‘test.R’
OK
* checking for unstated dependencies in vignettes ... OK
* checking package vignettes ... OK
* checking re-building of vignette outputs ... OK
* checking PDF version of manual ... OK
* DONE
Status: 1 NOTE
See
‘/home/biocbuild/bbs-3.19-bioc/meat/SeqVarTools.Rcheck/00check.log’
for details.
SeqVarTools.Rcheck/00install.out
############################################################################## ############################################################################## ### ### Running command: ### ### /home/biocbuild/bbs-3.19-bioc/R/bin/R CMD INSTALL SeqVarTools ### ############################################################################## ############################################################################## * installing to library ‘/home/biocbuild/bbs-3.19-bioc/R/site-library’ * installing *source* package ‘SeqVarTools’ ... ** using staged installation ** R ** data *** moving datasets to lazyload DB ** inst ** byte-compile and prepare package for lazy loading ** help *** installing help indices ** building package indices ** installing vignettes ** testing if installed package can be loaded from temporary location ** testing if installed package can be loaded from final location ** testing if installed package keeps a record of temporary installation path * DONE (SeqVarTools)
SeqVarTools.Rcheck/tests/test.Rout
R version 4.4.1 (2024-06-14) -- "Race for Your Life"
Copyright (C) 2024 The R Foundation for Statistical Computing
Platform: x86_64-pc-linux-gnu
R is free software and comes with ABSOLUTELY NO WARRANTY.
You are welcome to redistribute it under certain conditions.
Type 'license()' or 'licence()' for distribution details.
R is a collaborative project with many contributors.
Type 'contributors()' for more information and
'citation()' on how to cite R or R packages in publications.
Type 'demo()' for some demos, 'help()' for on-line help, or
'help.start()' for an HTML browser interface to help.
Type 'q()' to quit R.
> library(GenomicRanges)
Loading required package: stats4
Loading required package: BiocGenerics
Attaching package: 'BiocGenerics'
The following objects are masked from 'package:stats':
IQR, mad, sd, var, xtabs
The following objects are masked from 'package:base':
Filter, Find, Map, Position, Reduce, anyDuplicated, aperm, append,
as.data.frame, basename, cbind, colnames, dirname, do.call,
duplicated, eval, evalq, get, grep, grepl, intersect, is.unsorted,
lapply, mapply, match, mget, order, paste, pmax, pmax.int, pmin,
pmin.int, rank, rbind, rownames, sapply, setdiff, table, tapply,
union, unique, unsplit, which.max, which.min
Loading required package: S4Vectors
Attaching package: 'S4Vectors'
The following object is masked from 'package:utils':
findMatches
The following objects are masked from 'package:base':
I, expand.grid, unname
Loading required package: IRanges
Loading required package: GenomeInfoDb
> BiocGenerics:::testPackage("SeqVarTools")
Loading required package: Biobase
Welcome to Bioconductor
Vignettes contain introductory material; view with
'browseVignettes()'. To cite Bioconductor, see
'citation("Biobase")', and for packages 'citation("pkgname")'.
# of selected samples: 5
# of selected variants: 5
# of selected samples: 5
# of selected variants: 10
# of selected samples: 90
# of selected variants: 1,348
# of selected samples: 90
# of selected variants: 1,348
# of selected samples: 3
# of selected samples: 3
matching samples... 2 pairs identified!
matching variants... 1346 non-overlapping variant matches identified!
# of selected samples: 2
# of selected variants: 1,346
# of selected samples: 90
# of selected variants: 1,348
# of selected samples: 90
# of selected variants: 1,348
# of selected samples: 2
# of selected variants: 50
# of selected samples: 2
# of selected variants: 51
matching samples... 2 pairs identified!
matching variants... 26 non-overlapping variant matches identified!
# of selected variants: 26
# of selected samples: 90
# of selected variants: 1,348
# of selected samples: 5
# of selected variants: 10
# of selected samples: 5
# of selected variants: 10
File: /home/biocbuild/bbs-3.19-bioc/R/site-library/SeqArray/extdata/CEU_Exon.gds (287.6K)
+ [ ] *
|--+ description [ ] *
|--+ sample.id { Str8 90 LZMA_ra(34.7%), 257B } *
|--+ variant.id { Int32 1348 LZMA_ra(16.7%), 905B } *
|--+ position { Int32 1348 LZMA_ra(64.4%), 3.4K } *
|--+ chromosome { Str8 1348 LZMA_ra(4.39%), 157B } *
|--+ allele { Str8 1348 LZMA_ra(16.6%), 901B } *
|--+ genotype [ ] *
| |--+ data { Bit2 2x90x1348 LZMA_ra(26.3%), 15.6K } *
| |--+ ~data { Bit2 2x1348x90 LZMA_ra(29.2%), 17.3K } *
| |--+ extra.index { Int32 3x0 LZMA_ra, 18B } *
| \--+ extra { Int16 0 LZMA_ra, 18B }
|--+ phase [ ]
| |--+ data { Bit1 90x1348 LZMA_ra(0.86%), 137B } *
| |--+ ~data { Bit1 1348x90 LZMA_ra(0.86%), 137B } *
| |--+ extra.index { Int32 3x0 LZMA_ra, 18B } *
| \--+ extra { Bit1 0 LZMA_ra, 18B }
|--+ annotation [ ]
| |--+ id { Str8 1348 LZMA_ra(38.3%), 5.5K } *
| |--+ qual { Float32 1348 LZMA_ra(2.11%), 121B } *
| |--+ filter { Int32,factor 1348 LZMA_ra(2.11%), 121B } *
| |--+ info [ ]
| | |--+ AA { Str8 1328 LZMA_ra(22.1%), 593B } *
| | |--+ AC { Int32 1348 LZMA_ra(24.1%), 1.3K } *
| | |--+ AN { Int32 1348 LZMA_ra(19.6%), 1.0K } *
| | |--+ DP { Int32 1348 LZMA_ra(47.7%), 2.5K } *
| | |--+ HM2 { Bit1 1348 LZMA_ra(145.6%), 253B } *
| | |--+ HM3 { Bit1 1348 LZMA_ra(145.6%), 253B } *
| | |--+ OR { Str8 1348 LZMA_ra(19.6%), 341B } *
| | |--+ GP { Str8 1348 LZMA_ra(24.3%), 3.8K } *
| | \--+ BN { Int32 1348 LZMA_ra(20.7%), 1.1K } *
| \--+ format [ ]
| \--+ DP [ ] *
| |--+ data { VL_Int 90x1348 LZMA_ra(70.8%), 115.2K } *
| \--+ ~data { VL_Int 1348x90 LZMA_ra(65.1%), 105.9K } *
\--+ sample.annotation [ ]
\--+ family { Str8 90 LZMA_ra(55.0%), 221B } *
# of selected variants: 142
# of selected samples: 90
# of selected variants: 1,348
# of selected variants: 5
# of selected samples: 90
# of selected variants: 1,348
# of selected samples: 5
# of selected variants: 5
# of selected samples: 90
# of selected variants: 1,348
# of selected samples: 90
# of selected variants: 1,348
# of selected samples: 3
# of selected samples: 3
matching samples... 2 pairs identified!
matching variants... 1346 variant matches identified!
matching samples... 2 pairs identified!
matching variants... 1346 variant matches identified!
# of selected samples: 90
# of selected variants: 1,348
# of selected samples: 90
# of selected variants: 1,348
# of selected samples: 2
# of selected variants: 50
# of selected samples: 2
# of selected variants: 51
matching samples... 2 pairs identified!
matching variants... 26 variant matches identified!
matching samples... 2 pairs identified!
matching variants... 26 variant matches identified!
# of selected variants: 26
# of selected samples: 90
# of selected variants: 1,348
# of selected samples: 90
# of selected variants: 1,348
# of selected samples: 3
# of selected samples: 3
matching samples... 2 pairs identified!
matching variants... 1346 variant matches identified!
matching samples... 2 pairs identified!
matching variants... 1346 variant matches identified!
matching samples... 2 pairs identified!
matching variants... 1346 variant matches identified!
matching samples... 2 pairs identified!
matching variants... 1346 variant matches identified!
# of selected samples: 90
# of selected variants: 1,348
# of selected samples: 90
# of selected variants: 1,348
# of selected samples: 2
# of selected variants: 50
# of selected samples: 2
# of selected variants: 51
matching samples... 2 pairs identified!
matching variants... 26 variant matches identified!
matching samples... 2 pairs identified!
matching variants... 26 variant matches identified!
# of selected variants: 26
Warning in SeqVarTools:::.samplePairs1(samples) :
More than two samples for subject 4
Selecting first two samples: samp7, samp8
# of selected samples: 5
# of selected variants: 10
# of selected samples: 5
# of selected variants: 10
# of selected samples: 5
# of selected variants: 10
# of selected samples: 5
# of selected variants: 10
# of selected samples: 5
# of selected variants: 10
# of selected samples: 90
# of selected variants: 1,348
# of selected samples: 5
# of selected variants: 10
# of selected samples: 5
# of selected variants: 10
# of selected samples: 5
# of selected variants: 10
# of selected samples: 90
# of selected variants: 1,348
# of selected samples: 5
# of selected variants: 10
# of selected samples: 5
# of selected variants: 10
# of selected variants: 1,346
# of selected variants: 1,330
# of selected samples: 5
# of selected variants: 10
# of selected samples: 90
# of selected variants: 1,348
# of selected samples: 5
# of selected variants: 10
# of selected samples: 5
# of selected variants: 10
# of selected samples: 5
# of selected variants: 10
# of selected samples: 90
# of selected variants: 1,348
# of selected samples: 5
# of selected variants: 10
# of selected samples: 3
# of selected variants: 10
# of selected samples: 3
# of selected samples: 90
# of selected variants: 1,348
# of selected variants: 10
# of selected samples: 3
# of selected samples: 5
# of selected variants: 10
# of selected samples: 90
# of selected variants: 1,348
# of selected samples: 5
# of selected variants: 10
# of selected samples: 5
# of selected variants: 10
# of selected samples: 5
# of selected variants: 10
# of selected samples: 90
# of selected variants: 1,348
# of selected samples: 5
# of selected variants: 10
# of selected variants: 903
# of selected samples: 59
# of selected samples: 58
# of selected samples: 32
# of selected samples: 5
# of selected variants: 10
# of selected samples: 90
# of selected variants: 1,348
# of selected samples: 5
# of selected variants: 10
# of selected samples: 5
# of selected variants: 10
# of selected samples: 90
# of selected variants: 1,348
# of selected samples: 5
# of selected variants: 10
# of selected samples: 10
# of selected samples: 10
# of selected variants: 10
# of selected samples: 10
RUNIT TEST PROTOCOL -- Thu Oct 17 05:06:54 2024
***********************************************
Number of test functions: 152
Number of errors: 0
Number of failures: 0
1 Test Suite :
SeqVarTools RUnit Tests - 152 test functions, 0 errors, 0 failures
Number of test functions: 152
Number of errors: 0
Number of failures: 0
>
> proc.time()
user system elapsed
23.119 19.853 28.163
SeqVarTools.Rcheck/SeqVarTools-Ex.timings
| name | user | system | elapsed | |
| Iterator-class | 0.532 | 0.029 | 0.560 | |
| SeqVarData-class | 0.032 | 0.011 | 0.045 | |
| allele-methods | 0.008 | 0.004 | 0.012 | |
| alleleFrequency | 0.019 | 0.000 | 0.019 | |
| alternateAlleleDetection | 0 | 0 | 0 | |
| applyMethod | 0.159 | 0.003 | 0.164 | |
| countSingletons | 0.018 | 0.003 | 0.023 | |
| duplicateDiscordance | 0.121 | 0.009 | 0.129 | |
| getGenotype | 0.026 | 0.009 | 0.036 | |
| getVariableLengthData | 0.000 | 0.006 | 0.007 | |
| heterozygosity | 0.169 | 0.002 | 0.172 | |
| hwe | 0.057 | 0.003 | 0.059 | |
| imputedDosage | 0.073 | 0.021 | 0.094 | |
| inbreedCoeff | 0.563 | 0.063 | 0.625 | |
| isSNV | 0.000 | 0.004 | 0.004 | |
| isVariant | 0.000 | 0.006 | 0.006 | |
| meanBySample | 0.024 | 0.002 | 0.027 | |
| mendelErr | 0.005 | 0.008 | 0.013 | |
| missingGenotypeRate | 0.011 | 0.000 | 0.012 | |
| pca | 0.214 | 0.007 | 0.222 | |
| pedigree | 0.005 | 0.001 | 0.006 | |
| refFrac | 0.040 | 0.001 | 0.042 | |
| regression | 0.055 | 0.004 | 0.059 | |
| setVariantID | 0.007 | 0.000 | 0.007 | |
| titv | 0.149 | 0.004 | 0.152 | |
| variantInfo | 0.035 | 0.000 | 0.035 | |