Back to Multiple platform build/check report for BioC 3.19: simplified long |
|
This page was generated on 2024-06-11 14:43 -0400 (Tue, 11 Jun 2024).
Hostname | OS | Arch (*) | R version | Installed pkgs |
---|---|---|---|---|
nebbiolo1 | Linux (Ubuntu 22.04.3 LTS) | x86_64 | 4.4.0 (2024-04-24) -- "Puppy Cup" | 4757 |
palomino3 | Windows Server 2022 Datacenter | x64 | 4.4.0 (2024-04-24 ucrt) -- "Puppy Cup" | 4491 |
lconway | macOS 12.7.1 Monterey | x86_64 | 4.4.0 (2024-04-24) -- "Puppy Cup" | 4522 |
kjohnson3 | macOS 13.6.5 Ventura | arm64 | 4.4.0 (2024-04-24) -- "Puppy Cup" | 4468 |
Click on any hostname to see more info about the system (e.g. compilers) (*) as reported by 'uname -p', except on Windows and Mac OS X |
Package 1917/2300 | Hostname | OS / Arch | INSTALL | BUILD | CHECK | BUILD BIN | ||||||||
ScreenR 1.6.0 (landing page) Emanuel Michele Soda
| nebbiolo1 | Linux (Ubuntu 22.04.3 LTS) / x86_64 | OK | OK | OK | |||||||||
palomino3 | Windows Server 2022 Datacenter / x64 | OK | OK | OK | OK | |||||||||
lconway | macOS 12.7.1 Monterey / x86_64 | OK | OK | OK | OK | |||||||||
kjohnson3 | macOS 13.6.5 Ventura / arm64 | OK | OK | OK | OK | |||||||||
To the developers/maintainers of the ScreenR package: - Allow up to 24 hours (and sometimes 48 hours) for your latest push to git@git.bioconductor.org:packages/ScreenR.git to reflect on this report. See Troubleshooting Build Report for more information. - Use the following Renviron settings to reproduce errors and warnings. - If 'R CMD check' started to fail recently on the Linux builder(s) over a missing dependency, add the missing dependency to 'Suggests:' in your DESCRIPTION file. See Renviron.bioc for more information. |
Package: ScreenR |
Version: 1.6.0 |
Command: /Library/Frameworks/R.framework/Resources/bin/R CMD check --install=check:ScreenR.install-out.txt --library=/Library/Frameworks/R.framework/Resources/library --no-vignettes --timings ScreenR_1.6.0.tar.gz |
StartedAt: 2024-06-09 22:57:11 -0400 (Sun, 09 Jun 2024) |
EndedAt: 2024-06-09 23:01:35 -0400 (Sun, 09 Jun 2024) |
EllapsedTime: 264.2 seconds |
RetCode: 0 |
Status: OK |
CheckDir: ScreenR.Rcheck |
Warnings: 0 |
############################################################################## ############################################################################## ### ### Running command: ### ### /Library/Frameworks/R.framework/Resources/bin/R CMD check --install=check:ScreenR.install-out.txt --library=/Library/Frameworks/R.framework/Resources/library --no-vignettes --timings ScreenR_1.6.0.tar.gz ### ############################################################################## ############################################################################## * using log directory ‘/Users/biocbuild/bbs-3.19-bioc/meat/ScreenR.Rcheck’ * using R version 4.4.0 (2024-04-24) * using platform: x86_64-apple-darwin20 * R was compiled by Apple clang version 14.0.0 (clang-1400.0.29.202) GNU Fortran (GCC) 12.2.0 * running under: macOS Monterey 12.7.1 * using session charset: UTF-8 * using option ‘--no-vignettes’ * checking for file ‘ScreenR/DESCRIPTION’ ... OK * checking extension type ... Package * this is package ‘ScreenR’ version ‘1.6.0’ * package encoding: UTF-8 * checking package namespace information ... OK * checking package dependencies ... OK * checking if this is a source package ... OK * checking if there is a namespace ... OK * checking for hidden files and directories ... OK * checking for portable file names ... OK * checking for sufficient/correct file permissions ... OK * checking whether package ‘ScreenR’ can be installed ... OK * checking installed package size ... OK * checking package directory ... OK * checking ‘build’ directory ... OK * checking DESCRIPTION meta-information ... OK * checking top-level files ... OK * checking for left-over files ... OK * checking index information ... OK * checking package subdirectories ... OK * checking code files for non-ASCII characters ... OK * checking R files for syntax errors ... OK * checking whether the package can be loaded ... OK * checking whether the package can be loaded with stated dependencies ... OK * checking whether the package can be unloaded cleanly ... OK * checking whether the namespace can be loaded with stated dependencies ... OK * checking whether the namespace can be unloaded cleanly ... OK * checking whether startup messages can be suppressed ... OK * checking dependencies in R code ... OK * checking S3 generic/method consistency ... OK * checking replacement functions ... OK * checking foreign function calls ... OK * checking R code for possible problems ... OK * checking Rd files ... NOTE checkRd: (-1) annotation_table.Rd:25: Lost braces 25 | \url{https://cellecta.com/}{cellecta}} | ^ * checking Rd metadata ... OK * checking Rd cross-references ... OK * checking for missing documentation entries ... OK * checking for code/documentation mismatches ... OK * checking Rd \usage sections ... NOTE Documented arguments not in \usage in Rd file 'compute_camera.Rd': ‘...’ Documented arguments not in \usage in Rd file 'select_number_barcode.Rd': ‘...’ Documented arguments not in \usage in Rd file 'unique_gene_symbols.Rd': ‘...’ Functions with \usage entries need to have the appropriate \alias entries, and all their arguments documented. The \usage entries must correspond to syntactically valid R code. See chapter ‘Writing R documentation files’ in the ‘Writing R Extensions’ manual. * checking Rd contents ... OK * checking for unstated dependencies in examples ... OK * checking contents of ‘data’ directory ... OK * checking data for non-ASCII characters ... OK * checking data for ASCII and uncompressed saves ... OK * checking R/sysdata.rda ... OK * checking files in ‘vignettes’ ... OK * checking examples ... OK Examples with CPU (user + system) or elapsed time > 5s user system elapsed plot_barcode_trend 41.334 3.357 44.807 plot_zscore_distribution 40.005 3.814 43.905 compute_metrics 22.550 1.450 24.041 find_robust_zscore_hit 18.646 3.384 22.165 find_zscore_hit 18.940 0.889 19.873 * checking for unstated dependencies in ‘tests’ ... OK * checking tests ... Running ‘testthat.R’ OK * checking for unstated dependencies in vignettes ... OK * checking package vignettes ... OK * checking running R code from vignettes ... SKIPPED * checking re-building of vignette outputs ... SKIPPED * checking PDF version of manual ... OK * DONE Status: 2 NOTEs See ‘/Users/biocbuild/bbs-3.19-bioc/meat/ScreenR.Rcheck/00check.log’ for details.
ScreenR.Rcheck/00install.out
############################################################################## ############################################################################## ### ### Running command: ### ### /Library/Frameworks/R.framework/Resources/bin/R CMD INSTALL ScreenR ### ############################################################################## ############################################################################## * installing to library ‘/Library/Frameworks/R.framework/Versions/4.4-x86_64/Resources/library’ * installing *source* package ‘ScreenR’ ... ** using staged installation ** R ** data ** inst ** byte-compile and prepare package for lazy loading ** help *** installing help indices *** copying figures ** building package indices ** installing vignettes ** testing if installed package can be loaded from temporary location ** testing if installed package can be loaded from final location ** testing if installed package keeps a record of temporary installation path * DONE (ScreenR)
ScreenR.Rcheck/tests/testthat.Rout
R version 4.4.0 (2024-04-24) -- "Puppy Cup" Copyright (C) 2024 The R Foundation for Statistical Computing Platform: x86_64-apple-darwin20 R is free software and comes with ABSOLUTELY NO WARRANTY. You are welcome to redistribute it under certain conditions. Type 'license()' or 'licence()' for distribution details. R is a collaborative project with many contributors. Type 'contributors()' for more information and 'citation()' on how to cite R or R packages in publications. Type 'demo()' for some demos, 'help()' for on-line help, or 'help.start()' for an HTML browser interface to help. Type 'q()' to quit R. > library(testthat) > library(ScreenR) Welcome to ScreenR -------------------------- See ?ScreenR for a list of available functions. Enjoy! > > test_check("ScreenR") ScreenR count table containing: 5320 rows 15 columns ScreenR annotation table containing: 5320 rows 5 columns ScreenR normalized count table containing: 5320 rows 15 columns ScreenR normalized data table containing: 74480 rows 9 columns ScreenR annotation table containing: 5320 rows 5 columns ScreenR annotation table containing: 5320 rows 5 columns ScreenR count table containing: 5320 rows 15 columns ScreenR count table containing: 5320 rows 15 columns ScreenR normalized count table containing: 5320 rows 15 columns ScreenR normalized count table containing: 5320 rows 15 columns ScreenR normalized data table containing: 74480 rows 9 columns ScreenR normalized data table containing: 74480 rows 9 columns Using classic mode. [ FAIL 0 | WARN 253 | SKIP 0 | PASS 64 ] [ FAIL 0 | WARN 253 | SKIP 0 | PASS 64 ] > > proc.time() user system elapsed 28.663 1.145 29.900
ScreenR.Rcheck/ScreenR-Ex.timings
name | user | system | elapsed | |
barcode_lost | 0.187 | 0.035 | 0.223 | |
compute_data_table | 0.290 | 0.009 | 0.300 | |
compute_explained_variance | 0.023 | 0.003 | 0.026 | |
compute_metrics | 22.550 | 1.450 | 24.041 | |
compute_slope | 0.039 | 0.001 | 0.040 | |
count_mapped_reads | 0.074 | 0.023 | 0.096 | |
create_edger_obj | 0.018 | 0.002 | 0.021 | |
create_screenr_object | 0.054 | 0.002 | 0.055 | |
filter_by_slope | 0.138 | 0.008 | 0.146 | |
filter_by_variance | 1.071 | 0.068 | 1.177 | |
find_camera_hit | 1.102 | 0.115 | 1.219 | |
find_common_hit | 0.031 | 0.001 | 0.031 | |
find_roast_hit | 1.916 | 0.057 | 1.996 | |
find_robust_zscore_hit | 18.646 | 3.384 | 22.165 | |
find_zscore_hit | 18.940 | 0.889 | 19.873 | |
get_annotation_table | 0.013 | 0.000 | 0.013 | |
get_count_table | 0.073 | 0.014 | 0.087 | |
get_data_table | 0.034 | 0.000 | 0.035 | |
get_groups | 0 | 0 | 0 | |
get_normalized_count_table | 0.056 | 0.001 | 0.057 | |
get_replicates | 0.001 | 0.000 | 0.000 | |
mapped_reads | 0.107 | 0.027 | 0.135 | |
normalize_data | 0.041 | 0.000 | 0.042 | |
plot_barcode_hit | 1.228 | 0.017 | 1.247 | |
plot_barcode_lost | 0.468 | 0.055 | 0.524 | |
plot_barcode_lost_for_gene | 1.359 | 0.009 | 1.369 | |
plot_barcode_trend | 41.334 | 3.357 | 44.807 | |
plot_boxplot | 0.444 | 0.004 | 0.448 | |
plot_common_hit | 0.257 | 0.004 | 0.262 | |
plot_explained_variance | 0.436 | 0.003 | 0.441 | |
plot_mapped_reads | 0.277 | 0.027 | 0.306 | |
plot_mapped_reads_distribution | 1.964 | 0.134 | 2.103 | |
plot_mds | 0.481 | 0.009 | 0.491 | |
plot_trend | 1.633 | 1.652 | 3.299 | |
plot_zscore_distribution | 40.005 | 3.814 | 43.905 | |
remove_all_zero_row | 0.016 | 0.000 | 0.016 | |
set_annotation_table | 0.180 | 0.002 | 0.183 | |
set_count_table | 0.155 | 0.001 | 0.157 | |
set_data_table | 0.151 | 0.001 | 0.153 | |
set_groups | 0.161 | 0.001 | 0.162 | |
set_normalized_count_table | 0.205 | 0.001 | 0.206 | |
set_replicates | 0.158 | 0.001 | 0.159 | |