| Back to Multiple platform build/check report for BioC 3.19: simplified long |
|
This page was generated on 2024-10-18 20:38 -0400 (Fri, 18 Oct 2024).
| Hostname | OS | Arch (*) | R version | Installed pkgs |
|---|---|---|---|---|
| nebbiolo1 | Linux (Ubuntu 22.04.3 LTS) | x86_64 | 4.4.1 (2024-06-14) -- "Race for Your Life" | 4763 |
| palomino7 | Windows Server 2022 Datacenter | x64 | 4.4.1 (2024-06-14 ucrt) -- "Race for Your Life" | 4500 |
| merida1 | macOS 12.7.5 Monterey | x86_64 | 4.4.1 (2024-06-14) -- "Race for Your Life" | 4530 |
| kjohnson1 | macOS 13.6.6 Ventura | arm64 | 4.4.1 (2024-06-14) -- "Race for Your Life" | 4480 |
| Click on any hostname to see more info about the system (e.g. compilers) (*) as reported by 'uname -p', except on Windows and Mac OS X | ||||
| Package 2046/2300 | Hostname | OS / Arch | INSTALL | BUILD | CHECK | BUILD BIN | ||||||||
| SPIAT 1.6.2 (landing page) Yuzhou Feng
| nebbiolo1 | Linux (Ubuntu 22.04.3 LTS) / x86_64 | OK | OK | OK | |||||||||
| palomino7 | Windows Server 2022 Datacenter / x64 | OK | OK | OK | OK | |||||||||
| merida1 | macOS 12.7.5 Monterey / x86_64 | OK | OK | OK | OK | |||||||||
| kjohnson1 | macOS 13.6.6 Ventura / arm64 | OK | OK | OK | NA | |||||||||
|
To the developers/maintainers of the SPIAT package: - Allow up to 24 hours (and sometimes 48 hours) for your latest push to git@git.bioconductor.org:packages/SPIAT.git to reflect on this report. See Troubleshooting Build Report for more information. - Use the following Renviron settings to reproduce errors and warnings. - If 'R CMD check' started to fail recently on the Linux builder(s) over a missing dependency, add the missing dependency to 'Suggests:' in your DESCRIPTION file. See Renviron.bioc for more information. |
| Package: SPIAT |
| Version: 1.6.2 |
| Command: /home/biocbuild/bbs-3.19-bioc/R/bin/R CMD check --install=check:SPIAT.install-out.txt --library=/home/biocbuild/bbs-3.19-bioc/R/site-library --timings SPIAT_1.6.2.tar.gz |
| StartedAt: 2024-10-17 05:26:36 -0400 (Thu, 17 Oct 2024) |
| EndedAt: 2024-10-17 05:35:19 -0400 (Thu, 17 Oct 2024) |
| EllapsedTime: 522.1 seconds |
| RetCode: 0 |
| Status: OK |
| CheckDir: SPIAT.Rcheck |
| Warnings: 0 |
##############################################################################
##############################################################################
###
### Running command:
###
### /home/biocbuild/bbs-3.19-bioc/R/bin/R CMD check --install=check:SPIAT.install-out.txt --library=/home/biocbuild/bbs-3.19-bioc/R/site-library --timings SPIAT_1.6.2.tar.gz
###
##############################################################################
##############################################################################
* using log directory ‘/home/biocbuild/bbs-3.19-bioc/meat/SPIAT.Rcheck’
* using R version 4.4.1 (2024-06-14)
* using platform: x86_64-pc-linux-gnu
* R was compiled by
gcc (Ubuntu 11.4.0-1ubuntu1~22.04) 11.4.0
GNU Fortran (Ubuntu 11.4.0-1ubuntu1~22.04) 11.4.0
* running under: Ubuntu 22.04.5 LTS
* using session charset: UTF-8
* checking for file ‘SPIAT/DESCRIPTION’ ... OK
* checking extension type ... Package
* this is package ‘SPIAT’ version ‘1.6.2’
* package encoding: UTF-8
* checking package namespace information ... OK
* checking package dependencies ... OK
* checking if this is a source package ... OK
* checking if there is a namespace ... OK
* checking for hidden files and directories ... OK
* checking for portable file names ... OK
* checking for sufficient/correct file permissions ... OK
* checking whether package ‘SPIAT’ can be installed ... OK
* checking installed package size ... OK
* checking package directory ... OK
* checking ‘build’ directory ... OK
* checking DESCRIPTION meta-information ... NOTE
License components with restrictions not permitted:
Artistic-2.0 + file LICENSE
* checking top-level files ... OK
* checking for left-over files ... OK
* checking index information ... OK
* checking package subdirectories ... OK
* checking code files for non-ASCII characters ... OK
* checking R files for syntax errors ... OK
* checking whether the package can be loaded ... OK
* checking whether the package can be loaded with stated dependencies ... OK
* checking whether the package can be unloaded cleanly ... OK
* checking whether the namespace can be loaded with stated dependencies ... OK
* checking whether the namespace can be unloaded cleanly ... OK
* checking loading without being on the library search path ... OK
* checking dependencies in R code ... OK
* checking S3 generic/method consistency ... OK
* checking replacement functions ... OK
* checking foreign function calls ... OK
* checking R code for possible problems ... OK
* checking Rd files ... OK
* checking Rd metadata ... OK
* checking Rd cross-references ... OK
* checking for missing documentation entries ... OK
* checking for code/documentation mismatches ... OK
* checking Rd \usage sections ... OK
* checking Rd contents ... OK
* checking for unstated dependencies in examples ... OK
* checking contents of ‘data’ directory ... OK
* checking data for non-ASCII characters ... OK
* checking LazyData ... OK
* checking data for ASCII and uncompressed saves ... OK
* checking files in ‘vignettes’ ... OK
* checking examples ... OK
Examples with CPU (user + system) or elapsed time > 5s
user system elapsed
dimensionality_reduction_plot 18.896 0.096 18.992
calculate_percentage_of_grids 8.233 0.188 8.421
calculate_pairwise_distances_between_celltypes 4.447 0.796 5.243
* checking for unstated dependencies in ‘tests’ ... OK
* checking tests ...
Running ‘testthat.R’
OK
* checking for unstated dependencies in vignettes ... OK
* checking package vignettes ... OK
* checking re-building of vignette outputs ... OK
* checking PDF version of manual ... OK
* DONE
Status: 1 NOTE
See
‘/home/biocbuild/bbs-3.19-bioc/meat/SPIAT.Rcheck/00check.log’
for details.
SPIAT.Rcheck/00install.out
############################################################################## ############################################################################## ### ### Running command: ### ### /home/biocbuild/bbs-3.19-bioc/R/bin/R CMD INSTALL SPIAT ### ############################################################################## ############################################################################## * installing to library ‘/home/biocbuild/bbs-3.19-bioc/R/site-library’ * installing *source* package ‘SPIAT’ ... ** using staged installation ** R ** data *** moving datasets to lazyload DB ** inst ** byte-compile and prepare package for lazy loading ** help *** installing help indices ** building package indices ** installing vignettes ** testing if installed package can be loaded from temporary location ** testing if installed package can be loaded from final location ** testing if installed package keeps a record of temporary installation path * DONE (SPIAT)
SPIAT.Rcheck/tests/testthat.Rout
R version 4.4.1 (2024-06-14) -- "Race for Your Life"
Copyright (C) 2024 The R Foundation for Statistical Computing
Platform: x86_64-pc-linux-gnu
R is free software and comes with ABSOLUTELY NO WARRANTY.
You are welcome to redistribute it under certain conditions.
Type 'license()' or 'licence()' for distribution details.
R is a collaborative project with many contributors.
Type 'contributors()' for more information and
'citation()' on how to cite R or R packages in publications.
Type 'demo()' for some demos, 'help()' for on-line help, or
'help.start()' for an HTML browser interface to help.
Type 'q()' to quit R.
> library(testthat)
> library(SPIAT)
Loading required package: SpatialExperiment
Loading required package: SingleCellExperiment
Loading required package: SummarizedExperiment
Loading required package: MatrixGenerics
Loading required package: matrixStats
Attaching package: 'MatrixGenerics'
The following objects are masked from 'package:matrixStats':
colAlls, colAnyNAs, colAnys, colAvgsPerRowSet, colCollapse,
colCounts, colCummaxs, colCummins, colCumprods, colCumsums,
colDiffs, colIQRDiffs, colIQRs, colLogSumExps, colMadDiffs,
colMads, colMaxs, colMeans2, colMedians, colMins, colOrderStats,
colProds, colQuantiles, colRanges, colRanks, colSdDiffs, colSds,
colSums2, colTabulates, colVarDiffs, colVars, colWeightedMads,
colWeightedMeans, colWeightedMedians, colWeightedSds,
colWeightedVars, rowAlls, rowAnyNAs, rowAnys, rowAvgsPerColSet,
rowCollapse, rowCounts, rowCummaxs, rowCummins, rowCumprods,
rowCumsums, rowDiffs, rowIQRDiffs, rowIQRs, rowLogSumExps,
rowMadDiffs, rowMads, rowMaxs, rowMeans2, rowMedians, rowMins,
rowOrderStats, rowProds, rowQuantiles, rowRanges, rowRanks,
rowSdDiffs, rowSds, rowSums2, rowTabulates, rowVarDiffs, rowVars,
rowWeightedMads, rowWeightedMeans, rowWeightedMedians,
rowWeightedSds, rowWeightedVars
Loading required package: GenomicRanges
Loading required package: stats4
Loading required package: BiocGenerics
Attaching package: 'BiocGenerics'
The following objects are masked from 'package:stats':
IQR, mad, sd, var, xtabs
The following objects are masked from 'package:base':
Filter, Find, Map, Position, Reduce, anyDuplicated, aperm, append,
as.data.frame, basename, cbind, colnames, dirname, do.call,
duplicated, eval, evalq, get, grep, grepl, intersect, is.unsorted,
lapply, mapply, match, mget, order, paste, pmax, pmax.int, pmin,
pmin.int, rank, rbind, rownames, sapply, setdiff, table, tapply,
union, unique, unsplit, which.max, which.min
Loading required package: S4Vectors
Attaching package: 'S4Vectors'
The following object is masked from 'package:utils':
findMatches
The following objects are masked from 'package:base':
I, expand.grid, unname
Loading required package: IRanges
Loading required package: GenomeInfoDb
Loading required package: Biobase
Welcome to Bioconductor
Vignettes contain introductory material; view with
'browseVignettes()'. To cite Bioconductor, see
'citation("Biobase")', and for packages 'citation("pkgname")'.
Attaching package: 'Biobase'
The following object is masked from 'package:MatrixGenerics':
rowMedians
The following objects are masked from 'package:matrixStats':
anyMissing, rowMedians
>
> test_check("SPIAT")
[1] "Markers had been selected in minimum distance calculation: "
[1] "Immune1" "Tumour"
[1] "Crossing of cross K function is detected for this image, indicating a potential immune ring."
[1] "The crossing happens at the 50% of the specified distance."
[1] "The alpha of Polygon is: 63.24375"
[1] "Markers had been selected in minimum distance calculation: "
[1] "Non-border" "Border"
[1] "Tumour_marker"
[1] "Immune_marker1"
[1] "Immune_marker2"
[1] "Immune_marker3"
[1] "Immune_marker4"
[1] "Tumour_marker"
[1] "Immune_marker1"
[1] "Immune_marker2"
[1] "Immune_marker3"
[1] "Immune_marker4"
[1] "Tumour_marker threshold intensity: 0.445450443784465"
[1] "Immune_marker1 threshold intensity: 0.116980867970434"
[1] "Immune_marker2 threshold intensity: 0.124283809517202"
[1] "Immune_marker3 threshold intensity: 0.0166413130263845"
[1] "Immune_marker4 threshold intensity: 0.00989731350898589"
[ FAIL 0 | WARN 0 | SKIP 0 | PASS 80 ]
>
> proc.time()
user system elapsed
60.876 2.619 63.422
SPIAT.Rcheck/SPIAT-Ex.timings
| name | user | system | elapsed | |
| AUC_of_cross_function | 0.162 | 0.028 | 0.189 | |
| R_BC | 1.061 | 0.071 | 1.135 | |
| average_marker_intensity_within_radius | 0.050 | 0.008 | 0.058 | |
| average_minimum_distance | 0.023 | 0.000 | 0.023 | |
| average_nearest_neighbor_index | 0.268 | 0.000 | 0.268 | |
| average_percentage_of_cells_within_radius | 1.884 | 0.120 | 2.004 | |
| calculate_cell_proportions | 0.012 | 0.000 | 0.013 | |
| calculate_cross_functions | 0.139 | 0.000 | 0.139 | |
| calculate_distance_to_margin | 1.129 | 0.104 | 1.233 | |
| calculate_entropy | 0.006 | 0.003 | 0.010 | |
| calculate_minimum_distances_between_celltypes | 0.016 | 0.000 | 0.016 | |
| calculate_pairwise_distances_between_celltypes | 4.447 | 0.796 | 5.243 | |
| calculate_percentage_of_grids | 8.233 | 0.188 | 8.421 | |
| calculate_proportions_of_cells_in_structure | 1.24 | 0.02 | 1.26 | |
| calculate_spatial_autocorrelation | 4.066 | 0.064 | 4.130 | |
| calculate_summary_distances_between_celltypes | 2.842 | 0.208 | 3.050 | |
| calculate_summary_distances_of_cells_to_borders | 1.834 | 0.051 | 1.886 | |
| composition_of_neighborhoods | 1.019 | 0.040 | 1.058 | |
| compute_gradient | 0.050 | 0.000 | 0.049 | |
| crossing_of_crossK | 0.105 | 0.001 | 0.105 | |
| define_celltypes | 0.692 | 0.003 | 0.696 | |
| define_structure | 1.377 | 0.024 | 1.401 | |
| dimensionality_reduction_plot | 18.896 | 0.096 | 18.992 | |
| entropy_gradient_aggregated | 0.480 | 0.028 | 0.508 | |
| format_cellprofiler_to_spe | 0.148 | 0.028 | 0.176 | |
| format_codex_to_spe | 0.187 | 0.020 | 0.208 | |
| format_colData_to_spe | 0.152 | 0.015 | 0.168 | |
| format_halo_to_spe | 0.440 | 0.101 | 0.514 | |
| format_image_to_spe | 0.145 | 0.004 | 0.150 | |
| format_inform_to_spe | 0.228 | 0.036 | 0.246 | |
| format_spe_to_ppp | 0.015 | 0.000 | 0.015 | |
| grid_metrics | 3.809 | 0.052 | 3.862 | |
| identify_bordering_cells | 0.537 | 0.020 | 0.556 | |
| identify_neighborhoods | 1.022 | 0.144 | 1.166 | |
| image_splitter | 1.297 | 0.024 | 1.321 | |
| marker_intensity_boxplot | 0.279 | 0.004 | 0.283 | |
| marker_prediction_plot | 0.600 | 0.004 | 0.604 | |
| marker_surface_plot | 0.192 | 0.016 | 0.208 | |
| marker_surface_plot_stack | 0.213 | 0.008 | 0.221 | |
| measure_association_to_cell_properties | 0.365 | 0.004 | 0.369 | |
| mixing_score_summary | 0.015 | 0.000 | 0.016 | |
| number_of_cells_within_radius | 0.010 | 0.000 | 0.011 | |
| plot_average_intensity | 0.240 | 0.000 | 0.241 | |
| plot_cell_categories | 0.219 | 0.004 | 0.222 | |
| plot_cell_distances_violin | 0.984 | 0.000 | 0.984 | |
| plot_cell_marker_levels | 0.175 | 0.004 | 0.180 | |
| plot_cell_percentages | 0.356 | 0.004 | 0.360 | |
| plot_composition_heatmap | 3.846 | 0.128 | 3.975 | |
| plot_distance_heatmap | 1.954 | 0.096 | 2.051 | |
| plot_marker_level_heatmap | 0.332 | 0.000 | 0.333 | |
| predict_phenotypes | 0.931 | 0.004 | 0.936 | |
| select_celltypes | 0.04 | 0.00 | 0.04 | |