Back to Multiple platform build/check report for BioC 3.19:   simplified   long
ABCDEFGHIJKLMNOPQR[S]TUVWXYZ

This page was generated on 2024-10-18 20:38 -0400 (Fri, 18 Oct 2024).

HostnameOSArch (*)R versionInstalled pkgs
nebbiolo1Linux (Ubuntu 22.04.3 LTS)x86_644.4.1 (2024-06-14) -- "Race for Your Life" 4763
palomino7Windows Server 2022 Datacenterx644.4.1 (2024-06-14 ucrt) -- "Race for Your Life" 4500
merida1macOS 12.7.5 Montereyx86_644.4.1 (2024-06-14) -- "Race for Your Life" 4530
kjohnson1macOS 13.6.6 Venturaarm644.4.1 (2024-06-14) -- "Race for Your Life" 4480
Click on any hostname to see more info about the system (e.g. compilers)      (*) as reported by 'uname -p', except on Windows and Mac OS X

Package 1963/2300HostnameOS / ArchINSTALLBUILDCHECKBUILD BIN
SIAMCAT 2.8.0  (landing page)
Jakob Wirbel
Snapshot Date: 2024-10-16 14:00 -0400 (Wed, 16 Oct 2024)
git_url: https://git.bioconductor.org/packages/SIAMCAT
git_branch: RELEASE_3_19
git_last_commit: 2a7c890
git_last_commit_date: 2024-04-30 11:06:40 -0400 (Tue, 30 Apr 2024)
nebbiolo1Linux (Ubuntu 22.04.3 LTS) / x86_64  OK    OK    OK  UNNEEDED, same version is already published
palomino7Windows Server 2022 Datacenter / x64  OK    OK    OK    OK  UNNEEDED, same version is already published
merida1macOS 12.7.5 Monterey / x86_64  OK    OK    OK    OK  UNNEEDED, same version is already published
kjohnson1macOS 13.6.6 Ventura / arm64  OK    ERROR  skippedskipped


CHECK results for SIAMCAT on nebbiolo1

To the developers/maintainers of the SIAMCAT package:
- Allow up to 24 hours (and sometimes 48 hours) for your latest push to git@git.bioconductor.org:packages/SIAMCAT.git to reflect on this report. See Troubleshooting Build Report for more information.
- Use the following Renviron settings to reproduce errors and warnings.
- If 'R CMD check' started to fail recently on the Linux builder(s) over a missing dependency, add the missing dependency to 'Suggests:' in your DESCRIPTION file. See Renviron.bioc for more information.

raw results


Summary

Package: SIAMCAT
Version: 2.8.0
Command: /home/biocbuild/bbs-3.19-bioc/R/bin/R CMD check --install=check:SIAMCAT.install-out.txt --library=/home/biocbuild/bbs-3.19-bioc/R/site-library --timings SIAMCAT_2.8.0.tar.gz
StartedAt: 2024-10-17 05:07:32 -0400 (Thu, 17 Oct 2024)
EndedAt: 2024-10-17 05:15:32 -0400 (Thu, 17 Oct 2024)
EllapsedTime: 480.1 seconds
RetCode: 0
Status:   OK  
CheckDir: SIAMCAT.Rcheck
Warnings: 0

Command output

##############################################################################
##############################################################################
###
### Running command:
###
###   /home/biocbuild/bbs-3.19-bioc/R/bin/R CMD check --install=check:SIAMCAT.install-out.txt --library=/home/biocbuild/bbs-3.19-bioc/R/site-library --timings SIAMCAT_2.8.0.tar.gz
###
##############################################################################
##############################################################################


* using log directory ‘/home/biocbuild/bbs-3.19-bioc/meat/SIAMCAT.Rcheck’
* using R version 4.4.1 (2024-06-14)
* using platform: x86_64-pc-linux-gnu
* R was compiled by
    gcc (Ubuntu 11.4.0-1ubuntu1~22.04) 11.4.0
    GNU Fortran (Ubuntu 11.4.0-1ubuntu1~22.04) 11.4.0
* running under: Ubuntu 22.04.5 LTS
* using session charset: UTF-8
* checking for file ‘SIAMCAT/DESCRIPTION’ ... OK
* checking extension type ... Package
* this is package ‘SIAMCAT’ version ‘2.8.0’
* package encoding: UTF-8
* checking package namespace information ... OK
* checking package dependencies ... OK
* checking if this is a source package ... OK
* checking if there is a namespace ... OK
* checking for hidden files and directories ... NOTE
Found the following hidden files and directories:
  .travis.yml
These were most likely included in error. See section ‘Package
structure’ in the ‘Writing R Extensions’ manual.
* checking for portable file names ... OK
* checking for sufficient/correct file permissions ... OK
* checking whether package ‘SIAMCAT’ can be installed ... OK
* checking installed package size ... OK
* checking package directory ... OK
* checking ‘build’ directory ... OK
* checking DESCRIPTION meta-information ... OK
* checking top-level files ... OK
* checking for left-over files ... OK
* checking index information ... OK
* checking package subdirectories ... OK
* checking code files for non-ASCII characters ... OK
* checking R files for syntax errors ... OK
* checking whether the package can be loaded ... OK
* checking whether the package can be loaded with stated dependencies ... OK
* checking whether the package can be unloaded cleanly ... OK
* checking whether the namespace can be loaded with stated dependencies ... OK
* checking whether the namespace can be unloaded cleanly ... OK
* checking loading without being on the library search path ... OK
* checking dependencies in R code ... OK
* checking S3 generic/method consistency ... OK
* checking replacement functions ... OK
* checking foreign function calls ... OK
* checking R code for possible problems ... OK
* checking Rd files ... OK
* checking Rd metadata ... OK
* checking Rd cross-references ... OK
* checking for missing documentation entries ... OK
* checking for code/documentation mismatches ... OK
* checking Rd \usage sections ... OK
* checking Rd contents ... OK
* checking for unstated dependencies in examples ... OK
* checking contents of ‘data’ directory ... OK
* checking data for non-ASCII characters ... OK
* checking LazyData ... OK
* checking data for ASCII and uncompressed saves ... OK
* checking files in ‘vignettes’ ... OK
* checking examples ... OK
Examples with CPU (user + system) or elapsed time > 5s
                            user system elapsed
assign-model_list         21.210  0.403  21.615
make.predictions          20.464  0.272  20.735
train.model               19.813  0.695  20.509
model.interpretation.plot 19.544  0.252  19.796
* checking for unstated dependencies in vignettes ... OK
* checking package vignettes ... OK
* checking re-building of vignette outputs ... OK
* checking PDF version of manual ... OK
* DONE

Status: 1 NOTE
See
  ‘/home/biocbuild/bbs-3.19-bioc/meat/SIAMCAT.Rcheck/00check.log’
for details.


Installation output

SIAMCAT.Rcheck/00install.out

##############################################################################
##############################################################################
###
### Running command:
###
###   /home/biocbuild/bbs-3.19-bioc/R/bin/R CMD INSTALL SIAMCAT
###
##############################################################################
##############################################################################


* installing to library ‘/home/biocbuild/bbs-3.19-bioc/R/site-library’
* installing *source* package ‘SIAMCAT’ ...
** using staged installation
** R
** data
*** moving datasets to lazyload DB
** inst
** byte-compile and prepare package for lazy loading
** help
*** installing help indices
*** copying figures
** building package indices
** installing vignettes
** testing if installed package can be loaded from temporary location
** testing if installed package can be loaded from final location
** testing if installed package keeps a record of temporary installation path
* DONE (SIAMCAT)

Tests output


Example timings

SIAMCAT.Rcheck/SIAMCAT-Ex.timings

nameusersystemelapsed
accessSlot0.0060.0030.010
add.meta.pred0.4760.0520.528
assign-associations0.0060.0000.006
assign-data_split0.0060.0000.006
assign-eval_data0.0060.0000.006
assign-filt_feat0.0030.0030.006
assign-label0.0060.0000.006
assign-meta0.0240.0000.024
assign-model_list21.210 0.40321.615
assign-norm_feat0.0060.0000.007
assign-orig_feat0.0110.0000.011
assign-physeq0.0060.0000.006
assign-pred_matrix0.0060.0000.007
assoc_param-methods0.0050.0000.006
association.plot0.2300.0040.235
associations-methods0.0090.0000.009
check.associations0.0090.0000.009
check.confounders0.4070.0040.411
create.data.split0.0190.0000.018
create.label0.0020.0000.002
data_split-methods0.0000.0030.005
eval_data-methods0.0050.0000.005
evaluate.predictions1.470.021.49
feature_type-methods0.0050.0000.005
feature_weights-methods0.0210.0000.020
filt_feat-methods0.0060.0000.006
filt_params-methods0.0060.0000.005
filter.features0.0160.0000.016
filter.label0.0070.0000.008
get.filt_feat.matrix0.0060.0000.006
get.norm_feat.matrix0.0060.0000.005
get.orig_feat.matrix0.0020.0030.006
label-methods0.0060.0000.005
make.predictions20.464 0.27220.735
meta-methods0.0170.0000.018
model.evaluation.plot0.0230.0000.023
model.interpretation.plot19.544 0.25219.796
model_list-methods0.0060.0000.005
model_type-methods0.0010.0040.005
models-methods0.0050.0000.005
norm_feat-methods0.0050.0000.005
norm_params-methods0.0050.0010.005
normalize.features0.0090.0030.012
orig_feat-methods0.0050.0000.006
physeq-methods0.0080.0000.008
pred_matrix-methods0.0010.0040.005
read.label0.0070.0000.007
read.lefse0.5960.0040.600
select.samples0.0490.0000.048
siamcat0.7310.0600.790
siamcat.to.lefse0.0210.0000.020
siamcat.to.maaslin0.0180.0040.022
summarize.features1.2780.0241.303
train.model19.813 0.69520.509
validate.data0.0120.0040.016
volcano.plot0.0070.0040.010
weight_matrix-methods0.0050.0000.005