| Back to Multiple platform build/check report for BioC 3.19: simplified long | 
 | 
This page was generated on 2024-10-18 20:40 -0400 (Fri, 18 Oct 2024).
| Hostname | OS | Arch (*) | R version | Installed pkgs | 
|---|---|---|---|---|
| nebbiolo1 | Linux (Ubuntu 22.04.3 LTS) | x86_64 | 4.4.1 (2024-06-14) -- "Race for Your Life" | 4763 | 
| palomino7 | Windows Server 2022 Datacenter | x64 | 4.4.1 (2024-06-14 ucrt) -- "Race for Your Life" | 4500 | 
| merida1 | macOS 12.7.5 Monterey | x86_64 | 4.4.1 (2024-06-14) -- "Race for Your Life" | 4530 | 
| kjohnson1 | macOS 13.6.6 Ventura | arm64 | 4.4.1 (2024-06-14) -- "Race for Your Life" | 4480 | 
| Click on any hostname to see more info about the system (e.g. compilers) (*) as reported by 'uname -p', except on Windows and Mac OS X | ||||
| Package 1866/2300 | Hostname | OS / Arch | INSTALL | BUILD | CHECK | BUILD BIN | ||||||||
| SC3 1.32.0  (landing page) Vladimir Kiselev 
 | nebbiolo1 | Linux (Ubuntu 22.04.3 LTS) / x86_64 | OK | OK | OK |  | ||||||||
| palomino7 | Windows Server 2022 Datacenter / x64 | OK | OK | OK | OK |  | ||||||||
| merida1 | macOS 12.7.5 Monterey / x86_64 | OK | OK | OK | OK |  | ||||||||
| kjohnson1 | macOS 13.6.6 Ventura / arm64 | OK | OK | OK | NA | |||||||||
| To the developers/maintainers of the SC3 package: - Allow up to 24 hours (and sometimes 48 hours) for your latest push to git@git.bioconductor.org:packages/SC3.git to reflect on this report. See Troubleshooting Build Report for more information. - Use the following Renviron settings to reproduce errors and warnings. - If 'R CMD check' started to fail recently on the Linux builder(s) over a missing dependency, add the missing dependency to 'Suggests:' in your DESCRIPTION file. See Renviron.bioc for more information. | 
| Package: SC3 | 
| Version: 1.32.0 | 
| Command: E:\biocbuild\bbs-3.19-bioc\R\bin\R.exe CMD INSTALL SC3 | 
| StartedAt: 2024-10-16 16:40:28 -0400 (Wed, 16 Oct 2024) | 
| EndedAt: 2024-10-16 16:41:26 -0400 (Wed, 16 Oct 2024) | 
| EllapsedTime: 58.5 seconds | 
| RetCode: 0 | 
| Status: OK | 
##############################################################################
##############################################################################
###
### Running command:
###
###   E:\biocbuild\bbs-3.19-bioc\R\bin\R.exe CMD INSTALL SC3
###
##############################################################################
##############################################################################
* installing to library 'E:/biocbuild/bbs-3.19-bioc/R/library'
* installing *source* package 'SC3' ...
** using staged installation
** libs
using C++ compiler: 'G__~1.EXE (GCC) 13.2.0'
g++ -std=gnu++17  -I"E:/biocbuild/bbs-3.19-bioc/R/include" -DNDEBUG  -I'E:/biocbuild/bbs-3.19-bioc/R/library/Rcpp/include' -I'E:/biocbuild/bbs-3.19-bioc/R/library/RcppArmadillo/include'   -I"C:/rtools44/x86_64-w64-mingw32.static.posix/include"     -O2 -Wall  -mfpmath=sse -msse2 -mstackrealign  -c RcppExports.cpp -o RcppExports.o
g++ -std=gnu++17  -I"E:/biocbuild/bbs-3.19-bioc/R/include" -DNDEBUG  -I'E:/biocbuild/bbs-3.19-bioc/R/library/Rcpp/include' -I'E:/biocbuild/bbs-3.19-bioc/R/library/RcppArmadillo/include'   -I"C:/rtools44/x86_64-w64-mingw32.static.posix/include"     -O2 -Wall  -mfpmath=sse -msse2 -mstackrealign  -c cppFunctions.cpp -o cppFunctions.o
cppFunctions.cpp: In function 'arma::mat consmx(arma::mat)':
cppFunctions.cpp:63:23: warning: comparison of integer expressions of different signedness: 'int' and 'const arma::uword' {aka 'const unsigned int'} [-Wsign-compare]
   63 |         for (j = 0; j < dat.n_cols; j++) {
      |                     ~~^~~~~~~~~~~~
cppFunctions.cpp:64:31: warning: comparison of integer expressions of different signedness: 'int' and 'const arma::uword' {aka 'const unsigned int'} [-Wsign-compare]
   64 |                 for (i = 0; i < dat.n_rows; i++) {
      |                             ~~^~~~~~~~~~~~
cppFunctions.cpp:65:43: warning: comparison of integer expressions of different signedness: 'int' and 'const arma::uword' {aka 'const unsigned int'} [-Wsign-compare]
   65 |                         for (k = i + 1; k < dat.n_rows; k++) {
      |                                         ~~^~~~~~~~~~~~
g++ -std=gnu++17 -shared -s -static-libgcc -o SC3.dll tmp.def RcppExports.o cppFunctions.o -LE:/biocbuild/bbs-3.19-bioc/R/bin/x64 -lRlapack -LE:/biocbuild/bbs-3.19-bioc/R/bin/x64 -lRblas -lgfortran -lm -lquadmath -LC:/rtools44/x86_64-w64-mingw32.static.posix/lib/x64 -LC:/rtools44/x86_64-w64-mingw32.static.posix/lib -LE:/biocbuild/bbs-3.19-bioc/R/bin/x64 -lR
installing to E:/biocbuild/bbs-3.19-bioc/R/library/00LOCK-SC3/00new/SC3/libs/x64
** R
** data
*** moving datasets to lazyload DB
** inst
** byte-compile and prepare package for lazy loading
** help
*** installing help indices
** building package indices
** installing vignettes
** testing if installed package can be loaded from temporary location
** testing if installed package can be loaded from final location
** testing if installed package keeps a record of temporary installation path
* DONE (SC3)