| Back to Multiple platform build/check report for BioC 3.19: simplified long |
|
This page was generated on 2024-05-09 11:41:20 -0400 (Thu, 09 May 2024).
| Hostname | OS | Arch (*) | R version | Installed pkgs |
|---|---|---|---|---|
| nebbiolo1 | Linux (Ubuntu 22.04.3 LTS) | x86_64 | 4.4.0 (2024-04-24) -- "Puppy Cup" | 4748 |
| palomino3 | Windows Server 2022 Datacenter | x64 | 4.4.0 (2024-04-24 ucrt) -- "Puppy Cup" | 4484 |
| lconway | macOS 12.7.1 Monterey | x86_64 | 4.4.0 (2024-04-24) -- "Puppy Cup" | 4514 |
| kunpeng2 | Linux (openEuler 22.03 LTS-SP1) | aarch64 | 4.4.0 beta (2024-04-15 r86425) -- "Puppy Cup" | 4480 |
| Click on any hostname to see more info about the system (e.g. compilers) (*) as reported by 'uname -p', except on Windows and Mac OS X | ||||
| Package 1737/2300 | Hostname | OS / Arch | INSTALL | BUILD | CHECK | BUILD BIN | ||||||||
| Repitools 1.50.0 (landing page) Mark Robinson
| nebbiolo1 | Linux (Ubuntu 22.04.3 LTS) / x86_64 | OK | OK | WARNINGS | |||||||||
| palomino3 | Windows Server 2022 Datacenter / x64 | OK | OK | WARNINGS | OK | |||||||||
| lconway | macOS 12.7.1 Monterey / x86_64 | OK | OK | WARNINGS | OK | |||||||||
| kunpeng2 | Linux (openEuler 22.03 LTS-SP1) / aarch64 | OK | OK | WARNINGS | ||||||||||
| kjohnson3 | macOS 13.6.5 Ventura / arm64 | see weekly results here | ||||||||||||
|
To the developers/maintainers of the Repitools package: - Allow up to 24 hours (and sometimes 48 hours) for your latest push to git@git.bioconductor.org:packages/Repitools.git to reflect on this report. See Troubleshooting Build Report for more information. - Use the following Renviron settings to reproduce errors and warnings. - If 'R CMD check' started to fail recently on the Linux builder(s) over a missing dependency, add the missing dependency to 'Suggests:' in your DESCRIPTION file. See Renviron.bioc for more information. - See Martin Grigorov's blog post for how to debug Linux ARM64 related issues on a x86_64 host. |
| Package: Repitools |
| Version: 1.50.0 |
| Command: /home/biocbuild/R/R-beta-2024-04-15_r86425/bin/R CMD INSTALL Repitools |
| StartedAt: 2024-05-08 20:33:15 -0000 (Wed, 08 May 2024) |
| EndedAt: 2024-05-08 20:34:08 -0000 (Wed, 08 May 2024) |
| EllapsedTime: 53.1 seconds |
| RetCode: 0 |
| Status: OK |
##############################################################################
##############################################################################
###
### Running command:
###
### /home/biocbuild/R/R-beta-2024-04-15_r86425/bin/R CMD INSTALL Repitools
###
##############################################################################
##############################################################################
* installing to library ‘/home/biocbuild/R/R-beta-2024-04-15_r86425/site-library’
* installing *source* package ‘Repitools’ ...
** using staged installation
** libs
using C compiler: ‘gcc (GCC) 10.3.1’
using C++ compiler: ‘g++ (GCC) 10.3.1’
gcc -I"/home/biocbuild/R/R-beta-2024-04-15_r86425/include" -DNDEBUG -I/usr/local/include -D R_NO_REMAP -I. -fPIC -g -O2 -Wall -c const.c -o const.o
gcc -I"/home/biocbuild/R/R-beta-2024-04-15_r86425/include" -DNDEBUG -I/usr/local/include -D R_NO_REMAP -I. -fPIC -g -O2 -Wall -c hyp2f1.c -o hyp2f1.o
g++ -std=gnu++17 -I"/home/biocbuild/R/R-beta-2024-04-15_r86425/include" -DNDEBUG -I/usr/local/include -fPIC -g -O2 -Wall -c mmeansd.cpp -o mmeansd.o
mmeansd.cpp: In function ‘SEXPREC* moving_mean_sd(SEXP, SEXP, SEXP)’:
mmeansd.cpp:33:24: warning: variable ‘is’ set but not used [-Wunused-but-set-variable]
33 | int * x, nval, hs, is, i;
| ^~
gcc -I"/home/biocbuild/R/R-beta-2024-04-15_r86425/include" -DNDEBUG -I/usr/local/include -D R_NO_REMAP -I. -fPIC -g -O2 -Wall -c mtherr.c -o mtherr.o
gcc -I"/home/biocbuild/R/R-beta-2024-04-15_r86425/include" -DNDEBUG -I/usr/local/include -D R_NO_REMAP -I. -fPIC -g -O2 -Wall -c ringo_stuff.c -o ringo_stuff.o
ringo_stuff.c:13:24: warning: ‘Ringo_calls’ defined but not used [-Wunused-variable]
13 | static R_CallMethodDef Ringo_calls[] = {
| ^~~~~~~~~~~
g++ -std=gnu++17 -shared -L/home/biocbuild/R/R-beta-2024-04-15_r86425/lib -L/usr/local/lib -o Repitools.so const.o hyp2f1.o mmeansd.o mtherr.o ringo_stuff.o -L/home/biocbuild/R/R-beta-2024-04-15_r86425/lib -lR
installing to /home/biocbuild/R/R-beta-2024-04-15_r86425/site-library/00LOCK-Repitools/00new/Repitools/libs
** R
** data
** inst
** byte-compile and prepare package for lazy loading
** help
*** installing help indices
** building package indices
** installing vignettes
** testing if installed package can be loaded from temporary location
** checking absolute paths in shared objects and dynamic libraries
** testing if installed package can be loaded from final location
** testing if installed package keeps a record of temporary installation path
* DONE (Repitools)