| Back to Multiple platform build/check report for BioC 3.19: simplified long |
|
This page was generated on 2024-10-18 20:42 -0400 (Fri, 18 Oct 2024).
| Hostname | OS | Arch (*) | R version | Installed pkgs |
|---|---|---|---|---|
| nebbiolo1 | Linux (Ubuntu 22.04.3 LTS) | x86_64 | 4.4.1 (2024-06-14) -- "Race for Your Life" | 4763 |
| palomino7 | Windows Server 2022 Datacenter | x64 | 4.4.1 (2024-06-14 ucrt) -- "Race for Your Life" | 4500 |
| merida1 | macOS 12.7.5 Monterey | x86_64 | 4.4.1 (2024-06-14) -- "Race for Your Life" | 4530 |
| kjohnson1 | macOS 13.6.6 Ventura | arm64 | 4.4.1 (2024-06-14) -- "Race for Your Life" | 4480 |
| Click on any hostname to see more info about the system (e.g. compilers) (*) as reported by 'uname -p', except on Windows and Mac OS X | ||||
| Package 1775/2300 | Hostname | OS / Arch | INSTALL | BUILD | CHECK | BUILD BIN | ||||||||
Min-Jeong Baek
| nebbiolo1 | Linux (Ubuntu 22.04.3 LTS) / x86_64 | OK | OK | ERROR | |||||||||
| palomino7 | Windows Server 2022 Datacenter / x64 | OK | OK | OK | OK | |||||||||
| merida1 | macOS 12.7.5 Monterey / x86_64 | OK | OK | OK | OK | |||||||||
| kjohnson1 | macOS 13.6.6 Ventura / arm64 | OK | OK | OK | OK | |||||||||
|
To the developers/maintainers of the RIPAT package: - Allow up to 24 hours (and sometimes 48 hours) for your latest push to git@git.bioconductor.org:packages/RIPAT.git to reflect on this report. See Troubleshooting Build Report for more information. - Use the following Renviron settings to reproduce errors and warnings. - If 'R CMD check' started to fail recently on the Linux builder(s) over a missing dependency, add the missing dependency to 'Suggests:' in your DESCRIPTION file. See Renviron.bioc for more information. |
| Package: RIPAT |
| Version: 1.14.0 |
| Command: /Library/Frameworks/R.framework/Resources/bin/R CMD check --install=check:RIPAT.install-out.txt --library=/Library/Frameworks/R.framework/Resources/library --no-vignettes --timings RIPAT_1.14.0.tar.gz |
| StartedAt: 2024-10-18 09:43:05 -0400 (Fri, 18 Oct 2024) |
| EndedAt: 2024-10-18 09:44:47 -0400 (Fri, 18 Oct 2024) |
| EllapsedTime: 101.6 seconds |
| RetCode: 0 |
| Status: OK |
| CheckDir: RIPAT.Rcheck |
| Warnings: 0 |
##############################################################################
##############################################################################
###
### Running command:
###
### /Library/Frameworks/R.framework/Resources/bin/R CMD check --install=check:RIPAT.install-out.txt --library=/Library/Frameworks/R.framework/Resources/library --no-vignettes --timings RIPAT_1.14.0.tar.gz
###
##############################################################################
##############################################################################
* using log directory ‘/Users/biocbuild/bbs-3.19-bioc/meat/RIPAT.Rcheck’
* using R version 4.4.1 (2024-06-14)
* using platform: aarch64-apple-darwin20
* R was compiled by
Apple clang version 14.0.0 (clang-1400.0.29.202)
GNU Fortran (GCC) 12.2.0
* running under: macOS Ventura 13.6.6
* using session charset: UTF-8
* using option ‘--no-vignettes’
* checking for file ‘RIPAT/DESCRIPTION’ ... OK
* this is package ‘RIPAT’ version ‘1.14.0’
* package encoding: UTF-8
* checking package namespace information ... OK
* checking package dependencies ... OK
* checking if this is a source package ... OK
* checking if there is a namespace ... OK
* checking for hidden files and directories ... OK
* checking for portable file names ... OK
* checking for sufficient/correct file permissions ... OK
* checking whether package ‘RIPAT’ can be installed ... OK
* checking installed package size ... OK
* checking package directory ... OK
* checking ‘build’ directory ... OK
* checking DESCRIPTION meta-information ... OK
* checking top-level files ... OK
* checking for left-over files ... OK
* checking index information ... OK
* checking package subdirectories ... OK
* checking code files for non-ASCII characters ... OK
* checking R files for syntax errors ... OK
* checking whether the package can be loaded ... OK
* checking whether the package can be loaded with stated dependencies ... OK
* checking whether the package can be unloaded cleanly ... OK
* checking whether the namespace can be loaded with stated dependencies ... OK
* checking whether the namespace can be unloaded cleanly ... OK
* checking whether startup messages can be suppressed ... OK
* checking dependencies in R code ... OK
* checking S3 generic/method consistency ... OK
* checking replacement functions ... OK
* checking foreign function calls ... OK
* checking R code for possible problems ... NOTE
annoByCpG: no visible global function definition for ‘hist’
annoByCpG: no visible binding for global variable ‘Range’
annoByCpG: no visible binding for global variable ‘Freq’
annoByCpG: no visible binding for global variable ‘Group’
annoByGene: no visible global function definition for ‘hist’
annoByGene: no visible binding for global variable ‘Range’
annoByGene: no visible binding for global variable ‘Freq’
annoByGene: no visible binding for global variable ‘Group’
annoByRepeat: no visible global function definition for ‘hist’
annoByRepeat: no visible binding for global variable ‘all_dist_dup_m’
annoByRepeat: no visible binding for global variable ‘Range’
annoByRepeat: no visible binding for global variable ‘Freq’
annoByRepeat: no visible binding for global variable ‘Group’
annoByVar: no visible global function definition for ‘hist’
annoByVar: no visible binding for global variable ‘Range’
annoByVar: no visible binding for global variable ‘Freq’
annoByVar: no visible binding for global variable ‘Group’
makeDocument : <anonymous>: no visible global function definition for
‘hist’
makeDocument: no visible binding for global variable ‘group’
makeDocument: no visible binding for global variable ‘type’
makeDocument: no visible binding for global variable ‘convert_p’
makeDocument: no visible global function definition for ‘par’
Undefined global functions or variables:
Freq Group Range all_dist_dup_m convert_p group hist par type
Consider adding
importFrom("graphics", "hist", "par")
to your NAMESPACE file.
* checking Rd files ... OK
* checking Rd metadata ... OK
* checking Rd cross-references ... OK
* checking for missing documentation entries ... OK
* checking for code/documentation mismatches ... OK
* checking Rd \usage sections ... OK
* checking Rd contents ... OK
* checking for unstated dependencies in examples ... OK
* checking contents of ‘data’ directory ... OK
* checking data for non-ASCII characters ... OK
* checking data for ASCII and uncompressed saves ... OK
* checking files in ‘vignettes’ ... OK
* checking examples ... OK
Examples with CPU (user + system) or elapsed time > 5s
user system elapsed
drawingKaryo 14.532 0.684 15.403
makeData 8.390 0.371 9.125
annoByCpG 4.751 0.301 5.137
* checking for unstated dependencies in vignettes ... OK
* checking package vignettes ... OK
* checking running R code from vignettes ... SKIPPED
* checking re-building of vignette outputs ... SKIPPED
* checking PDF version of manual ... OK
* DONE
Status: 1 NOTE
See
‘/Users/biocbuild/bbs-3.19-bioc/meat/RIPAT.Rcheck/00check.log’
for details.
RIPAT.Rcheck/00install.out
############################################################################## ############################################################################## ### ### Running command: ### ### /Library/Frameworks/R.framework/Resources/bin/R CMD INSTALL RIPAT ### ############################################################################## ############################################################################## * installing to library ‘/Library/Frameworks/R.framework/Versions/4.4-arm64/Resources/library’ * installing *source* package ‘RIPAT’ ... ** using staged installation ** R ** data ** inst ** byte-compile and prepare package for lazy loading ** help *** installing help indices ** building package indices ** installing vignettes ** testing if installed package can be loaded from temporary location Warning in fun(libname, pkgname) : Package 'RIPAT' is deprecated and will be removed from Bioconductor version 3.20 ** testing if installed package can be loaded from final location Warning in fun(libname, pkgname) : Package 'RIPAT' is deprecated and will be removed from Bioconductor version 3.20 ** testing if installed package keeps a record of temporary installation path * DONE (RIPAT)
RIPAT.Rcheck/RIPAT-Ex.timings
| name | user | system | elapsed | |
| annoByCpG | 4.751 | 0.301 | 5.137 | |
| annoByGene | 1.731 | 0.071 | 1.813 | |
| annoByRepeat | 1.323 | 0.048 | 1.377 | |
| annoByVar | 0.894 | 0.024 | 0.929 | |
| blast_gene | 0.083 | 0.002 | 0.086 | |
| blast_obj | 0.002 | 0.001 | 0.003 | |
| cpg_exam_db | 0.012 | 0.001 | 0.014 | |
| drawingKaryo | 14.532 | 0.684 | 15.403 | |
| gene_exam_db | 0.053 | 0.003 | 0.057 | |
| makeData | 8.390 | 0.371 | 9.125 | |
| makeDocument | 3.454 | 0.366 | 3.986 | |
| makeInputObj | 0.997 | 0.035 | 1.199 | |
| makeInputObj2 | 2.224 | 0.047 | 2.423 | |
| micro_exam_db | 0.006 | 0.002 | 0.007 | |
| repeat_exam_db | 0.010 | 0.002 | 0.012 | |
| tss_exam_db | 0.030 | 0.002 | 0.033 | |
| var_exam_db | 0.092 | 0.003 | 0.097 | |