| Back to Multiple platform build/check report for BioC 3.19: simplified long |
|
This page was generated on 2024-10-18 20:42 -0400 (Fri, 18 Oct 2024).
| Hostname | OS | Arch (*) | R version | Installed pkgs |
|---|---|---|---|---|
| nebbiolo1 | Linux (Ubuntu 22.04.3 LTS) | x86_64 | 4.4.1 (2024-06-14) -- "Race for Your Life" | 4763 |
| palomino7 | Windows Server 2022 Datacenter | x64 | 4.4.1 (2024-06-14 ucrt) -- "Race for Your Life" | 4500 |
| merida1 | macOS 12.7.5 Monterey | x86_64 | 4.4.1 (2024-06-14) -- "Race for Your Life" | 4530 |
| kjohnson1 | macOS 13.6.6 Ventura | arm64 | 4.4.1 (2024-06-14) -- "Race for Your Life" | 4480 |
| Click on any hostname to see more info about the system (e.g. compilers) (*) as reported by 'uname -p', except on Windows and Mac OS X | ||||
| Package 1649/2300 | Hostname | OS / Arch | INSTALL | BUILD | CHECK | BUILD BIN | ||||||||
| QSutils 1.22.0 (landing page) Mercedes Guerrero-Murillo
| nebbiolo1 | Linux (Ubuntu 22.04.3 LTS) / x86_64 | OK | OK | OK | |||||||||
| palomino7 | Windows Server 2022 Datacenter / x64 | OK | OK | OK | OK | |||||||||
| merida1 | macOS 12.7.5 Monterey / x86_64 | OK | OK | OK | OK | |||||||||
| kjohnson1 | macOS 13.6.6 Ventura / arm64 | OK | OK | OK | OK | |||||||||
|
To the developers/maintainers of the QSutils package: - Allow up to 24 hours (and sometimes 48 hours) for your latest push to git@git.bioconductor.org:packages/QSutils.git to reflect on this report. See Troubleshooting Build Report for more information. - Use the following Renviron settings to reproduce errors and warnings. - If 'R CMD check' started to fail recently on the Linux builder(s) over a missing dependency, add the missing dependency to 'Suggests:' in your DESCRIPTION file. See Renviron.bioc for more information. |
| Package: QSutils |
| Version: 1.22.0 |
| Command: /Library/Frameworks/R.framework/Resources/bin/R CMD check --install=check:QSutils.install-out.txt --library=/Library/Frameworks/R.framework/Resources/library --no-vignettes --timings QSutils_1.22.0.tar.gz |
| StartedAt: 2024-10-18 08:30:37 -0400 (Fri, 18 Oct 2024) |
| EndedAt: 2024-10-18 08:32:15 -0400 (Fri, 18 Oct 2024) |
| EllapsedTime: 97.7 seconds |
| RetCode: 0 |
| Status: OK |
| CheckDir: QSutils.Rcheck |
| Warnings: 0 |
##############################################################################
##############################################################################
###
### Running command:
###
### /Library/Frameworks/R.framework/Resources/bin/R CMD check --install=check:QSutils.install-out.txt --library=/Library/Frameworks/R.framework/Resources/library --no-vignettes --timings QSutils_1.22.0.tar.gz
###
##############################################################################
##############################################################################
* using log directory ‘/Users/biocbuild/bbs-3.19-bioc/meat/QSutils.Rcheck’
* using R version 4.4.1 (2024-06-14)
* using platform: aarch64-apple-darwin20
* R was compiled by
Apple clang version 14.0.0 (clang-1400.0.29.202)
GNU Fortran (GCC) 12.2.0
* running under: macOS Ventura 13.6.6
* using session charset: UTF-8
* using option ‘--no-vignettes’
* checking for file ‘QSutils/DESCRIPTION’ ... OK
* checking extension type ... Package
* this is package ‘QSutils’ version ‘1.22.0’
* package encoding: UTF-8
* checking package namespace information ... OK
* checking package dependencies ... OK
* checking if this is a source package ... OK
* checking if there is a namespace ... OK
* checking for hidden files and directories ... OK
* checking for portable file names ... OK
* checking for sufficient/correct file permissions ... OK
* checking whether package ‘QSutils’ can be installed ... OK
* checking installed package size ... OK
* checking package directory ... OK
* checking ‘build’ directory ... OK
* checking DESCRIPTION meta-information ... OK
* checking top-level files ... NOTE
File
LICENSE
is not mentioned in the DESCRIPTION file.
* checking for left-over files ... OK
* checking index information ... OK
* checking package subdirectories ... NOTE
Problems with news in ‘NEWS’:
Cannot process chunk/lines:
CHANGES IN VERSION 0.99.8
Internal changes:
- QSutils review correction:
· Add exports to NAMESPACE
Cannot process chunk/lines:
CHANGES IN VERSION 0.99.4,5, and 7
Internal changes:
- QSutils review correction:
· fn.ab function correction
Cannot process chunk/lines:
CHANGES IN VERSION 0.99.3
Internal changes:
- QSutils review correction:
· Vignette: add chunk names
· R Change class -> is()
· R hide helper functions
· R join more than one function in one file
· R vectorize some apply
· R Change fn.ab.1,fn.ab.2 and fn.ab.3 -> fn.ab with 3 agruments in fn
Cannot process chunk/lines:
CHANGES IN VERSION 0.99.2
Internal changes:
- Biocheck NOTEs correction:
· Change sapply()->vapply()
· Change 1:... -> seq_len()
Cannot process chunk/lines:
CHANGES IN VERSION 0.99.1
Internal changes:
- Correction of WARNINGS and ERRORS
with Biocheck:
· Collapse() example ERROR.
· Change class == -> is() or !is()
· Update R version dependency from 3.4.0 to 3.5.
· Correct -> 'VignetteIndexEntry{VignetteTitle}' in QSUtils-Alignment.Rmd
* checking code files for non-ASCII characters ... OK
* checking R files for syntax errors ... OK
* checking whether the package can be loaded ... OK
* checking whether the package can be loaded with stated dependencies ... OK
* checking whether the package can be unloaded cleanly ... OK
* checking whether the namespace can be loaded with stated dependencies ... OK
* checking whether the namespace can be unloaded cleanly ... OK
* checking dependencies in R code ... OK
* checking S3 generic/method consistency ... OK
* checking replacement functions ... OK
* checking foreign function calls ... OK
* checking R code for possible problems ... OK
* checking Rd files ... OK
* checking Rd metadata ... OK
* checking Rd cross-references ... OK
* checking for missing documentation entries ... OK
* checking for code/documentation mismatches ... OK
* checking Rd \usage sections ... OK
* checking Rd contents ... OK
* checking for unstated dependencies in examples ... OK
* checking files in ‘vignettes’ ... OK
* checking examples ... OK
* checking for unstated dependencies in vignettes ... OK
* checking package vignettes ... OK
* checking running R code from vignettes ... SKIPPED
* checking re-building of vignette outputs ... SKIPPED
* checking PDF version of manual ... OK
* DONE
Status: 2 NOTEs
See
‘/Users/biocbuild/bbs-3.19-bioc/meat/QSutils.Rcheck/00check.log’
for details.
QSutils.Rcheck/00install.out
############################################################################## ############################################################################## ### ### Running command: ### ### /Library/Frameworks/R.framework/Resources/bin/R CMD INSTALL QSutils ### ############################################################################## ############################################################################## * installing to library ‘/Library/Frameworks/R.framework/Versions/4.4-arm64/Resources/library’ * installing *source* package ‘QSutils’ ... ** using staged installation ** R ** inst ** byte-compile and prepare package for lazy loading ** help *** installing help indices ** building package indices ** installing vignettes ** testing if installed package can be loaded from temporary location ** testing if installed package can be loaded from final location ** testing if installed package keeps a record of temporary installation path * DONE (QSutils)
QSutils.Rcheck/QSutils-Ex.timings
| name | user | system | elapsed | |
| Collapse | 0.135 | 0.016 | 0.153 | |
| ConsSeq | 0.021 | 0.003 | 0.025 | |
| CorrectGapsAndNs | 0.006 | 0.001 | 0.007 | |
| DBrule | 0.048 | 0.007 | 0.056 | |
| DNA.dist | 0.007 | 0.002 | 0.010 | |
| DSFT | 0.006 | 0.000 | 0.006 | |
| Diverge | 0.003 | 0.000 | 0.003 | |
| DottedAlignment | 0.009 | 0.002 | 0.011 | |
| FAD | 0.007 | 0.002 | 0.008 | |
| FreqMat | 0.013 | 0.004 | 0.017 | |
| GenerateVars | 0.003 | 0.001 | 0.004 | |
| GenotypeStandards_A-H.fas | 0.007 | 0.001 | 0.008 | |
| GetInfProfile | 0.015 | 0.003 | 0.020 | |
| GetQSData | 0.348 | 0.063 | 0.413 | |
| GetRandomSeq | 0 | 0 | 0 | |
| GiniSimpson | 0.001 | 0.001 | 0.001 | |
| HCq | 0.005 | 0.001 | 0.006 | |
| Hill | 0.004 | 0.001 | 0.005 | |
| IntersectStrandHpls | 0.065 | 0.008 | 0.074 | |
| MutationFreq | 0.274 | 0.040 | 0.317 | |
| MutsTbl | 0.014 | 0.003 | 0.017 | |
| NucleotideDiversity | 0.008 | 0.001 | 0.008 | |
| PolyDist | 0.021 | 0.001 | 0.022 | |
| Rao | 0.011 | 0.001 | 0.013 | |
| ReadAmplSeqs | 0.022 | 0.001 | 0.023 | |
| Renyi | 0.004 | 0.000 | 0.004 | |
| ReportVariants | 0.014 | 0.001 | 0.015 | |
| SegSites | 0.009 | 0.001 | 0.010 | |
| Shannon | 0.001 | 0.000 | 0.001 | |
| SortByMutations | 0.264 | 0.072 | 0.336 | |
| SummaryMuts | 0.014 | 0.001 | 0.016 | |
| TotalMutations | 0.014 | 0.001 | 0.014 | |
| Toy.GapsAndNs.fna | 0.043 | 0.003 | 0.045 | |
| ToyData_10_50_1000.fna | 0.023 | 0.002 | 0.025 | |
| ToyData_FWReads.fna | 0.059 | 0.007 | 0.066 | |
| ToyData_RVReads.fna | 0.059 | 0.006 | 0.065 | |
| UniqueMutations | 0.010 | 0.001 | 0.011 | |
| Unknown-Genotype.fna | 0.009 | 0.002 | 0.010 | |
| fn.ab | 0.003 | 0.001 | 0.004 | |
| geom.series | 0.003 | 0.000 | 0.003 | |