Back to Multiple platform build/check report for BioC 3.19: simplified long |
|
This page was generated on 2024-06-11 14:42 -0400 (Tue, 11 Jun 2024).
Hostname | OS | Arch (*) | R version | Installed pkgs |
---|---|---|---|---|
nebbiolo1 | Linux (Ubuntu 22.04.3 LTS) | x86_64 | 4.4.0 (2024-04-24) -- "Puppy Cup" | 4757 |
palomino3 | Windows Server 2022 Datacenter | x64 | 4.4.0 (2024-04-24 ucrt) -- "Puppy Cup" | 4491 |
lconway | macOS 12.7.1 Monterey | x86_64 | 4.4.0 (2024-04-24) -- "Puppy Cup" | 4522 |
kjohnson3 | macOS 13.6.5 Ventura | arm64 | 4.4.0 (2024-04-24) -- "Puppy Cup" | 4468 |
Click on any hostname to see more info about the system (e.g. compilers) (*) as reported by 'uname -p', except on Windows and Mac OS X |
Package 1557/2300 | Hostname | OS / Arch | INSTALL | BUILD | CHECK | BUILD BIN | ||||||||
PhenStat 2.40.0 (landing page) Hamed Haselimashhadi
| nebbiolo1 | Linux (Ubuntu 22.04.3 LTS) / x86_64 | OK | OK | OK | |||||||||
palomino3 | Windows Server 2022 Datacenter / x64 | OK | OK | OK | OK | |||||||||
lconway | macOS 12.7.1 Monterey / x86_64 | OK | OK | OK | OK | |||||||||
kjohnson3 | macOS 13.6.5 Ventura / arm64 | OK | OK | OK | OK | |||||||||
To the developers/maintainers of the PhenStat package: - Allow up to 24 hours (and sometimes 48 hours) for your latest push to git@git.bioconductor.org:packages/PhenStat.git to reflect on this report. See Troubleshooting Build Report for more information. - Use the following Renviron settings to reproduce errors and warnings. - If 'R CMD check' started to fail recently on the Linux builder(s) over a missing dependency, add the missing dependency to 'Suggests:' in your DESCRIPTION file. See Renviron.bioc for more information. |
Package: PhenStat |
Version: 2.40.0 |
Command: /Library/Frameworks/R.framework/Resources/bin/R CMD check --install=check:PhenStat.install-out.txt --library=/Library/Frameworks/R.framework/Resources/library --no-vignettes --timings PhenStat_2.40.0.tar.gz |
StartedAt: 2024-06-09 22:13:08 -0400 (Sun, 09 Jun 2024) |
EndedAt: 2024-06-09 22:15:36 -0400 (Sun, 09 Jun 2024) |
EllapsedTime: 147.5 seconds |
RetCode: 0 |
Status: OK |
CheckDir: PhenStat.Rcheck |
Warnings: 0 |
############################################################################## ############################################################################## ### ### Running command: ### ### /Library/Frameworks/R.framework/Resources/bin/R CMD check --install=check:PhenStat.install-out.txt --library=/Library/Frameworks/R.framework/Resources/library --no-vignettes --timings PhenStat_2.40.0.tar.gz ### ############################################################################## ############################################################################## * using log directory ‘/Users/biocbuild/bbs-3.19-bioc/meat/PhenStat.Rcheck’ * using R version 4.4.0 (2024-04-24) * using platform: x86_64-apple-darwin20 * R was compiled by Apple clang version 14.0.0 (clang-1400.0.29.202) GNU Fortran (GCC) 12.2.0 * running under: macOS Monterey 12.7.1 * using session charset: UTF-8 * using option ‘--no-vignettes’ * checking for file ‘PhenStat/DESCRIPTION’ ... OK * checking extension type ... Package * this is package ‘PhenStat’ version ‘2.40.0’ * checking package namespace information ... OK * checking package dependencies ... OK * checking if this is a source package ... OK * checking if there is a namespace ... OK * checking for hidden files and directories ... OK * checking for portable file names ... OK * checking for sufficient/correct file permissions ... OK * checking whether package ‘PhenStat’ can be installed ... OK * checking installed package size ... OK * checking package directory ... OK * checking ‘build’ directory ... OK * checking DESCRIPTION meta-information ... OK * checking top-level files ... OK * checking for left-over files ... OK * checking index information ... OK * checking package subdirectories ... OK * checking code files for non-ASCII characters ... OK * checking R files for syntax errors ... OK * checking whether the package can be loaded ... OK * checking whether the package can be loaded with stated dependencies ... OK * checking whether the package can be unloaded cleanly ... OK * checking whether the namespace can be loaded with stated dependencies ... OK * checking whether the namespace can be unloaded cleanly ... OK * checking whether startup messages can be suppressed ... OK * checking dependencies in R code ... NOTE Namespace in Imports field not imported from: ‘SmoothWin’ All declared Imports should be used. * checking S3 generic/method consistency ... OK * checking replacement functions ... OK * checking foreign function calls ... OK * checking R code for possible problems ... OK * checking Rd files ... NOTE checkRd: (-1) plot.PhenList.Rd:49-53: Lost braces 49 | \item boxplotSexGenotype. See documentations for { | ^ checkRd: (-1) plot.PhenList.Rd:54-58: Lost braces 54 | \item boxplotSexGenotypeBatchAdjusted. See documentations for { | ^ checkRd: (-1) plot.PhenList.Rd:59-63: Lost braces 59 | \item boxplotSexGenotypeWeightBatchAdjusted. See documentations for { | ^ checkRd: (-1) plot.PhenList.Rd:64-68: Lost braces 64 | \item scatterplotSexGenotypeBatch. See documentations for { | ^ checkRd: (-1) plot.PhenList.Rd:69-73: Lost braces 69 | \item scatterplotGenotypeWeight. See documentations for { | ^ checkRd: (-1) plot.PhenList.Rd:74-78: Lost braces 74 | \item boxplotSexGenotypeBatch. See documentations for { | ^ checkRd: (-1) plot.PhenTestResult.Rd:41-45: Lost braces 41 | \item boxplotSexGenotypeResult. See documentations for { | ^ checkRd: (-1) plot.PhenTestResult.Rd:46-50: Lost braces 46 | \item scatterplotSexGenotypeBatchResult. See documentations for { | ^ checkRd: (-1) plot.PhenTestResult.Rd:51-55: Lost braces 51 | \item scatterplotGenotypeWeightResult. See documentations for { | ^ checkRd: (-1) plot.PhenTestResult.Rd:56-60: Lost braces 56 | \item plotResidualPredicted. See documentations for { | ^ checkRd: (-1) plot.PhenTestResult.Rd:61-65: Lost braces 61 | \item qqplotRandomEffects. See documentations for { | ^ checkRd: (-1) plot.PhenTestResult.Rd:66-70: Lost braces 66 | \item boxplotResidualBatch. See documentations for { | ^ checkRd: (-1) plot.PhenTestResult.Rd:71-75: Lost braces 71 | \item qqplotRotatedResiduals. See documentations for { | ^ checkRd: (-1) plot.PhenTestResult.Rd:76-80: Lost braces 76 | \item qqplotGenotype. See documentations for { | ^ checkRd: (-1) plot.PhenTestResult.Rd:81-85: Lost braces 81 | \item categoricalBarplot. See documentations for { | ^ checkRd: (-1) qqplotRotatedResiduals.Rd:18: Lost braces 18 | Houseman, E. A., Ryan, L. M., Coull, B. A. (2004): Cholesky residuals for assessing normal errors in a linear model with correlated outcomes. \emph{Journal of the American Statistical Association} \bold{99}{466}: pg 383-394. Doi 10.1198 | ^ * checking Rd metadata ... OK * checking Rd cross-references ... OK * checking for missing documentation entries ... OK * checking for code/documentation mismatches ... OK * checking Rd \usage sections ... NOTE Documented arguments not in \usage in Rd file 'printLROutput.Rd': ‘effectValues’ Functions with \usage entries need to have the appropriate \alias entries, and all their arguments documented. The \usage entries must correspond to syntactically valid R code. See chapter ‘Writing R documentation files’ in the ‘Writing R Extensions’ manual. * checking Rd contents ... NOTE Argument items with no description in Rd file 'plot.PhenList.Rd': ‘\dots’ Argument items with no description in Rd file 'plot.PhenTestResult.Rd': ‘\dots’ * checking for unstated dependencies in examples ... OK * checking sizes of PDF files under ‘inst/doc’ ... OK * checking installed files from ‘inst/doc’ ... OK * checking files in ‘vignettes’ ... OK * checking examples ... OK * checking for unstated dependencies in ‘tests’ ... OK * checking tests ... Running ‘runTests.R’ OK * checking for unstated dependencies in vignettes ... OK * checking package vignettes ... OK * checking running R code from vignettes ... SKIPPED * checking re-building of vignette outputs ... SKIPPED * checking PDF version of manual ... OK * DONE Status: 4 NOTEs See ‘/Users/biocbuild/bbs-3.19-bioc/meat/PhenStat.Rcheck/00check.log’ for details.
PhenStat.Rcheck/00install.out
############################################################################## ############################################################################## ### ### Running command: ### ### /Library/Frameworks/R.framework/Resources/bin/R CMD INSTALL PhenStat ### ############################################################################## ############################################################################## * installing to library ‘/Library/Frameworks/R.framework/Versions/4.4-x86_64/Resources/library’ * installing *source* package ‘PhenStat’ ... ** using staged installation ** R ** inst ** byte-compile and prepare package for lazy loading ** help *** installing help indices ** building package indices ** installing vignettes ** testing if installed package can be loaded from temporary location ** testing if installed package can be loaded from final location ** testing if installed package keeps a record of temporary installation path * DONE (PhenStat)
PhenStat.Rcheck/tests/runTests.Rout
R version 4.4.0 (2024-04-24) -- "Puppy Cup" Copyright (C) 2024 The R Foundation for Statistical Computing Platform: x86_64-apple-darwin20 R is free software and comes with ABSOLUTELY NO WARRANTY. You are welcome to redistribute it under certain conditions. Type 'license()' or 'licence()' for distribution details. R is a collaborative project with many contributors. Type 'contributors()' for more information and 'citation()' on how to cite R or R packages in publications. Type 'demo()' for some demos, 'help()' for on-line help, or 'help.start()' for an HTML browser interface to help. Type 'q()' to quit R. > BiocGenerics:::testPackage("PhenStat") >=========================================================================< This version of PhenStat includes *FEWER* functions than the previous ones You *still* can use the previous functions by using `:::`. For example : PhenStat:::boxplotSexGenotype or PhenStat:::FisherExactTest *** Want to know what is new in this version? run PhenStat:::WhatIsNew() >=========================================================================< RUNIT TEST PROTOCOL -- Sun Jun 9 22:15:23 2024 *********************************************** Number of test functions: 0 Number of errors: 0 Number of failures: 0 1 Test Suite : PhenStat RUnit Tests - 0 test functions, 0 errors, 0 failures Number of test functions: 0 Number of errors: 0 Number of failures: 0 > > proc.time() user system elapsed 3.700 0.299 4.031
PhenStat.Rcheck/PhenStat-Ex.timings
name | user | system | elapsed | |
FisherExactTest | 0.169 | 0.018 | 0.188 | |
JSONOutput | 0.981 | 0.039 | 1.022 | |
LRDataset | 0.060 | 0.006 | 0.065 | |
PhenList-class | 0.173 | 0.012 | 0.184 | |
PhenList | 0.171 | 0.006 | 0.177 | |
PhenStatReport | 0.034 | 0.001 | 0.035 | |
PhenTestResult-class | 0.695 | 0.013 | 0.709 | |
PhenTestResult | 0.506 | 0.004 | 0.510 | |
RRTest | 0.077 | 0.005 | 0.082 | |
TFDataset | 0.258 | 0.014 | 0.273 | |
analysedDataset | 0.661 | 0.021 | 0.683 | |
analysisResults | 0.728 | 0.019 | 0.749 | |
boxplotResidualBatch | 0.802 | 0.007 | 0.812 | |
boxplotSexGenotype | 0.081 | 0.005 | 0.088 | |
boxplotSexGenotypeBatch | 0.121 | 0.005 | 0.127 | |
boxplotSexGenotypeBatchAdjusted | 0.072 | 0.003 | 0.074 | |
boxplotSexGenotypeResult | 1.164 | 0.024 | 1.192 | |
boxplotSexGenotypeWeightBatchAdjusted | 0.061 | 0.002 | 0.063 | |
categoricalBarplot | 0.126 | 0.012 | 0.139 | |
checkDataset | 0.032 | 0.002 | 0.033 | |
classificationTag | 0.739 | 0.019 | 0.759 | |
determiningLambda | 0.926 | 0.287 | 1.221 | |
dim | 0.035 | 0.001 | 0.035 | |
finalLRModel | 0.500 | 0.011 | 0.514 | |
finalModel | 0.707 | 0.008 | 0.716 | |
finalTFModel | 0.463 | 0.012 | 0.475 | |
htestPhenStat-class | 0.141 | 0.013 | 0.156 | |
modelFormula | 0 | 0 | 0 | |
modelFormulaLR | 0 | 0 | 0 | |
parserOutputSummary | 0.775 | 0.012 | 0.789 | |
parserOutputSummaryLR | 0.450 | 0.011 | 0.461 | |
parserOutputTFSummary | 0.102 | 0.002 | 0.105 | |
performReverseTransformation | 0.001 | 0.000 | 0.001 | |
performTransformation | 0.000 | 0.001 | 0.001 | |
plot.PhenList | 2.409 | 0.061 | 2.483 | |
plot.PhenTestResult | 2.166 | 0.070 | 2.246 | |
plotResidualPredicted | 0.679 | 0.024 | 0.704 | |
printLROutput | 0.469 | 0.012 | 0.482 | |
printTabStyle | 0.001 | 0.001 | 0.002 | |
qqplotGenotype | 0.659 | 0.012 | 0.673 | |
qqplotRandomEffects | 0.726 | 0.010 | 0.738 | |
qqplotRotatedResiduals | 3.895 | 0.045 | 3.947 | |
recommendMethod | 0.487 | 0.013 | 0.501 | |
scatterplotGenotypeWeight | 0.137 | 0.008 | 0.145 | |
scatterplotGenotypeWeightResult | 1.008 | 0.013 | 1.024 | |
scatterplotSexGenotypeBatch | 0.084 | 0.006 | 0.091 | |
scatterplotSexGenotypeBatchResult | 0.956 | 0.017 | 0.974 | |
startLRModel | 0.424 | 0.012 | 0.436 | |
startModel | 0.616 | 0.009 | 0.625 | |
startTFModel | 0.401 | 0.009 | 0.411 | |
summaryOutput | 0.854 | 0.013 | 0.868 | |
summaryPhenListResult | 0.798 | 0.022 | 0.819 | |
testDataset | 2.197 | 0.070 | 2.276 | |
testFinalLRModel | 0.421 | 0.010 | 0.431 | |
testFinalModel | 0.857 | 0.007 | 0.865 | |
vectorOutput | 0.721 | 0.023 | 0.745 | |
vectorOutputMatrices | 0.130 | 0.010 | 0.146 | |