| Back to Multiple platform build/check report for BioC 3.19: simplified long |
|
This page was generated on 2024-10-18 20:38 -0400 (Fri, 18 Oct 2024).
| Hostname | OS | Arch (*) | R version | Installed pkgs |
|---|---|---|---|---|
| nebbiolo1 | Linux (Ubuntu 22.04.3 LTS) | x86_64 | 4.4.1 (2024-06-14) -- "Race for Your Life" | 4763 |
| palomino7 | Windows Server 2022 Datacenter | x64 | 4.4.1 (2024-06-14 ucrt) -- "Race for Your Life" | 4500 |
| merida1 | macOS 12.7.5 Monterey | x86_64 | 4.4.1 (2024-06-14) -- "Race for Your Life" | 4530 |
| kjohnson1 | macOS 13.6.6 Ventura | arm64 | 4.4.1 (2024-06-14) -- "Race for Your Life" | 4480 |
| Click on any hostname to see more info about the system (e.g. compilers) (*) as reported by 'uname -p', except on Windows and Mac OS X | ||||
| Package 1522/2300 | Hostname | OS / Arch | INSTALL | BUILD | CHECK | BUILD BIN | ||||||||
| PathoStat 1.30.0 (landing page) Solaiappan Manimaran
| nebbiolo1 | Linux (Ubuntu 22.04.3 LTS) / x86_64 | OK | OK | OK | |||||||||
| palomino7 | Windows Server 2022 Datacenter / x64 | OK | OK | OK | OK | |||||||||
| merida1 | macOS 12.7.5 Monterey / x86_64 | OK | OK | OK | OK | |||||||||
| kjohnson1 | macOS 13.6.6 Ventura / arm64 | OK | OK | OK | OK | |||||||||
|
To the developers/maintainers of the PathoStat package: - Allow up to 24 hours (and sometimes 48 hours) for your latest push to git@git.bioconductor.org:packages/PathoStat.git to reflect on this report. See Troubleshooting Build Report for more information. - Use the following Renviron settings to reproduce errors and warnings. - If 'R CMD check' started to fail recently on the Linux builder(s) over a missing dependency, add the missing dependency to 'Suggests:' in your DESCRIPTION file. See Renviron.bioc for more information. |
| Package: PathoStat |
| Version: 1.30.0 |
| Command: /home/biocbuild/bbs-3.19-bioc/R/bin/R CMD check --install=check:PathoStat.install-out.txt --library=/home/biocbuild/bbs-3.19-bioc/R/site-library --timings PathoStat_1.30.0.tar.gz |
| StartedAt: 2024-10-17 03:37:27 -0400 (Thu, 17 Oct 2024) |
| EndedAt: 2024-10-17 03:42:22 -0400 (Thu, 17 Oct 2024) |
| EllapsedTime: 294.8 seconds |
| RetCode: 0 |
| Status: OK |
| CheckDir: PathoStat.Rcheck |
| Warnings: 0 |
##############################################################################
##############################################################################
###
### Running command:
###
### /home/biocbuild/bbs-3.19-bioc/R/bin/R CMD check --install=check:PathoStat.install-out.txt --library=/home/biocbuild/bbs-3.19-bioc/R/site-library --timings PathoStat_1.30.0.tar.gz
###
##############################################################################
##############################################################################
* using log directory ‘/home/biocbuild/bbs-3.19-bioc/meat/PathoStat.Rcheck’
* using R version 4.4.1 (2024-06-14)
* using platform: x86_64-pc-linux-gnu
* R was compiled by
gcc (Ubuntu 11.4.0-1ubuntu1~22.04) 11.4.0
GNU Fortran (Ubuntu 11.4.0-1ubuntu1~22.04) 11.4.0
* running under: Ubuntu 22.04.5 LTS
* using session charset: UTF-8
* checking for file ‘PathoStat/DESCRIPTION’ ... OK
* checking extension type ... Package
* this is package ‘PathoStat’ version ‘1.30.0’
* package encoding: UTF-8
* checking package namespace information ... OK
* checking package dependencies ... OK
* checking if this is a source package ... OK
* checking if there is a namespace ... OK
* checking for hidden files and directories ... OK
* checking for portable file names ... OK
* checking for sufficient/correct file permissions ... OK
* checking whether package ‘PathoStat’ can be installed ... OK
* checking installed package size ... OK
* checking package directory ... OK
* checking ‘build’ directory ... OK
* checking DESCRIPTION meta-information ... OK
* checking top-level files ... OK
* checking for left-over files ... OK
* checking index information ... OK
* checking package subdirectories ... OK
* checking code files for non-ASCII characters ... OK
* checking R files for syntax errors ... OK
* checking whether the package can be loaded ... OK
* checking whether the package can be loaded with stated dependencies ... OK
* checking whether the package can be unloaded cleanly ... OK
* checking whether the namespace can be loaded with stated dependencies ... OK
* checking whether the namespace can be unloaded cleanly ... OK
* checking loading without being on the library search path ... OK
* checking dependencies in R code ... NOTE
Namespaces in Imports field not imported from:
‘ComplexHeatmap’ ‘RColorBrewer’
All declared Imports should be used.
* checking S3 generic/method consistency ... OK
* checking replacement functions ... OK
* checking foreign function calls ... OK
* checking R code for possible problems ... OK
* checking Rd files ... OK
* checking Rd metadata ... OK
* checking Rd cross-references ... OK
* checking for missing documentation entries ... OK
* checking for code/documentation mismatches ... OK
* checking Rd \usage sections ... OK
* checking Rd contents ... OK
* checking for unstated dependencies in examples ... OK
* checking contents of ‘data’ directory ... OK
* checking data for non-ASCII characters ... OK
* checking data for ASCII and uncompressed saves ... OK
* checking files in ‘vignettes’ ... OK
* checking examples ... OK
Examples with CPU (user + system) or elapsed time > 5s
user system elapsed
Bootstrap_LOOCV_LR_AUC 7.758 0.199 7.958
* checking for unstated dependencies in ‘tests’ ... OK
* checking tests ...
Running ‘testthat.R’
OK
* checking for unstated dependencies in vignettes ... OK
* checking package vignettes ... OK
* checking re-building of vignette outputs ... OK
* checking PDF version of manual ... OK
* DONE
Status: 1 NOTE
See
‘/home/biocbuild/bbs-3.19-bioc/meat/PathoStat.Rcheck/00check.log’
for details.
PathoStat.Rcheck/00install.out
############################################################################## ############################################################################## ### ### Running command: ### ### /home/biocbuild/bbs-3.19-bioc/R/bin/R CMD INSTALL PathoStat ### ############################################################################## ############################################################################## * installing to library ‘/home/biocbuild/bbs-3.19-bioc/R/site-library’ * installing *source* package ‘PathoStat’ ... ** using staged installation ** R ** data ** inst ** byte-compile and prepare package for lazy loading ** help *** installing help indices ** building package indices ** installing vignettes ** testing if installed package can be loaded from temporary location ** testing if installed package can be loaded from final location ** testing if installed package keeps a record of temporary installation path * DONE (PathoStat)
PathoStat.Rcheck/tests/testthat.Rout
R version 4.4.1 (2024-06-14) -- "Race for Your Life"
Copyright (C) 2024 The R Foundation for Statistical Computing
Platform: x86_64-pc-linux-gnu
R is free software and comes with ABSOLUTELY NO WARRANTY.
You are welcome to redistribute it under certain conditions.
Type 'license()' or 'licence()' for distribution details.
R is a collaborative project with many contributors.
Type 'contributors()' for more information and
'citation()' on how to cite R or R packages in publications.
Type 'demo()' for some demos, 'help()' for on-line help, or
'help.start()' for an HTML browser interface to help.
Type 'q()' to quit R.
> library(testthat)
> library(PathoStat)
>
> test_check("PathoStat")
[ FAIL 0 | WARN 0 | SKIP 0 | PASS 1 ]
>
> proc.time()
user system elapsed
11.195 0.640 11.825
PathoStat.Rcheck/PathoStat-Ex.timings
| name | user | system | elapsed | |
| Bootstrap_LOOCV_LR_AUC | 7.758 | 0.199 | 7.958 | |
| Chisq_Test_Pam | 0.000 | 0.003 | 0.004 | |
| Fisher_Test_Pam | 0.004 | 0.000 | 0.004 | |
| GET_PAM | 0.002 | 0.000 | 0.003 | |
| LOOAUC_simple_multiple_noplot_one_df | 1.745 | 0.012 | 1.757 | |
| LOOAUC_simple_multiple_one_df | 1.595 | 0.012 | 1.607 | |
| PathoStat-class | 0.045 | 0.004 | 0.048 | |
| TranslateIdToTaxLevel | 0.003 | 0.000 | 0.002 | |
| Wilcox_Test_df | 0.011 | 0.000 | 0.011 | |
| findRAfromCount | 0.140 | 0.004 | 0.144 | |
| findTaxonMat | 0.066 | 0.007 | 0.076 | |
| findTaxonomy | 0.083 | 0.000 | 0.083 | |
| findTaxonomy300 | 0.063 | 0.000 | 0.064 | |
| getShinyInput | 0.001 | 0.001 | 0.000 | |
| getShinyInputCombat | 0 | 0 | 0 | |
| getShinyInputOrig | 0.000 | 0.000 | 0.001 | |
| getSignatureFromMultipleGlmnet | 4.876 | 0.015 | 4.892 | |
| grepTid | 0.001 | 0.000 | 0.000 | |
| loadPathoscopeReports | 0.000 | 0.002 | 0.001 | |
| loadPstat | 0.000 | 0.002 | 0.002 | |
| log2CPM | 0.001 | 0.000 | 0.002 | |
| percent | 0.001 | 0.000 | 0.000 | |
| phyloseq_to_edgeR | 0.070 | 0.004 | 0.073 | |
| plotPCAPlotly | 0.169 | 0.024 | 0.193 | |
| plotPCoAPlotly | 0.124 | 0.008 | 0.132 | |
| readPathoscopeData | 0.035 | 0.000 | 0.035 | |
| runPathoStat | 0.041 | 0.004 | 0.044 | |
| savePstat | 0.004 | 0.001 | 0.004 | |
| setShinyInput | 0 | 0 | 0 | |
| setShinyInputCombat | 0.000 | 0.000 | 0.001 | |
| setShinyInputOrig | 0.001 | 0.000 | 0.000 | |
| summarizeTable | 0.002 | 0.000 | 0.002 | |