| Back to Multiple platform build/check report for BioC 3.19: simplified long |
|
This page was generated on 2024-05-27 11:36:03 -0400 (Mon, 27 May 2024).
| Hostname | OS | Arch (*) | R version | Installed pkgs |
|---|---|---|---|---|
| nebbiolo1 | Linux (Ubuntu 22.04.3 LTS) | x86_64 | 4.4.0 (2024-04-24) -- "Puppy Cup" | 4752 |
| lconway | macOS 12.7.1 Monterey | x86_64 | 4.4.0 (2024-04-24) -- "Puppy Cup" | 4517 |
| Click on any hostname to see more info about the system (e.g. compilers) (*) as reported by 'uname -p', except on Windows and Mac OS X | ||||
| Package 1637/2300 | Hostname | OS / Arch | INSTALL | BUILD | CHECK | BUILD BIN | ||||||||
| PWMEnrich 4.40.0 (landing page) Diego Diez
| nebbiolo1 | Linux (Ubuntu 22.04.3 LTS) / x86_64 | OK | OK | OK | |||||||||
| lconway | macOS 12.7.1 Monterey / x86_64 | OK | OK | OK | OK | |||||||||
| kjohnson3 | macOS 13.6.5 Ventura / arm64 | see weekly results here | ||||||||||||
|
To the developers/maintainers of the PWMEnrich package: - Allow up to 24 hours (and sometimes 48 hours) for your latest push to git@git.bioconductor.org:packages/PWMEnrich.git to reflect on this report. See Troubleshooting Build Report for more information. - Use the following Renviron settings to reproduce errors and warnings. - If 'R CMD check' started to fail recently on the Linux builder(s) over a missing dependency, add the missing dependency to 'Suggests:' in your DESCRIPTION file. See Renviron.bioc for more information. |
| Package: PWMEnrich |
| Version: 4.40.0 |
| Command: /Library/Frameworks/R.framework/Resources/bin/R CMD check --install=check:PWMEnrich.install-out.txt --library=/Library/Frameworks/R.framework/Resources/library --no-vignettes --timings PWMEnrich_4.40.0.tar.gz |
| StartedAt: 2024-05-26 23:29:11 -0400 (Sun, 26 May 2024) |
| EndedAt: 2024-05-26 23:31:24 -0400 (Sun, 26 May 2024) |
| EllapsedTime: 133.7 seconds |
| RetCode: 0 |
| Status: OK |
| CheckDir: PWMEnrich.Rcheck |
| Warnings: 0 |
##############################################################################
##############################################################################
###
### Running command:
###
### /Library/Frameworks/R.framework/Resources/bin/R CMD check --install=check:PWMEnrich.install-out.txt --library=/Library/Frameworks/R.framework/Resources/library --no-vignettes --timings PWMEnrich_4.40.0.tar.gz
###
##############################################################################
##############################################################################
* using log directory ‘/Users/biocbuild/bbs-3.19-bioc/meat/PWMEnrich.Rcheck’
* using R version 4.4.0 (2024-04-24)
* using platform: x86_64-apple-darwin20
* R was compiled by
Apple clang version 14.0.0 (clang-1400.0.29.202)
GNU Fortran (GCC) 12.2.0
* running under: macOS Monterey 12.7.1
* using session charset: UTF-8
* using option ‘--no-vignettes’
* checking for file ‘PWMEnrich/DESCRIPTION’ ... OK
* checking extension type ... Package
* this is package ‘PWMEnrich’ version ‘4.40.0’
* package encoding: UTF-8
* checking package namespace information ... OK
* checking package dependencies ... OK
* checking if this is a source package ... OK
* checking if there is a namespace ... OK
* checking for hidden files and directories ... OK
* checking for portable file names ... OK
* checking for sufficient/correct file permissions ... OK
* checking whether package ‘PWMEnrich’ can be installed ... OK
* checking installed package size ... OK
* checking package directory ... OK
* checking ‘build’ directory ... OK
* checking DESCRIPTION meta-information ... OK
* checking top-level files ... OK
* checking for left-over files ... OK
* checking index information ... OK
* checking package subdirectories ... OK
* checking code files for non-ASCII characters ... OK
* checking R files for syntax errors ... OK
* checking whether the package can be loaded ... OK
* checking whether the package can be loaded with stated dependencies ... OK
* checking whether the package can be unloaded cleanly ... OK
* checking whether the namespace can be loaded with stated dependencies ... OK
* checking whether the namespace can be unloaded cleanly ... OK
* checking dependencies in R code ... OK
* checking S3 generic/method consistency ... OK
* checking replacement functions ... OK
* checking foreign function calls ... OK
* checking R code for possible problems ... OK
* checking Rd files ... NOTE
checkRd: (-1) plot-MotifEnrichmentReport-missing-method.Rd:31-47: Lost braces
31 | if(requireNamespace("PWMEnrich.Dmelanogaster.background")){
| ^
* checking Rd metadata ... OK
* checking Rd cross-references ... OK
* checking for missing documentation entries ... OK
* checking for code/documentation mismatches ... OK
* checking Rd \usage sections ... OK
* checking Rd contents ... OK
* checking for unstated dependencies in examples ... OK
* checking sizes of PDF files under ‘inst/doc’ ... OK
* checking files in ‘vignettes’ ... OK
* checking examples ... OK
* checking for unstated dependencies in ‘tests’ ... OK
* checking tests ...
Running ‘test-all.R’
OK
* checking for unstated dependencies in vignettes ... OK
* checking package vignettes ... OK
* checking running R code from vignettes ... SKIPPED
* checking re-building of vignette outputs ... SKIPPED
* checking PDF version of manual ... OK
* DONE
Status: 1 NOTE
See
‘/Users/biocbuild/bbs-3.19-bioc/meat/PWMEnrich.Rcheck/00check.log’
for details.
PWMEnrich.Rcheck/00install.out
############################################################################## ############################################################################## ### ### Running command: ### ### /Library/Frameworks/R.framework/Resources/bin/R CMD INSTALL PWMEnrich ### ############################################################################## ############################################################################## * installing to library ‘/Library/Frameworks/R.framework/Versions/4.4-x86_64/Resources/library’ * installing *source* package ‘PWMEnrich’ ... ** using staged installation ** R ** inst ** byte-compile and prepare package for lazy loading ** help *** installing help indices ** building package indices ** installing vignettes ** testing if installed package can be loaded from temporary location ** testing if installed package can be loaded from final location ** testing if installed package keeps a record of temporary installation path * DONE (PWMEnrich)
PWMEnrich.Rcheck/tests/test-all.Rout
R version 4.4.0 (2024-04-24) -- "Puppy Cup"
Copyright (C) 2024 The R Foundation for Statistical Computing
Platform: x86_64-apple-darwin20
R is free software and comes with ABSOLUTELY NO WARRANTY.
You are welcome to redistribute it under certain conditions.
Type 'license()' or 'licence()' for distribution details.
R is a collaborative project with many contributors.
Type 'contributors()' for more information and
'citation()' on how to cite R or R packages in publications.
Type 'demo()' for some demos, 'help()' for on-line help, or
'help.start()' for an HTML browser interface to help.
Type 'q()' to quit R.
> library(testthat)
> library(PWMEnrich)
Loading required package: BiocGenerics
Attaching package: 'BiocGenerics'
The following objects are masked from 'package:stats':
IQR, mad, sd, var, xtabs
The following objects are masked from 'package:base':
Filter, Find, Map, Position, Reduce, anyDuplicated, aperm, append,
as.data.frame, basename, cbind, colnames, dirname, do.call,
duplicated, eval, evalq, get, grep, grepl, intersect, is.unsorted,
lapply, mapply, match, mget, order, paste, pmax, pmax.int, pmin,
pmin.int, rank, rbind, rownames, sapply, setdiff, table, tapply,
union, unique, unsplit, which.max, which.min
Loading required package: Biostrings
Loading required package: S4Vectors
Loading required package: stats4
Attaching package: 'S4Vectors'
The following object is masked from 'package:utils':
findMatches
The following objects are masked from 'package:base':
I, expand.grid, unname
Loading required package: IRanges
Loading required package: XVector
Loading required package: GenomeInfoDb
Attaching package: 'Biostrings'
The following object is masked from 'package:base':
strsplit
>
> test_package("PWMEnrich")
No installed testthat tests found for PWMEnrich
>
>
> proc.time()
user system elapsed
3.722 0.281 4.028
PWMEnrich.Rcheck/PWMEnrich-Ex.timings
| name | user | system | elapsed | |
| PFMtoPWM | 0.000 | 0.000 | 0.001 | |
| PWMUnscaled | 0.676 | 0.051 | 0.735 | |
| getBackgroundFrequencies | 0 | 0 | 0 | |
| groupReport-MotifEnrichmentResults-method | 2.230 | 0.086 | 2.338 | |
| makeBackground | 0.004 | 0.001 | 0.005 | |
| makePWMCutoffBackground | 0.000 | 0.001 | 0.000 | |
| makePWMEmpiricalBackground | 0.000 | 0.000 | 0.001 | |
| makePWMGEVBackground | 0 | 0 | 0 | |
| makePWMLognBackground | 0.000 | 0.001 | 0.000 | |
| makePWMPvalCutoffBackground | 0 | 0 | 0 | |
| makePWMPvalCutoffBackgroundFromSeq | 0.000 | 0.001 | 0.000 | |
| makePriors | 0.002 | 0.000 | 0.002 | |
| motifDiffEnrichment | 2.416 | 0.025 | 2.460 | |
| motifEnrichment | 3.506 | 0.041 | 3.574 | |
| motifIC | 0.051 | 0.002 | 0.054 | |
| motifRankingForGroup-MotifEnrichmentResults-method | 1.930 | 0.023 | 1.970 | |
| motifRankingForSequence-MotifEnrichmentResults-method | 1.848 | 0.023 | 1.885 | |
| motifScores | 4.123 | 0.097 | 4.264 | |
| motifSimilarity | 0.046 | 0.001 | 0.048 | |
| plot-PWM-missing-method | 0.191 | 0.007 | 0.201 | |
| plotMotifScores | 0.074 | 0.004 | 0.080 | |
| plotTopMotifsGroup-MotifEnrichmentResults-method | 2.129 | 0.034 | 2.186 | |
| plotTopMotifsSequence-MotifEnrichmentResults-method | 2.100 | 0.038 | 2.161 | |
| readMotifs | 0.086 | 0.045 | 0.133 | |
| registerCoresPWMEnrich | 0.000 | 0.000 | 0.001 | |
| reverseComplement-PWM-method | 0.015 | 0.001 | 0.017 | |
| scanWithPWM | 0.049 | 0.003 | 0.053 | |
| sequenceReport-MotifEnrichmentResults-method | 3.088 | 0.085 | 3.201 | |
| toPWM | 0 | 0 | 0 | |
| useBigMemoryPWMEnrich | 0 | 0 | 0 | |