| Back to Multiple platform build/check report for BioC 3.19: simplified long |
|
This page was generated on 2024-06-11 14:42 -0400 (Tue, 11 Jun 2024).
| Hostname | OS | Arch (*) | R version | Installed pkgs |
|---|---|---|---|---|
| nebbiolo1 | Linux (Ubuntu 22.04.3 LTS) | x86_64 | 4.4.0 (2024-04-24) -- "Puppy Cup" | 4757 |
| palomino3 | Windows Server 2022 Datacenter | x64 | 4.4.0 (2024-04-24 ucrt) -- "Puppy Cup" | 4491 |
| lconway | macOS 12.7.1 Monterey | x86_64 | 4.4.0 (2024-04-24) -- "Puppy Cup" | 4522 |
| kjohnson3 | macOS 13.6.5 Ventura | arm64 | 4.4.0 (2024-04-24) -- "Puppy Cup" | 4468 |
| Click on any hostname to see more info about the system (e.g. compilers) (*) as reported by 'uname -p', except on Windows and Mac OS X | ||||
| Package 1487/2300 | Hostname | OS / Arch | INSTALL | BUILD | CHECK | BUILD BIN | ||||||||
| ORFik 1.24.0 (landing page) Haakon Tjeldnes
| nebbiolo1 | Linux (Ubuntu 22.04.3 LTS) / x86_64 | OK | OK | OK | |||||||||
| palomino3 | Windows Server 2022 Datacenter / x64 | OK | OK | OK | OK | |||||||||
| lconway | macOS 12.7.1 Monterey / x86_64 | OK | OK | OK | OK | |||||||||
| kjohnson3 | macOS 13.6.5 Ventura / arm64 | OK | OK | OK | OK | |||||||||
|
To the developers/maintainers of the ORFik package: - Allow up to 24 hours (and sometimes 48 hours) for your latest push to git@git.bioconductor.org:packages/ORFik.git to reflect on this report. See Troubleshooting Build Report for more information. - Use the following Renviron settings to reproduce errors and warnings. - If 'R CMD check' started to fail recently on the Linux builder(s) over a missing dependency, add the missing dependency to 'Suggests:' in your DESCRIPTION file. See Renviron.bioc for more information. |
| Package: ORFik |
| Version: 1.24.0 |
| Command: /Library/Frameworks/R.framework/Resources/bin/R CMD check --install=check:ORFik.install-out.txt --library=/Library/Frameworks/R.framework/Resources/library --no-vignettes --timings ORFik_1.24.0.tar.gz |
| StartedAt: 2024-06-09 22:01:23 -0400 (Sun, 09 Jun 2024) |
| EndedAt: 2024-06-09 22:13:11 -0400 (Sun, 09 Jun 2024) |
| EllapsedTime: 707.3 seconds |
| RetCode: 0 |
| Status: OK |
| CheckDir: ORFik.Rcheck |
| Warnings: 0 |
##############################################################################
##############################################################################
###
### Running command:
###
### /Library/Frameworks/R.framework/Resources/bin/R CMD check --install=check:ORFik.install-out.txt --library=/Library/Frameworks/R.framework/Resources/library --no-vignettes --timings ORFik_1.24.0.tar.gz
###
##############################################################################
##############################################################################
* using log directory ‘/Users/biocbuild/bbs-3.19-bioc/meat/ORFik.Rcheck’
* using R version 4.4.0 (2024-04-24)
* using platform: x86_64-apple-darwin20
* R was compiled by
Apple clang version 14.0.0 (clang-1400.0.29.202)
GNU Fortran (GCC) 12.2.0
* running under: macOS Monterey 12.7.1
* using session charset: UTF-8
* using option ‘--no-vignettes’
* checking for file ‘ORFik/DESCRIPTION’ ... OK
* checking extension type ... Package
* this is package ‘ORFik’ version ‘1.24.0’
* package encoding: UTF-8
* checking package namespace information ... OK
* checking package dependencies ... OK
* checking if this is a source package ... OK
* checking if there is a namespace ... OK
* checking for hidden files and directories ... OK
* checking for portable file names ... OK
* checking for sufficient/correct file permissions ... OK
* checking whether package ‘ORFik’ can be installed ... OK
* used C++ compiler: ‘Apple clang version 14.0.0 (clang-1400.0.29.202)’
* used SDK: ‘MacOSX11.3.sdk’
* checking installed package size ... OK
* checking package directory ... OK
* checking ‘build’ directory ... OK
* checking DESCRIPTION meta-information ... NOTE
License stub is invalid DCF.
* checking top-level files ... OK
* checking for left-over files ... OK
* checking index information ... OK
* checking package subdirectories ... OK
* checking code files for non-ASCII characters ... OK
* checking R files for syntax errors ... OK
* checking whether the package can be loaded ... OK
* checking whether the package can be loaded with stated dependencies ... OK
* checking whether the package can be unloaded cleanly ... OK
* checking whether the namespace can be loaded with stated dependencies ... OK
* checking whether the namespace can be unloaded cleanly ... OK
* checking dependencies in R code ... NOTE
Unexported objects imported by ':::' calls:
‘GenomicFeatures:::.merge_seqinfo_and_infer_missing_seqlengths’
‘IRanges:::regroupBySupergroup’ ‘S4Vectors:::normarg_mcols’
‘biomartr:::getENSEMBL.Seq’ ‘biomartr:::getENSEMBL.gtf’
See the note in ?`:::` about the use of this operator.
* checking S3 generic/method consistency ... OK
* checking replacement functions ... OK
* checking foreign function calls ... OK
* checking R code for possible problems ... NOTE
detect_ribo_orfs: warning in outputLibs(df, type = "pshifted", output =
"envirlist"): partial argument match of 'output' to 'output.mode'
DEG.plot.static: no visible binding for global variable ‘Regulation’
DEG.plot.static: no visible binding for global variable ‘meanCounts’
DEG.plot.static: no visible binding for global variable ‘LFC’
DEG_model_simple: no visible binding for global variable ‘id’
DEG_model_simple: no visible binding for global variable ‘contrast’
DTEG.plot: no visible binding for global variable ‘Regulation’
DTEG.plot: no visible binding for global variable ‘rna’
DTEG.plot: no visible binding for global variable ‘rfp’
QCplots: no visible binding for global variable ‘leaders’
QCplots: no visible binding for global variable ‘trailers’
QCstats.plot: no visible binding for global variable ‘variable’
QCstats.plot: no visible binding for global variable ‘sample_total’
QCstats.plot: no visible binding for global variable ‘value’
QCstats.plot: no visible global function definition for ‘.’
QCstats.plot: no visible binding for global variable ‘sample_id’
QCstats.plot: no visible binding for global variable ‘percentage’
QCstats.plot: no visible binding for global variable
‘perc_of_counts_per_sample’
QCstats.plot: no visible binding for global variable ‘read length’
RiboQC.plot: no visible binding for global variable ‘variable’
RiboQC.plot: no visible binding for global variable ‘sample_total’
RiboQC.plot: no visible binding for global variable ‘value’
RiboQC.plot: no visible global function definition for ‘.’
RiboQC.plot: no visible binding for global variable ‘sample_id’
RiboQC.plot: no visible binding for global variable ‘percentage’
RiboQC.plot: no visible binding for global variable ‘percent’
RiboQC.plot: no visible binding for global variable ‘frame’
STAR.multiQC: no visible binding for global variable ‘sample_id’
STAR.multiQC: no visible binding for global variable ‘value’
TOP.Motif.ecdf: no visible binding for global variable ‘seq1’
TOP.Motif.ecdf: no visible binding for global variable ‘TOP’
alignmentFeatureStatistics : <anonymous>: no visible binding for global
variable ‘percentage_mrna_aligned’
alignmentFeatureStatistics : <anonymous>: no visible binding for global
variable ‘mRNA’
alignmentFeatureStatistics : <anonymous>: no visible binding for global
variable ‘percentage_tx_aligned’
alignmentFeatureStatistics : <anonymous>: no visible binding for global
variable ‘Transcript’
alignmentFeatureStatistics : <anonymous>: no visible binding for global
variable ‘ratio_cds_mrna’
alignmentFeatureStatistics : <anonymous>: no visible binding for global
variable ‘CDS’
alignmentFeatureStatistics : <anonymous>: no visible binding for global
variable ‘ratio_cds_leader’
alignmentFeatureStatistics : <anonymous>: no visible binding for global
variable ‘LEADERS’
allFeaturesHelper: no visible binding for global variable ‘te’
allFeaturesHelper: no visible binding for global variable ‘fpkmRFP’
allFeaturesHelper: no visible binding for global variable ‘fpkmRNA’
allFeaturesHelper: no visible binding for global variable ‘countRFP’
allFeaturesHelper: no visible binding for global variable ‘entropyRFP’
allFeaturesHelper: no visible binding for global variable
‘disengagementScores’
allFeaturesHelper: no visible binding for global variable ‘RRS’
allFeaturesHelper: no visible binding for global variable ‘RSS’
allFeaturesHelper: no visible binding for global variable ‘ORFScores’
allFeaturesHelper: no visible binding for global variable ‘ioScore’
allFeaturesHelper: no visible binding for global variable
‘startCodonCoverage’
allFeaturesHelper: no visible binding for global variable
‘startRegionRelative’
allFeaturesHelper: no visible binding for global variable ‘kozak’
allFeaturesHelper: no visible binding for global variable ‘StartCodons’
allFeaturesHelper: no visible binding for global variable ‘StopCodons’
allFeaturesHelper: no visible binding for global variable
‘fractionLengths’
allFeaturesHelper: no visible binding for global variable ‘distORFCDS’
allFeaturesHelper: no visible binding for global variable ‘inFrameCDS’
allFeaturesHelper: no visible binding for global variable
‘isOverlappingCds’
allFeaturesHelper: no visible binding for global variable ‘rankInTx’
appendZeroes: no visible binding for global variable ‘frame’
appendZeroes: no visible binding for global variable ‘position’
appendZeroes: no visible binding for global variable ‘count’
artificial.orfs: no visible binding for global variable ‘random’
artificial.orfs: no visible binding for global variable ‘pick’
artificial.orfs: no visible global function definition for ‘.’
browseSRA: no visible global function definition for ‘browseURL’
cellTypeNames: missing arguments not allowed in calls to ‘c’
codonSumsPerGroup: no visible binding for global variable ‘genes’
codon_usage: no visible binding for global variable ‘merged’
codon_usage: no visible binding for global variable ‘AA’
codon_usage: no visible binding for global variable ‘codon’
codon_usage_plot: no visible binding for global variable ‘seqs’
collapse.by.scores: no visible global function definition for ‘.’
collapse.fastq.internal: no visible binding for global variable ‘N’
cor_plot: no visible binding for global variable ‘Var2’
cor_plot: no visible binding for global variable ‘Var1’
cor_plot: no visible binding for global variable ‘Cor’
cor_table: no visible binding for global variable ‘Var1’
cor_table: no visible binding for global variable ‘Var2’
cor_table: no visible binding for global variable ‘Cor’
coverageHeatMap: no visible binding for global variable ‘position’
coverageHeatMap: no visible binding for global variable ‘fraction’
coveragePerORFStatistics: no visible global function definition for ‘.’
coveragePerORFStatistics: no visible binding for global variable
‘count’
coveragePerORFStatistics: no visible binding for global variable
‘genes’
coverageScorings: no visible binding for global variable ‘count’
coverageScorings: no visible binding for global variable ‘zscore’
coverageScorings: no visible binding for global variable ‘windowMean’
coverageScorings: no visible binding for global variable ‘windowSD’
coverageScorings: no visible global function definition for ‘.’
coverageScorings: no visible binding for global variable ‘gene_sum’
coverageScorings: no visible binding for global variable ‘fraction’
coverage_random_access_file: no visible binding for global variable
‘genes’
coverage_random_access_file: no visible binding for global variable
‘position’
coverage_random_access_file: no visible binding for global variable
‘frame’
coverage_to_dt: no visible binding for global variable ‘frame’
coverage_to_dt: no visible binding for global variable ‘genes’
coverage_to_dt: no visible binding for global variable ‘position’
detectRibosomeShifts: no visible global function definition for ‘.’
detectRibosomeShifts: no visible binding for global variable ‘size’
detectRibosomeShifts: no visible binding for global variable ‘fraction’
detectRibosomeShifts: no visible binding for global variable ‘pShifted’
detectRibosomeShifts: no visible binding for global variable
‘sum.count’
detectRibosomeShifts: no visible binding for global variable ‘count’
detectRibosomeShifts: no visible binding for global variable ‘genes’
detectRibosomeShifts: no visible binding for global variable
‘frac.score’
entropy: no visible binding for global variable ‘Hx’
entropy: no visible binding for global variable ‘codonSums’
entropy: no visible global function definition for ‘.’
entropy: no visible binding for global variable ‘genes’
fetch_xml_attributes: no visible binding for global variable
‘..to_keep’
filterExtremePeakGenes: no visible binding for global variable ‘count’
filterExtremePeakGenes: no visible binding for global variable
‘median_per_gene’
filterExtremePeakGenes: no visible binding for global variable ‘genes’
filterExtremePeakGenes: no visible global function definition for ‘.’
filterTranscripts: no visible binding for global variable ‘utr5_len’
filterTranscripts: no visible binding for global variable ‘utr3_len’
filter_empty_runs: no visible binding for global variable ‘spots’
findNGSPairs: no visible global function definition for ‘.’
findNGSPairs: no visible binding for global variable ‘forward’
findPeaksPerGene: no visible binding for global variable ‘sum_per_gene’
findPeaksPerGene: no visible binding for global variable ‘count’
findPeaksPerGene: no visible binding for global variable ‘genes’
findPeaksPerGene: no visible binding for global variable
‘mean_per_gene’
findPeaksPerGene: no visible binding for global variable ‘sd_per_gene’
findPeaksPerGene: no visible binding for global variable ‘zscore’
findPeaksPerGene: no visible binding for global variable ‘gene_id’
find_url_ebi_safe: no visible binding for global variable
‘run_accession’
flankPerGroup: no visible global function definition for ‘.’
flankPerGroup: no visible binding for global variable ‘group_name’
floss: no visible binding for global variable ‘ORFGrouping’
floss: no visible binding for global variable ‘widths’
floss: no visible global function definition for ‘.’
floss: no visible binding for global variable ‘CDSGrouping’
floss: no visible binding for global variable ‘fraction.x’
floss: no visible binding for global variable ‘fraction.y’
gSort: no visible binding for global variable ‘grnames’
geneToSymbol: no visible binding for global variable ‘ensembl_gene_id’
geneToSymbol: no visible binding for global variable
‘external_gene_name’
geneToSymbol: no visible binding for global variable
‘ensembl_transcript_id’
geneToSymbol: no visible binding for global variable ‘uniprotswissprot’
getNGenesCoverage: no visible global function definition for ‘.’
getNGenesCoverage: no visible binding for global variable ‘genes’
getNGenesCoverage: no visible binding for global variable ‘fraction’
get_phix_genome: no visible binding for global variable ‘phix.url’
initiationScore: no visible global function definition for ‘.’
initiationScore: no visible binding for global variable ‘dif’
initiationScore: no visible binding for global variable ‘fraction’
initiationScore: no visible binding for global variable ‘genes’
initiationScore: no visible binding for global variable ‘difPer’
install.sratoolkit: no visible binding for global variable ‘osVersion’
isPeriodic: no visible binding for global variable ‘spec’
kozakHeatmap: no visible global function definition for ‘.’
kozakHeatmap: no visible binding for global variable ‘variable’
kozakHeatmap: no visible binding for global variable ‘value’
kozakHeatmap: no visible binding for global variable
‘count_seq_pos_with_count’
kozakHeatmap: no visible binding for global variable ‘median_score’
kozak_IR_ranking: no visible global function definition for ‘.’
kozak_IR_ranking: no visible binding for global variable ‘IR’
kozak_IR_ranking: no visible binding for global variable
‘upstream_kozak_strength’
kozak_IR_ranking: no visible binding for global variable ‘count’
kozak_IR_ranking: no visible binding for global variable ‘mean_IR’
list.genomes: no visible binding for global variable ‘STAR_index’
longestORFs: no visible global function definition for ‘.’
metaWindow: no visible binding for global variable ‘position’
metaWindow: no visible binding for global variable ‘frame’
metadata.autnaming: no visible binding for global variable
‘LIBRARYTYPE’
metadata.autnaming: no visible binding for global variable
‘LibraryStrategy’
orfFrameDistributions : <anonymous>: no visible binding for global
variable ‘fraction’
orfFrameDistributions: no visible binding for global variable ‘percent’
orfFrameDistributions: no visible binding for global variable
‘fraction’
orfFrameDistributions: no visible binding for global variable
‘percent_length’
orfFrameDistributions: no visible global function definition for ‘.’
orfFrameDistributions: no visible binding for global variable
‘best_frame’
orfScore: no visible binding for global variable ‘genes’
orfScore: no visible binding for global variable ‘frame’
orfScore: no visible binding for global variable ‘frame_one_RP’
orfScore: no visible binding for global variable ‘frame_two_RP’
pSitePlot: no visible binding for global variable ‘count’
pSitePlot: no visible binding for global variable ‘frame’
pSitePlot: no visible binding for global variable ‘position’
pcaExperiment: no visible binding for global variable ‘PC1’
pcaExperiment: no visible binding for global variable ‘PC2’
readBam: no visible global function definition for ‘bamWhat<-’
readLengthTable: no visible binding for global variable
‘counts_per_sample’
readLengthTable: no visible binding for global variable
‘perc_of_counts_per_sample’
regionPerReadLength : <anonymous>: no visible binding for global
variable ‘fraction’
remakeTxdbExonIds: no visible global function definition for ‘.’
remakeTxdbExonIds: no visible binding for global variable ‘chr’
removeTxdbExons: no visible binding for global variable ‘exon_rank’
removeTxdbExons: no visible binding for global variable ‘ranks’
ribo_fft: no visible binding for global variable ‘fraction’
ribo_fft_plot: no visible binding for global variable ‘periods’
ribo_fft_plot: no visible binding for global variable ‘amplitude’
rnaNormalize: no visible binding for global variable ‘genes’
rnaNormalize: no visible binding for global variable ‘feature’
scaledWindowPositions: no visible binding for global variable
‘scalingFactor’
scaledWindowPositions: no visible binding for global variable ‘genes’
scaledWindowPositions: no visible binding for global variable
‘position’
scaledWindowPositions: no visible global function definition for ‘.’
scoreSummarizedExperiment: no visible global function definition for
‘rowSums2’
seq_usage: no visible binding for global variable ‘variable’
seq_usage: no visible binding for global variable ‘codon_sum’
seq_usage: no visible global function definition for ‘.’
seq_usage: no visible binding for global variable ‘gene_sum’
seq_usage: no visible binding for global variable
‘N_AA_of_type_per_gene’
seq_usage: no visible binding for global variable ‘as_prob_normalized’
seq_usage: no visible binding for global variable ‘N_total’
seq_usage: no visible binding for global variable ‘N’
seq_usage: no visible binding for global variable ‘mean_txNorm’
seq_usage: no visible binding for global variable ‘sum_txNorm’
seq_usage: no visible binding for global variable ‘dispersion’
seq_usage: no visible binding for global variable ‘dispersion_txNorm’
seq_usage: no visible binding for global variable ‘var_txNorm’
seq_usage: no visible binding for global variable ‘mean_percentage’
seq_usage: no visible binding for global variable ‘mean_txNorm_prob’
seq_usage: no visible binding for global variable
‘mean_txNorm_percentage’
seq_usage: no visible binding for global variable
‘relative_to_max_score’
shiftPlots : <anonymous>: no visible binding for global variable
‘frame’
shiftPlots : <anonymous>: no visible binding for global variable
‘position’
te.plot: no visible global function definition for ‘rowMin’
te.plot: no visible binding for global variable ‘variable’
te.plot: no visible binding for global variable ‘LFC_TE’
te.plot: no visible binding for global variable ‘rfp_log2’
te.plot: no visible binding for global variable ‘rna_log2’
te.plot: no visible binding for global variable ‘rna_log10’
te.table: no visible global function definition for ‘rowMin’
te.table: no visible binding for global variable ‘variable’
te.table: no visible binding for global variable ‘TE_log2’
te.table: no visible binding for global variable ‘rfp_log2’
te.table: no visible binding for global variable ‘rna_log2’
te_rna.plot: no visible binding for global variable ‘subtitle’
te_rna.plot: no visible binding for global variable ‘rna_log10’
te_rna.plot: no visible binding for global variable ‘TE_log2’
topMotif: no visible binding for global variable ‘seq1’
topMotif: no visible binding for global variable ‘seq2’
topMotif: no visible binding for global variable ‘seq3’
topMotif: no visible binding for global variable ‘seq4’
topMotif: no visible binding for global variable ‘seq5’
transcriptWindow: no visible binding for global variable ‘fractions’
transcriptWindow: no visible binding for global variable ‘feature’
windowCoveragePlot: no visible binding for global variable ‘feature’
windowCoveragePlot: no visible binding for global variable ‘fraction’
windowCoveragePlot: no visible binding for global variable
‘fraction_min’
windowCoveragePlot: no visible binding for global variable ‘position’
collapseDuplicatedReads,GAlignmentPairs: no visible global function
definition for ‘.’
collapseDuplicatedReads,GAlignmentPairs: no visible binding for global
variable ‘start1’
collapseDuplicatedReads,GAlignmentPairs: no visible binding for global
variable ‘start2’
collapseDuplicatedReads,GAlignmentPairs: no visible binding for global
variable ‘cigar1’
collapseDuplicatedReads,GAlignmentPairs: no visible binding for global
variable ‘cigar2’
collapseDuplicatedReads,GAlignments: no visible global function
definition for ‘.’
collapseDuplicatedReads,GRanges: no visible binding for global variable
‘size’
collapseDuplicatedReads,GRanges: no visible global function definition
for ‘.’
collapseDuplicatedReads,data.table: no visible global function
definition for ‘.’
design,experiment: no visible binding for global variable ‘..formula’
seqlevels,experiment: no visible binding for global variable ‘df’
show,covRleList: no visible global function definition for ‘head’
Undefined global functions or variables:
. ..formula ..to_keep AA CDS CDSGrouping Cor Hx IR LEADERS LFC LFC_TE
LIBRARYTYPE LibraryStrategy N N_AA_of_type_per_gene N_total
ORFGrouping ORFScores PC1 PC2 RRS RSS Regulation STAR_index
StartCodons StopCodons TE_log2 TOP Transcript Var1 Var2 amplitude
as_prob_normalized bamWhat<- best_frame browseURL chr cigar1 cigar2
codon codonSums codon_sum contrast count countRFP
count_seq_pos_with_count counts_per_sample df dif difPer
disengagementScores dispersion dispersion_txNorm distORFCDS
ensembl_gene_id ensembl_transcript_id entropyRFP exon_rank
external_gene_name feature forward fpkmRFP fpkmRNA frac.score
fraction fraction.x fraction.y fractionLengths fraction_min fractions
frame frame_one_RP frame_two_RP gene_id gene_sum genes grnames
group_name head id inFrameCDS ioScore isOverlappingCds kozak leaders
mRNA meanCounts mean_IR mean_per_gene mean_percentage mean_txNorm
mean_txNorm_percentage mean_txNorm_prob median_per_gene median_score
merged osVersion pShifted perc_of_counts_per_sample percent
percent_length percentage percentage_mrna_aligned
percentage_tx_aligned periods phix.url pick position random rankInTx
ranks ratio_cds_leader ratio_cds_mrna read length
relative_to_max_score rfp rfp_log2 rna rna_log10 rna_log2 rowMin
rowSums2 run_accession sample_id sample_total scalingFactor
sd_per_gene seq1 seq2 seq3 seq4 seq5 seqs size spec spots start1
start2 startCodonCoverage startRegionRelative subtitle sum.count
sum_per_gene sum_txNorm te trailers uniprotswissprot
upstream_kozak_strength utr3_len utr5_len value var_txNorm variable
widths windowMean windowSD zscore
Consider adding
importFrom("base", "length")
importFrom("graphics", "frame")
importFrom("stats", "df")
importFrom("utils", "browseURL", "head", "osVersion")
to your NAMESPACE file.
* checking Rd files ... NOTE
checkRd: (-1) STAR.align.folder.Rd:70: Lost braces in \itemize; meant \describe ?
checkRd: (-1) STAR.align.folder.Rd:71: Lost braces in \itemize; meant \describe ?
checkRd: (-1) STAR.align.folder.Rd:72: Lost braces in \itemize; meant \describe ?
checkRd: (-1) STAR.align.folder.Rd:73: Lost braces in \itemize; meant \describe ?
checkRd: (-1) STAR.align.folder.Rd:74: Lost braces in \itemize; meant \describe ?
checkRd: (-1) STAR.align.folder.Rd:75: Lost braces in \itemize; meant \describe ?
checkRd: (-1) STAR.align.folder.Rd:76: Lost braces in \itemize; meant \describe ?
checkRd: (-1) STAR.align.folder.Rd:77-78: Lost braces in \itemize; meant \describe ?
checkRd: (-1) STAR.align.folder.Rd:101: Lost braces in \itemize; meant \describe ?
checkRd: (-1) STAR.align.folder.Rd:102: Lost braces in \itemize; meant \describe ?
checkRd: (-1) STAR.align.folder.Rd:103: Lost braces in \itemize; meant \describe ?
checkRd: (-1) STAR.align.folder.Rd:113: Lost braces in \itemize; meant \describe ?
checkRd: (-1) STAR.align.folder.Rd:114: Lost braces in \itemize; meant \describe ?
checkRd: (-1) STAR.align.single.Rd:60: Lost braces in \itemize; meant \describe ?
checkRd: (-1) STAR.align.single.Rd:61: Lost braces in \itemize; meant \describe ?
checkRd: (-1) STAR.align.single.Rd:62: Lost braces in \itemize; meant \describe ?
checkRd: (-1) STAR.align.single.Rd:63: Lost braces in \itemize; meant \describe ?
checkRd: (-1) STAR.align.single.Rd:64: Lost braces in \itemize; meant \describe ?
checkRd: (-1) STAR.align.single.Rd:65: Lost braces in \itemize; meant \describe ?
checkRd: (-1) STAR.align.single.Rd:66: Lost braces in \itemize; meant \describe ?
checkRd: (-1) STAR.align.single.Rd:67-68: Lost braces in \itemize; meant \describe ?
checkRd: (-1) STAR.align.single.Rd:91: Lost braces in \itemize; meant \describe ?
checkRd: (-1) STAR.align.single.Rd:92: Lost braces in \itemize; meant \describe ?
checkRd: (-1) STAR.align.single.Rd:93: Lost braces in \itemize; meant \describe ?
checkRd: (-1) STAR.align.single.Rd:103: Lost braces in \itemize; meant \describe ?
checkRd: (-1) STAR.align.single.Rd:104: Lost braces in \itemize; meant \describe ?
checkRd: (-1) codon_usage.Rd:56: Lost braces in \itemize; \value handles \item{}{} directly
checkRd: (-1) codon_usage.Rd:57: Lost braces in \itemize; \value handles \item{}{} directly
checkRd: (-1) codon_usage.Rd:58: Lost braces in \itemize; \value handles \item{}{} directly
checkRd: (-1) codon_usage.Rd:59: Lost braces in \itemize; \value handles \item{}{} directly
checkRd: (-1) codon_usage.Rd:60: Lost braces in \itemize; \value handles \item{}{} directly
checkRd: (-1) codon_usage.Rd:61: Lost braces in \itemize; \value handles \item{}{} directly
checkRd: (-1) codon_usage.Rd:62-63: Lost braces in \itemize; \value handles \item{}{} directly
checkRd: (-1) codon_usage.Rd:65-68: Lost braces in \itemize; \value handles \item{}{} directly
checkRd: (-1) codon_usage.Rd:69: Lost braces in \itemize; \value handles \item{}{} directly
checkRd: (-1) codon_usage.Rd:70: Lost braces in \itemize; \value handles \item{}{} directly
checkRd: (-1) codon_usage.Rd:71: Lost braces in \itemize; \value handles \item{}{} directly
checkRd: (-1) codon_usage_exp.Rd:68: Lost braces in \itemize; \value handles \item{}{} directly
checkRd: (-1) codon_usage_exp.Rd:69: Lost braces in \itemize; \value handles \item{}{} directly
checkRd: (-1) codon_usage_exp.Rd:70: Lost braces in \itemize; \value handles \item{}{} directly
checkRd: (-1) codon_usage_exp.Rd:71: Lost braces in \itemize; \value handles \item{}{} directly
checkRd: (-1) codon_usage_exp.Rd:72: Lost braces in \itemize; \value handles \item{}{} directly
checkRd: (-1) codon_usage_exp.Rd:73: Lost braces in \itemize; \value handles \item{}{} directly
checkRd: (-1) codon_usage_exp.Rd:74-75: Lost braces in \itemize; \value handles \item{}{} directly
checkRd: (-1) codon_usage_exp.Rd:77-80: Lost braces in \itemize; \value handles \item{}{} directly
checkRd: (-1) codon_usage_exp.Rd:81: Lost braces in \itemize; \value handles \item{}{} directly
checkRd: (-1) codon_usage_exp.Rd:82: Lost braces in \itemize; \value handles \item{}{} directly
checkRd: (-1) codon_usage_exp.Rd:83: Lost braces in \itemize; \value handles \item{}{} directly
checkRd: (-1) computeFeatures.Rd:76: Lost braces in \itemize; meant \describe ?
checkRd: (-1) computeFeatures.Rd:77: Lost braces in \itemize; meant \describe ?
checkRd: (-1) computeFeatures.Rd:78: Lost braces in \itemize; meant \describe ?
checkRd: (-1) computeFeatures.Rd:79: Lost braces in \itemize; meant \describe ?
checkRd: (-1) computeFeatures.Rd:80: Lost braces in \itemize; meant \describe ?
checkRd: (-1) computeFeatures.Rd:81: Lost braces in \itemize; meant \describe ?
checkRd: (-1) computeFeatures.Rd:82: Lost braces in \itemize; meant \describe ?
checkRd: (-1) computeFeatures.Rd:83: Lost braces in \itemize; meant \describe ?
checkRd: (-1) computeFeatures.Rd:84: Lost braces in \itemize; meant \describe ?
checkRd: (-1) computeFeatures.Rd:85: Lost braces in \itemize; meant \describe ?
checkRd: (-1) computeFeatures.Rd:86: Lost braces in \itemize; meant \describe ?
checkRd: (-1) computeFeatures.Rd:87: Lost braces in \itemize; meant \describe ?
checkRd: (-1) computeFeatures.Rd:88: Lost braces in \itemize; meant \describe ?
checkRd: (-1) computeFeatures.Rd:89: Lost braces in \itemize; meant \describe ?
checkRd: (-1) computeFeatures.Rd:93: Lost braces in \itemize; meant \describe ?
checkRd: (-1) computeFeatures.Rd:94: Lost braces in \itemize; meant \describe ?
checkRd: (-1) computeFeatures.Rd:95: Lost braces in \itemize; meant \describe ?
checkRd: (-1) computeFeatures.Rd:96: Lost braces in \itemize; meant \describe ?
checkRd: (-1) computeFeatures.Rd:97: Lost braces in \itemize; meant \describe ?
checkRd: (-1) computeFeatures.Rd:101: Lost braces in \itemize; meant \describe ?
checkRd: (-1) computeFeatures.Rd:102: Lost braces in \itemize; meant \describe ?
checkRd: (-1) computeFeatures.Rd:103: Lost braces in \itemize; meant \describe ?
checkRd: (-1) computeFeatures.Rd:104: Lost braces in \itemize; meant \describe ?
checkRd: (-1) coverageHeatMap.Rd:64: Lost braces in \itemize; meant \describe ?
checkRd: (-1) coverageHeatMap.Rd:65: Lost braces in \itemize; meant \describe ?
checkRd: (-1) coverageHeatMap.Rd:66: Lost braces in \itemize; meant \describe ?
checkRd: (-1) coverageHeatMap.Rd:80: Lost braces in \itemize; meant \describe ?
checkRd: (-1) coverageHeatMap.Rd:81: Lost braces in \itemize; meant \describe ?
checkRd: (-1) coverageHeatMap.Rd:82: Lost braces in \itemize; meant \describe ?
checkRd: (-1) coverageHeatMap.Rd:83: Lost braces in \itemize; meant \describe ?
checkRd: (-1) detect_ribo_orfs.Rd:36: Lost braces in \itemize; meant \describe ?
checkRd: (-1) detect_ribo_orfs.Rd:37: Lost braces in \itemize; meant \describe ?
checkRd: (-1) detect_ribo_orfs.Rd:38: Lost braces in \itemize; meant \describe ?
checkRd: (-1) detect_ribo_orfs.Rd:39: Lost braces in \itemize; meant \describe ?
checkRd: (-1) detect_ribo_orfs.Rd:40: Lost braces in \itemize; meant \describe ?
checkRd: (-1) detect_ribo_orfs.Rd:41: Lost braces in \itemize; meant \describe ?
checkRd: (-1) detect_ribo_orfs.Rd:42: Lost braces in \itemize; meant \describe ?
checkRd: (-1) detect_ribo_orfs.Rd:43: Lost braces in \itemize; meant \describe ?
checkRd: (-1) detect_ribo_orfs.Rd:44: Lost braces in \itemize; meant \describe ?
checkRd: (-1) experiment-class.Rd:16-17: Lost braces in \itemize; meant \describe ?
checkRd: (-1) experiment-class.Rd:18-19: Lost braces in \itemize; meant \describe ?
checkRd: (-1) experiment-class.Rd:20: Lost braces in \itemize; meant \describe ?
checkRd: (-1) experiment-class.Rd:21-22: Lost braces in \itemize; meant \describe ?
checkRd: (-1) experiment-class.Rd:23-27: Lost braces in \itemize; meant \describe ?
checkRd: (-1) experiment-class.Rd:28-29: Lost braces in \itemize; meant \describe ?
checkRd: (-1) readBam.Rd:13: Lost braces in \itemize; meant \describe ?
checkRd: (-1) readBam.Rd:14-16: Lost braces in \itemize; meant \describe ?
checkRd: (-1) readBam.Rd:17-20: Lost braces in \itemize; meant \describe ?
* checking Rd metadata ... OK
* checking Rd cross-references ... OK
* checking for missing documentation entries ... OK
* checking for code/documentation mismatches ... OK
* checking Rd \usage sections ... OK
* checking Rd contents ... OK
* checking for unstated dependencies in examples ... OK
* checking line endings in C/C++/Fortran sources/headers ... OK
* checking compiled code ... NOTE
Note: information on .o files is not available
* checking files in ‘vignettes’ ... OK
* checking examples ... OK
Examples with CPU (user + system) or elapsed time > 5s
user system elapsed
codon_usage_exp 9.925 0.392 10.403
detect_ribo_orfs 6.889 0.395 7.222
findUORFs_exp 5.586 0.045 5.642
shiftFootprintsByExperiment 1.073 0.044 5.777
* checking for unstated dependencies in ‘tests’ ... OK
* checking tests ...
Running ‘testthat.R’
OK
* checking for unstated dependencies in vignettes ... OK
* checking package vignettes ... OK
* checking running R code from vignettes ... SKIPPED
* checking re-building of vignette outputs ... SKIPPED
* checking PDF version of manual ... OK
* DONE
Status: 5 NOTEs
See
‘/Users/biocbuild/bbs-3.19-bioc/meat/ORFik.Rcheck/00check.log’
for details.
ORFik.Rcheck/00install.out
##############################################################################
##############################################################################
###
### Running command:
###
### /Library/Frameworks/R.framework/Resources/bin/R CMD INSTALL ORFik
###
##############################################################################
##############################################################################
* installing to library ‘/Library/Frameworks/R.framework/Versions/4.4-x86_64/Resources/library’
* installing *source* package ‘ORFik’ ...
** using staged installation
** libs
using C++ compiler: ‘Apple clang version 14.0.0 (clang-1400.0.29.202)’
using SDK: ‘MacOSX11.3.sdk’
clang++ -arch x86_64 -std=gnu++17 -I"/Library/Frameworks/R.framework/Resources/include" -DNDEBUG -I'/Library/Frameworks/R.framework/Versions/4.4-x86_64/Resources/library/Rcpp/include' -I/opt/R/x86_64/include -fPIC -falign-functions=64 -Wall -g -O2 -c RcppExports.cpp -o RcppExports.o
clang++ -arch x86_64 -std=gnu++17 -I"/Library/Frameworks/R.framework/Resources/include" -DNDEBUG -I'/Library/Frameworks/R.framework/Versions/4.4-x86_64/Resources/library/Rcpp/include' -I/opt/R/x86_64/include -fPIC -falign-functions=64 -Wall -g -O2 -c findORFsHelpers.cpp -o findORFsHelpers.o
clang++ -arch x86_64 -std=gnu++17 -I"/Library/Frameworks/R.framework/Resources/include" -DNDEBUG -I'/Library/Frameworks/R.framework/Versions/4.4-x86_64/Resources/library/Rcpp/include' -I/opt/R/x86_64/include -fPIC -falign-functions=64 -Wall -g -O2 -c findOrfs.cpp -o findOrfs.o
clang++ -arch x86_64 -std=gnu++17 -I"/Library/Frameworks/R.framework/Resources/include" -DNDEBUG -I'/Library/Frameworks/R.framework/Versions/4.4-x86_64/Resources/library/Rcpp/include' -I/opt/R/x86_64/include -fPIC -falign-functions=64 -Wall -g -O2 -c findOrfsFasta.cpp -o findOrfsFasta.o
clang++ -arch x86_64 -std=gnu++17 -I"/Library/Frameworks/R.framework/Resources/include" -DNDEBUG -I'/Library/Frameworks/R.framework/Versions/4.4-x86_64/Resources/library/Rcpp/include' -I/opt/R/x86_64/include -fPIC -falign-functions=64 -Wall -g -O2 -c pmapFromTranscripts.cpp -o pmapFromTranscripts.o
clang++ -arch x86_64 -std=gnu++17 -I"/Library/Frameworks/R.framework/Resources/include" -DNDEBUG -I'/Library/Frameworks/R.framework/Versions/4.4-x86_64/Resources/library/Rcpp/include' -I/opt/R/x86_64/include -fPIC -falign-functions=64 -Wall -g -O2 -c pmapToTranscripts.cpp -o pmapToTranscripts.o
pmapToTranscripts.cpp:22:7: warning: variable 'currentWidth' set but not used [-Wunused-but-set-variable]
int currentWidth = 0;
^
pmapToTranscripts.cpp:68:7: warning: variable 'currentWidth' set but not used [-Wunused-but-set-variable]
int currentWidth = 0;
^
2 warnings generated.
clang++ -arch x86_64 -std=gnu++17 -dynamiclib -Wl,-headerpad_max_install_names -undefined dynamic_lookup -L/Library/Frameworks/R.framework/Resources/lib -L/opt/R/x86_64/lib -o ORFik.so RcppExports.o findORFsHelpers.o findOrfs.o findOrfsFasta.o pmapFromTranscripts.o pmapToTranscripts.o -F/Library/Frameworks/R.framework/.. -framework R -Wl,-framework -Wl,CoreFoundation
installing to /Library/Frameworks/R.framework/Versions/4.4-x86_64/Resources/library/00LOCK-ORFik/00new/ORFik/libs
** R
** inst
** byte-compile and prepare package for lazy loading
Creating a new generic function for ‘symbols’ in package ‘ORFik’
** help
*** installing help indices
** building package indices
** installing vignettes
** testing if installed package can be loaded from temporary location
** checking absolute paths in shared objects and dynamic libraries
** testing if installed package can be loaded from final location
** testing if installed package keeps a record of temporary installation path
* DONE (ORFik)
ORFik.Rcheck/tests/testthat.Rout
R version 4.4.0 (2024-04-24) -- "Puppy Cup"
Copyright (C) 2024 The R Foundation for Statistical Computing
Platform: x86_64-apple-darwin20
R is free software and comes with ABSOLUTELY NO WARRANTY.
You are welcome to redistribute it under certain conditions.
Type 'license()' or 'licence()' for distribution details.
R is a collaborative project with many contributors.
Type 'contributors()' for more information and
'citation()' on how to cite R or R packages in publications.
Type 'demo()' for some demos, 'help()' for on-line help, or
'help.start()' for an HTML browser interface to help.
Type 'q()' to quit R.
> library(testthat)
> library(ORFik)
Loading required package: IRanges
Loading required package: BiocGenerics
Attaching package: 'BiocGenerics'
The following objects are masked from 'package:stats':
IQR, mad, sd, var, xtabs
The following objects are masked from 'package:base':
Filter, Find, Map, Position, Reduce, anyDuplicated, aperm, append,
as.data.frame, basename, cbind, colnames, dirname, do.call,
duplicated, eval, evalq, get, grep, grepl, intersect, is.unsorted,
lapply, mapply, match, mget, order, paste, pmax, pmax.int, pmin,
pmin.int, rank, rbind, rownames, sapply, setdiff, table, tapply,
union, unique, unsplit, which.max, which.min
Loading required package: S4Vectors
Loading required package: stats4
Attaching package: 'S4Vectors'
The following object is masked from 'package:utils':
findMatches
The following objects are masked from 'package:base':
I, expand.grid, unname
Loading required package: GenomicRanges
Loading required package: GenomeInfoDb
Loading required package: GenomicAlignments
Loading required package: SummarizedExperiment
Loading required package: MatrixGenerics
Loading required package: matrixStats
Attaching package: 'MatrixGenerics'
The following objects are masked from 'package:matrixStats':
colAlls, colAnyNAs, colAnys, colAvgsPerRowSet, colCollapse,
colCounts, colCummaxs, colCummins, colCumprods, colCumsums,
colDiffs, colIQRDiffs, colIQRs, colLogSumExps, colMadDiffs,
colMads, colMaxs, colMeans2, colMedians, colMins, colOrderStats,
colProds, colQuantiles, colRanges, colRanks, colSdDiffs, colSds,
colSums2, colTabulates, colVarDiffs, colVars, colWeightedMads,
colWeightedMeans, colWeightedMedians, colWeightedSds,
colWeightedVars, rowAlls, rowAnyNAs, rowAnys, rowAvgsPerColSet,
rowCollapse, rowCounts, rowCummaxs, rowCummins, rowCumprods,
rowCumsums, rowDiffs, rowIQRDiffs, rowIQRs, rowLogSumExps,
rowMadDiffs, rowMads, rowMaxs, rowMeans2, rowMedians, rowMins,
rowOrderStats, rowProds, rowQuantiles, rowRanges, rowRanks,
rowSdDiffs, rowSds, rowSums2, rowTabulates, rowVarDiffs, rowVars,
rowWeightedMads, rowWeightedMeans, rowWeightedMedians,
rowWeightedSds, rowWeightedVars
Loading required package: Biobase
Welcome to Bioconductor
Vignettes contain introductory material; view with
'browseVignettes()'. To cite Bioconductor, see
'citation("Biobase")', and for packages 'citation("pkgname")'.
Attaching package: 'Biobase'
The following object is masked from 'package:MatrixGenerics':
rowMedians
The following objects are masked from 'package:matrixStats':
anyMissing, rowMedians
Loading required package: Biostrings
Loading required package: XVector
Attaching package: 'Biostrings'
The following object is masked from 'package:base':
strsplit
Loading required package: Rsamtools
Attaching package: 'ORFik'
The following object is masked from 'package:graphics':
symbols
>
> test_check("ORFik")
Error in x$.self$finalize() : attempt to apply non-function
Error in x$.self$finalize() : attempt to apply non-function
In addition: Warning message:
call dbDisconnect() when finished working with a connection
Error in x$.self$finalize() : attempt to apply non-function
Error in x$.self$finalize() : attempt to apply non-function
[ FAIL 0 | WARN 0 | SKIP 0 | PASS 418 ]
>
> proc.time()
user system elapsed
106.016 5.357 111.442
ORFik.Rcheck/ORFik-Ex.timings
| name | user | system | elapsed | |
| DEG.analysis | 0.587 | 0.007 | 0.595 | |
| DEG.plot.static | 0.605 | 0.012 | 0.619 | |
| DEG_model | 1.348 | 0.008 | 1.361 | |
| DEG_model_results | 0.380 | 0.003 | 0.383 | |
| DEG_model_simple | 0.443 | 0.023 | 0.467 | |
| DTEG.analysis | 0.435 | 0.038 | 0.475 | |
| DTEG.plot | 0.431 | 0.038 | 0.469 | |
| ORFik.template.experiment | 0.464 | 0.012 | 0.478 | |
| ORFik.template.experiment.zf | 0.075 | 0.002 | 0.077 | |
| ORFikQC | 0.468 | 0.005 | 0.473 | |
| QCreport | 0.422 | 0.004 | 0.427 | |
| QCstats | 0.487 | 0.004 | 0.493 | |
| QCstats.plot | 0.448 | 0.003 | 0.452 | |
| RiboQC.plot | 0.440 | 0.003 | 0.444 | |
| STAR.align.folder | 0.000 | 0.000 | 0.001 | |
| STAR.align.single | 0 | 0 | 0 | |
| STAR.index | 0.000 | 0.001 | 0.001 | |
| STAR.install | 0 | 0 | 0 | |
| STAR.remove.crashed.genome | 0 | 0 | 0 | |
| TOP.Motif.ecdf | 0.000 | 0.000 | 0.001 | |
| artificial.orfs | 0.504 | 0.004 | 0.510 | |
| asTX | 0.803 | 0.010 | 0.817 | |
| assignTSSByCage | 0.002 | 0.001 | 0.004 | |
| bamVarName | 0.868 | 0.005 | 0.875 | |
| browseSRA | 0 | 0 | 0 | |
| codon_usage | 3.755 | 0.048 | 3.816 | |
| codon_usage_exp | 9.925 | 0.392 | 10.403 | |
| codon_usage_plot | 3.773 | 0.394 | 4.102 | |
| collapse.by.scores | 0.130 | 0.008 | 0.138 | |
| collapse.fastq | 0.000 | 0.000 | 0.001 | |
| collapseDuplicatedReads-GAlignmentPairs-method | 0.080 | 0.006 | 0.086 | |
| collapseDuplicatedReads-GAlignments-method | 0.032 | 0.002 | 0.035 | |
| collapseDuplicatedReads-GRanges-method | 0.033 | 0.002 | 0.036 | |
| collapseDuplicatedReads-data.table-method | 0.036 | 0.002 | 0.038 | |
| collapseDuplicatedReads | 0.037 | 0.002 | 0.040 | |
| combn.pairs | 0.504 | 0.012 | 0.518 | |
| computeFeatures | 4.871 | 0.098 | 4.994 | |
| computeFeaturesCage | 0 | 0 | 0 | |
| config | 0.001 | 0.000 | 0.000 | |
| config.exper | 0.000 | 0.000 | 0.001 | |
| config.save | 0 | 0 | 0 | |
| config_file | 0.151 | 0.010 | 0.163 | |
| convertLibs | 0.390 | 0.002 | 0.394 | |
| convertToOneBasedRanges | 0.102 | 0.001 | 0.103 | |
| convert_bam_to_ofst | 0.185 | 0.013 | 0.201 | |
| convert_to_bigWig | 0.996 | 0.024 | 1.033 | |
| convert_to_covRle | 0.650 | 0.066 | 0.838 | |
| convert_to_covRleList | 0.841 | 0.011 | 0.853 | |
| countOverlapsW | 0.063 | 0.001 | 0.064 | |
| countTable | 0.456 | 0.004 | 0.461 | |
| countTable_regions | 0.486 | 0.004 | 0.492 | |
| covRle | 0.054 | 0.001 | 0.055 | |
| covRleFromGR | 0.080 | 0.001 | 0.081 | |
| covRleList | 0.013 | 0.000 | 0.014 | |
| coverageHeatMap | 1.474 | 0.042 | 1.585 | |
| coveragePerTiling | 0.830 | 0.003 | 0.835 | |
| coverageScorings | 0.012 | 0.001 | 0.012 | |
| create.experiment | 0.461 | 0.004 | 0.465 | |
| defineTrailer | 0.217 | 0.002 | 0.218 | |
| design-experiment-method | 0.518 | 0.003 | 0.523 | |
| detectRibosomeShifts | 0.001 | 0.001 | 0.002 | |
| detect_ribo_orfs | 6.889 | 0.395 | 7.222 | |
| disengagementScore | 0.485 | 0.006 | 0.492 | |
| distToCds | 0.249 | 0.001 | 0.250 | |
| distToTSS | 0.166 | 0.001 | 0.166 | |
| download.SRA | 0 | 0 | 0 | |
| download.SRA.metadata | 0.159 | 0.013 | 1.023 | |
| entropy | 1.717 | 0.010 | 1.731 | |
| experiment-class | 0.494 | 0.008 | 0.503 | |
| export.bed12 | 0.026 | 0.001 | 0.026 | |
| export.bigWig | 0.033 | 0.001 | 0.033 | |
| export.fstwig | 0.046 | 0.000 | 0.046 | |
| export.ofst-GAlignmentPairs-method | 0.054 | 0.000 | 0.055 | |
| export.ofst-GAlignments-method | 0.050 | 0.000 | 0.051 | |
| export.ofst-GRanges-method | 0.049 | 0.000 | 0.050 | |
| export.ofst | 0.049 | 0.000 | 0.050 | |
| export.wiggle | 0.028 | 0.000 | 0.029 | |
| extendLeaders | 1.276 | 0.024 | 1.310 | |
| extendTrailers | 0.711 | 0.014 | 0.727 | |
| extract_run_id | 0.001 | 0.001 | 0.001 | |
| filepath | 0.532 | 0.005 | 0.538 | |
| filterTranscripts | 1.410 | 0.013 | 1.425 | |
| fimport | 0.393 | 0.027 | 0.425 | |
| findFa | 0.005 | 0.001 | 0.006 | |
| findMapORFs | 0.677 | 0.004 | 0.682 | |
| findORFs | 0.163 | 0.002 | 0.166 | |
| findORFsFasta | 0.085 | 0.005 | 0.090 | |
| findPeaksPerGene | 1.229 | 0.016 | 1.247 | |
| findUORFs | 0.001 | 0.000 | 0.001 | |
| findUORFs_exp | 5.586 | 0.045 | 5.642 | |
| find_url_ebi | 0.038 | 0.007 | 1.968 | |
| firstEndPerGroup | 0.059 | 0.001 | 0.060 | |
| firstExonPerGroup | 0.055 | 0.001 | 0.056 | |
| firstStartPerGroup | 0.048 | 0.001 | 0.049 | |
| fix_malformed_gff | 0 | 0 | 0 | |
| flankPerGroup | 0.100 | 0.001 | 0.102 | |
| floss | 0.312 | 0.003 | 0.315 | |
| fpkm | 0.139 | 0.001 | 0.140 | |
| fractionLength | 0.083 | 0.001 | 0.084 | |
| fread.bed | 0.037 | 0.011 | 0.062 | |
| gcContent | 0.454 | 0.003 | 0.458 | |
| geneToSymbol | 0.000 | 0.000 | 0.001 | |
| getGenomeAndAnnotation | 0.001 | 0.001 | 0.000 | |
| get_bioproject_candidates | 0 | 0 | 0 | |
| get_genome_fasta | 0.000 | 0.000 | 0.001 | |
| get_genome_gtf | 0.000 | 0.000 | 0.001 | |
| get_noncoding_rna | 0.000 | 0.001 | 0.000 | |
| get_phix_genome | 0.000 | 0.001 | 0.001 | |
| get_silva_rRNA | 0 | 0 | 0 | |
| groupGRangesBy | 0.050 | 0.000 | 0.051 | |
| groupings | 0.032 | 0.000 | 0.033 | |
| heatMapRegion | 0.419 | 0.002 | 0.422 | |
| import.ofst | 0.068 | 0.000 | 0.069 | |
| initiationScore | 0.952 | 0.003 | 0.955 | |
| insideOutsideORF | 0.996 | 0.021 | 1.056 | |
| install.fastp | 0 | 0 | 0 | |
| install.sratoolkit | 0 | 0 | 0 | |
| isInFrame | 0.281 | 0.002 | 0.284 | |
| isOverlapping | 0.203 | 0.001 | 0.204 | |
| kozakHeatmap | 0 | 0 | 0 | |
| kozakSequenceScore | 0.600 | 0.007 | 0.608 | |
| lastExonEndPerGroup | 0.05 | 0.00 | 0.05 | |
| lastExonPerGroup | 0.053 | 0.000 | 0.054 | |
| lastExonStartPerGroup | 0.048 | 0.000 | 0.048 | |
| libraryTypes | 0.465 | 0.004 | 0.469 | |
| list.experiments | 0.332 | 0.003 | 0.336 | |
| list.genomes | 0.001 | 0.000 | 0.001 | |
| loadRegion | 1.515 | 0.079 | 1.666 | |
| loadRegions | 0.573 | 0.014 | 0.587 | |
| loadTranscriptType | 0 | 0 | 0 | |
| loadTxdb | 0.108 | 0.006 | 0.114 | |
| longestORFs | 0.108 | 0.001 | 0.109 | |
| makeORFNames | 0.098 | 0.002 | 0.101 | |
| makeSummarizedExperimentFromBam | 0.505 | 0.003 | 0.510 | |
| makeTxdbFromGenome | 0 | 0 | 0 | |
| mergeFastq | 0.000 | 0.001 | 0.001 | |
| mergeLibs | 0.342 | 0.003 | 0.345 | |
| metaWindow | 0.192 | 0.001 | 0.193 | |
| model.matrix-experiment-method | 0.481 | 0.010 | 0.511 | |
| numExonsPerGroup | 0.033 | 0.000 | 0.033 | |
| optimizedTranscriptLengths | 1.067 | 0.014 | 1.083 | |
| orfFrameDistributions | 1.403 | 0.606 | 1.960 | |
| orfScore | 0.931 | 0.124 | 1.059 | |
| organism-experiment-method | 0.455 | 0.029 | 0.485 | |
| outputLibs | 1.226 | 0.366 | 1.303 | |
| pSitePlot | 0.405 | 0.048 | 0.454 | |
| pcaExperiment | 1.351 | 0.101 | 1.457 | |
| pmapFromTranscriptF | 0.112 | 0.004 | 0.115 | |
| pmapToTranscriptF | 0.907 | 0.015 | 0.922 | |
| rankOrder | 0.090 | 0.001 | 0.091 | |
| read.experiment | 0.523 | 0.006 | 0.531 | |
| readBam | 0.194 | 0.018 | 0.214 | |
| readWidths | 0.048 | 0.001 | 0.048 | |
| reassignTSSbyCage | 0.688 | 0.016 | 0.705 | |
| reassignTxDbByCage | 0 | 0 | 0 | |
| reduceKeepAttr | 0.107 | 0.001 | 0.108 | |
| regionPerReadLength | 0.408 | 0.265 | 1.062 | |
| remove.experiments | 0.810 | 0.276 | 0.667 | |
| riboORFs | 0.573 | 0.054 | 0.629 | |
| riboORFsFolder | 0.508 | 0.029 | 0.537 | |
| ribo_fft | 2.898 | 0.084 | 2.986 | |
| ribo_fft_plot | 2.909 | 0.033 | 2.948 | |
| ribosomeReleaseScore | 0.258 | 0.002 | 0.260 | |
| ribosomeStallingScore | 0.364 | 0.002 | 0.367 | |
| save.experiment | 0.451 | 0.004 | 0.455 | |
| scaledWindowPositions | 0.372 | 0.004 | 0.378 | |
| seqnamesPerGroup | 0.074 | 0.001 | 0.076 | |
| shiftFootprints | 0.003 | 0.001 | 0.004 | |
| shiftFootprintsByExperiment | 1.073 | 0.044 | 5.777 | |
| shiftPlots | 3.869 | 0.992 | 0.141 | |
| shifts.load | 0.524 | 0.084 | 0.609 | |
| simpleLibs | 0.357 | 0.026 | 0.382 | |
| sortPerGroup | 0.221 | 0.019 | 0.240 | |
| startCodons | 0.425 | 0.026 | 0.451 | |
| startDefinition | 0.001 | 0.000 | 0.000 | |
| startRegion | 0.536 | 0.006 | 0.543 | |
| startRegionCoverage | 0.367 | 0.003 | 0.370 | |
| startSites | 0.324 | 0.002 | 0.327 | |
| stopCodons | 0.579 | 0.005 | 0.585 | |
| stopDefinition | 0.001 | 0.001 | 0.000 | |
| stopRegion | 0.565 | 0.003 | 0.569 | |
| stopSites | 0.288 | 0.002 | 0.290 | |
| strandBool | 0.011 | 0.001 | 0.012 | |
| strandPerGroup | 0.064 | 0.002 | 0.065 | |
| subsetToFrame | 0.023 | 0.001 | 0.024 | |
| te.plot | 0.000 | 0.001 | 0.000 | |
| te.table | 0.390 | 0.004 | 0.393 | |
| te_rna.plot | 0.382 | 0.004 | 0.386 | |
| tile1 | 0.223 | 0.003 | 0.227 | |
| topMotif | 0.000 | 0.001 | 0.001 | |
| transcriptWindow | 1.085 | 0.020 | 1.107 | |
| translationalEff | 0.126 | 0.001 | 0.127 | |
| trimming.table | 0 | 0 | 0 | |
| txNames | 0.031 | 0.001 | 0.032 | |
| txNamesToGeneNames | 0.856 | 0.009 | 0.866 | |
| uORFSearchSpace | 0.624 | 0.012 | 0.636 | |
| uniqueGroups | 0.128 | 0.003 | 0.132 | |
| uniqueOrder | 0.197 | 0.001 | 0.198 | |
| unlistGrl | 0.055 | 0.001 | 0.056 | |
| widthPerGroup | 0.057 | 0.000 | 0.057 | |
| windowCoveragePlot | 0.681 | 0.012 | 0.695 | |
| windowPerGroup | 0.469 | 0.003 | 0.473 | |
| windowPerReadLength | 0.943 | 0.004 | 0.949 | |