| Back to Multiple platform build/check report for BioC 3.19: simplified long |
|
This page was generated on 2024-05-09 11:41:10 -0400 (Thu, 09 May 2024).
| Hostname | OS | Arch (*) | R version | Installed pkgs |
|---|---|---|---|---|
| nebbiolo1 | Linux (Ubuntu 22.04.3 LTS) | x86_64 | 4.4.0 (2024-04-24) -- "Puppy Cup" | 4748 |
| palomino3 | Windows Server 2022 Datacenter | x64 | 4.4.0 (2024-04-24 ucrt) -- "Puppy Cup" | 4484 |
| lconway | macOS 12.7.1 Monterey | x86_64 | 4.4.0 (2024-04-24) -- "Puppy Cup" | 4514 |
| kunpeng2 | Linux (openEuler 22.03 LTS-SP1) | aarch64 | 4.4.0 beta (2024-04-15 r86425) -- "Puppy Cup" | 4480 |
| Click on any hostname to see more info about the system (e.g. compilers) (*) as reported by 'uname -p', except on Windows and Mac OS X | ||||
| Package 1401/2300 | Hostname | OS / Arch | INSTALL | BUILD | CHECK | BUILD BIN | ||||||||
| NanoMethViz 3.0.1 (landing page) Shian Su
| nebbiolo1 | Linux (Ubuntu 22.04.3 LTS) / x86_64 | OK | OK | OK | |||||||||
| palomino3 | Windows Server 2022 Datacenter / x64 | OK | OK | OK | OK | |||||||||
| lconway | macOS 12.7.1 Monterey / x86_64 | OK | OK | OK | OK | |||||||||
| kunpeng2 | Linux (openEuler 22.03 LTS-SP1) / aarch64 | OK | OK | OK | ||||||||||
| kjohnson3 | macOS 13.6.5 Ventura / arm64 | see weekly results here | ||||||||||||
|
To the developers/maintainers of the NanoMethViz package: - Allow up to 24 hours (and sometimes 48 hours) for your latest push to git@git.bioconductor.org:packages/NanoMethViz.git to reflect on this report. See Troubleshooting Build Report for more information. - Use the following Renviron settings to reproduce errors and warnings. - If 'R CMD check' started to fail recently on the Linux builder(s) over a missing dependency, add the missing dependency to 'Suggests:' in your DESCRIPTION file. See Renviron.bioc for more information. - See Martin Grigorov's blog post for how to debug Linux ARM64 related issues on a x86_64 host. |
| Package: NanoMethViz |
| Version: 3.0.1 |
| Command: /home/biocbuild/R/R-beta-2024-04-15_r86425/bin/R CMD check --install=check:NanoMethViz.install-out.txt --library=/home/biocbuild/R/R-beta-2024-04-15_r86425/site-library --no-vignettes --timings NanoMethViz_3.0.1.tar.gz |
| StartedAt: 2024-05-09 09:58:21 -0000 (Thu, 09 May 2024) |
| EndedAt: 2024-05-09 10:10:31 -0000 (Thu, 09 May 2024) |
| EllapsedTime: 729.5 seconds |
| RetCode: 0 |
| Status: OK |
| CheckDir: NanoMethViz.Rcheck |
| Warnings: 0 |
##############################################################################
##############################################################################
###
### Running command:
###
### /home/biocbuild/R/R-beta-2024-04-15_r86425/bin/R CMD check --install=check:NanoMethViz.install-out.txt --library=/home/biocbuild/R/R-beta-2024-04-15_r86425/site-library --no-vignettes --timings NanoMethViz_3.0.1.tar.gz
###
##############################################################################
##############################################################################
* using log directory ‘/home/biocbuild/bbs-3.19-bioc/meat/NanoMethViz.Rcheck’
* using R version 4.4.0 beta (2024-04-15 r86425)
* using platform: aarch64-unknown-linux-gnu
* R was compiled by
gcc (GCC) 10.3.1
GNU Fortran (GCC) 10.3.1
* running under: openEuler 22.03 (LTS-SP1)
* using session charset: UTF-8
* using option ‘--no-vignettes’
* checking for file ‘NanoMethViz/DESCRIPTION’ ... OK
* checking extension type ... Package
* this is package ‘NanoMethViz’ version ‘3.0.1’
* package encoding: UTF-8
* checking package namespace information ... OK
* checking package dependencies ... OK
* checking if this is a source package ... OK
* checking if there is a namespace ... OK
* checking for hidden files and directories ... OK
* checking for portable file names ... OK
* checking for sufficient/correct file permissions ... OK
* checking whether package ‘NanoMethViz’ can be installed ... OK
* used C++ compiler: ‘g++ (GCC) 10.3.1’
* checking C++ specification ... OK
Not all R platforms support C++20
* checking installed package size ... NOTE
installed size is 9.4Mb
sub-directories of 1Mb or more:
libs 4.3Mb
* checking package directory ... OK
* checking ‘build’ directory ... OK
* checking DESCRIPTION meta-information ... OK
* checking top-level files ... OK
* checking for left-over files ... OK
* checking index information ... OK
* checking package subdirectories ... OK
* checking code files for non-ASCII characters ... OK
* checking R files for syntax errors ... OK
* checking whether the package can be loaded ... OK
* checking whether the package can be loaded with stated dependencies ... OK
* checking whether the package can be unloaded cleanly ... OK
* checking whether the namespace can be loaded with stated dependencies ... OK
* checking whether the namespace can be unloaded cleanly ... OK
* checking loading without being on the library search path ... OK
* checking whether startup messages can be suppressed ... OK
* checking dependencies in R code ... OK
* checking S3 generic/method consistency ... OK
* checking replacement functions ... OK
* checking foreign function calls ... OK
* checking R code for possible problems ... NOTE
read_methy_lines: no visible global function definition for
‘read.delim’
Undefined global functions or variables:
read.delim
Consider adding
importFrom("utils", "read.delim")
to your NAMESPACE file.
* checking Rd files ... OK
* checking Rd metadata ... OK
* checking Rd cross-references ... OK
* checking for missing documentation entries ... OK
* checking for code/documentation mismatches ... OK
* checking Rd \usage sections ... OK
* checking Rd contents ... OK
* checking for unstated dependencies in examples ... OK
* checking line endings in C/C++/Fortran sources/headers ... OK
* checking line endings in Makefiles ... OK
* checking compilation flags in Makevars ... OK
* checking for GNU extensions in Makefiles ... OK
* checking for portable use of $(BLAS_LIBS) and $(LAPACK_LIBS) ... OK
* checking use of PKG_*FLAGS in Makefiles ... OK
* checking compiled code ... NOTE
Note: information on .o files is not available
* checking files in ‘vignettes’ ... OK
* checking examples ... OK
Examples with CPU (user + system) or elapsed time > 5s
user system elapsed
get_exons 56.337 1.670 58.379
get_exons_mus_musculus 20.347 0.319 20.701
get_exons_homo_sapiens 16.752 0.227 17.009
plot_gene 12.547 0.100 12.670
plot_gene_heatmap 11.058 0.055 11.134
plot_region 9.056 0.072 9.148
plot_grange 9.082 0.036 9.134
plot_region_heatmap 7.606 0.040 7.659
plot_grange_heatmap 7.554 0.044 7.613
plot_agg_regions 7.355 0.072 7.440
cluster_regions 5.392 0.124 5.526
NanoMethResult-class 4.867 0.144 5.023
* checking for unstated dependencies in ‘tests’ ... OK
* checking tests ...
Running ‘testthat.R’
OK
* checking for unstated dependencies in vignettes ... OK
* checking package vignettes ... OK
* checking running R code from vignettes ... SKIPPED
* checking re-building of vignette outputs ... SKIPPED
* checking PDF version of manual ... OK
* DONE
Status: 3 NOTEs
See
‘/home/biocbuild/bbs-3.19-bioc/meat/NanoMethViz.Rcheck/00check.log’
for details.
NanoMethViz.Rcheck/00install.out
############################################################################## ############################################################################## ### ### Running command: ### ### /home/biocbuild/R/R-beta-2024-04-15_r86425/bin/R CMD INSTALL NanoMethViz ### ############################################################################## ############################################################################## * installing to library ‘/home/biocbuild/R/R-beta-2024-04-15_r86425/site-library’ * installing *source* package ‘NanoMethViz’ ... ** using staged installation ** libs using C++ compiler: ‘g++ (GCC) 10.3.1’ using C++20 g++ -std=gnu++20 -I"/home/biocbuild/R/R-beta-2024-04-15_r86425/include" -DNDEBUG -I'/home/biocbuild/R/R-beta-2024-04-15_r86425/site-library/Rcpp/include' -I/usr/local/include -fPIC -g -O2 -c RcppExports.cpp -o RcppExports.o g++ -std=gnu++20 -I"/home/biocbuild/R/R-beta-2024-04-15_r86425/include" -DNDEBUG -I'/home/biocbuild/R/R-beta-2024-04-15_r86425/site-library/Rcpp/include' -I/usr/local/include -fPIC -g -O2 -c convert_methy_to_dss.cpp -o convert_methy_to_dss.o g++ -std=gnu++20 -I"/home/biocbuild/R/R-beta-2024-04-15_r86425/include" -DNDEBUG -I'/home/biocbuild/R/R-beta-2024-04-15_r86425/site-library/Rcpp/include' -I/usr/local/include -fPIC -g -O2 -c count_cg.cpp -o count_cg.o g++ -std=gnu++20 -I"/home/biocbuild/R/R-beta-2024-04-15_r86425/include" -DNDEBUG -I'/home/biocbuild/R/R-beta-2024-04-15_r86425/site-library/Rcpp/include' -I/usr/local/include -fPIC -g -O2 -c modbam.cpp -o modbam.o g++ -std=gnu++20 -I"/home/biocbuild/R/R-beta-2024-04-15_r86425/include" -DNDEBUG -I'/home/biocbuild/R/R-beta-2024-04-15_r86425/site-library/Rcpp/include' -I/usr/local/include -fPIC -g -O2 -c utils.cpp -o utils.o g++ -std=gnu++20 -shared -L/home/biocbuild/R/R-beta-2024-04-15_r86425/lib -L/usr/local/lib -o NanoMethViz.so RcppExports.o convert_methy_to_dss.o count_cg.o modbam.o utils.o -lz -L/home/biocbuild/R/R-beta-2024-04-15_r86425/lib -lR installing to /home/biocbuild/R/R-beta-2024-04-15_r86425/site-library/00LOCK-NanoMethViz/00new/NanoMethViz/libs ** R ** inst ** byte-compile and prepare package for lazy loading ** help *** installing help indices ** building package indices ** installing vignettes ** testing if installed package can be loaded from temporary location ** checking absolute paths in shared objects and dynamic libraries ** testing if installed package can be loaded from final location ** testing if installed package keeps a record of temporary installation path * DONE (NanoMethViz)
NanoMethViz.Rcheck/tests/testthat.Rout
R version 4.4.0 beta (2024-04-15 r86425) -- "Puppy Cup"
Copyright (C) 2024 The R Foundation for Statistical Computing
Platform: aarch64-unknown-linux-gnu
R is free software and comes with ABSOLUTELY NO WARRANTY.
You are welcome to redistribute it under certain conditions.
Type 'license()' or 'licence()' for distribution details.
R is a collaborative project with many contributors.
Type 'contributors()' for more information and
'citation()' on how to cite R or R packages in publications.
Type 'demo()' for some demos, 'help()' for on-line help, or
'help.start()' for an HTML browser interface to help.
Type 'q()' to quit R.
> library(testthat)
> library(NanoMethViz)
Loading required package: ggplot2
>
> test_check("NanoMethViz")
Starting 2 test processes
[ FAIL 0 | WARN 0 | SKIP 0 | PASS 579 ]
>
> proc.time()
user system elapsed
212.377 8.491 150.958
NanoMethViz.Rcheck/NanoMethViz-Ex.timings
| name | user | system | elapsed | |
| NanoMethResult-class | 4.867 | 0.144 | 5.023 | |
| bsseq_to_edger | 0.715 | 0.008 | 0.730 | |
| bsseq_to_log_methy_ratio | 1.272 | 0.016 | 1.290 | |
| cluster_regions | 5.392 | 0.124 | 5.526 | |
| create_tabix_file | 0.234 | 0.003 | 0.240 | |
| exons_to_genes | 0.376 | 0.000 | 0.377 | |
| filter_methy | 2.533 | 0.100 | 2.636 | |
| get_example_exons_mus_musculus | 0.334 | 0.012 | 0.346 | |
| get_exons | 56.337 | 1.670 | 58.379 | |
| get_exons_homo_sapiens | 16.752 | 0.227 | 17.009 | |
| get_exons_mus_musculus | 20.347 | 0.319 | 20.701 | |
| load_example_modbamresult | 0.338 | 0.000 | 0.339 | |
| load_example_nanomethresult | 0.338 | 0.004 | 0.343 | |
| methy | 0.003 | 0.000 | 0.003 | |
| methy_col_names | 0.001 | 0.000 | 0.000 | |
| methy_to_bsseq | 1.116 | 0.040 | 1.158 | |
| methy_to_edger | 1.380 | 0.016 | 1.398 | |
| modbam_to_tabix | 0.601 | 0.190 | 0.682 | |
| plot_agg_genes | 2.460 | 0.012 | 2.476 | |
| plot_agg_regions | 7.355 | 0.072 | 7.440 | |
| plot_gene | 12.547 | 0.100 | 12.670 | |
| plot_gene_heatmap | 11.058 | 0.055 | 11.134 | |
| plot_grange | 9.082 | 0.036 | 9.134 | |
| plot_grange_heatmap | 7.554 | 0.044 | 7.613 | |
| plot_mds | 1.693 | 0.020 | 1.715 | |
| plot_pca | 1.982 | 0.020 | 2.006 | |
| plot_region | 9.056 | 0.072 | 9.148 | |
| plot_region_heatmap | 7.606 | 0.040 | 7.659 | |
| plot_violin | 3.104 | 0.040 | 3.150 | |
| query_methy | 0.487 | 0.008 | 0.496 | |
| region_methy_stats | 1.398 | 0.000 | 1.400 | |