| Back to Multiple platform build/check report for BioC 3.19: simplified long |
|
This page was generated on 2024-06-11 14:42 -0400 (Tue, 11 Jun 2024).
| Hostname | OS | Arch (*) | R version | Installed pkgs |
|---|---|---|---|---|
| nebbiolo1 | Linux (Ubuntu 22.04.3 LTS) | x86_64 | 4.4.0 (2024-04-24) -- "Puppy Cup" | 4757 |
| palomino3 | Windows Server 2022 Datacenter | x64 | 4.4.0 (2024-04-24 ucrt) -- "Puppy Cup" | 4491 |
| lconway | macOS 12.7.1 Monterey | x86_64 | 4.4.0 (2024-04-24) -- "Puppy Cup" | 4522 |
| kjohnson3 | macOS 13.6.5 Ventura | arm64 | 4.4.0 (2024-04-24) -- "Puppy Cup" | 4468 |
| Click on any hostname to see more info about the system (e.g. compilers) (*) as reported by 'uname -p', except on Windows and Mac OS X | ||||
| Package 1359/2300 | Hostname | OS / Arch | INSTALL | BUILD | CHECK | BUILD BIN | ||||||||
| MsQuality 1.4.0 (landing page) Thomas Naake
| nebbiolo1 | Linux (Ubuntu 22.04.3 LTS) / x86_64 | OK | OK | OK | |||||||||
| palomino3 | Windows Server 2022 Datacenter / x64 | OK | OK | TIMEOUT | OK | |||||||||
| lconway | macOS 12.7.1 Monterey / x86_64 | OK | OK | OK | OK | |||||||||
| kjohnson3 | macOS 13.6.5 Ventura / arm64 | OK | OK | OK | OK | |||||||||
|
To the developers/maintainers of the MsQuality package: - Allow up to 24 hours (and sometimes 48 hours) for your latest push to git@git.bioconductor.org:packages/MsQuality.git to reflect on this report. See Troubleshooting Build Report for more information. - Use the following Renviron settings to reproduce errors and warnings. - If 'R CMD check' started to fail recently on the Linux builder(s) over a missing dependency, add the missing dependency to 'Suggests:' in your DESCRIPTION file. See Renviron.bioc for more information. |
| Package: MsQuality |
| Version: 1.4.0 |
| Command: /Library/Frameworks/R.framework/Resources/bin/R CMD check --install=check:MsQuality.install-out.txt --library=/Library/Frameworks/R.framework/Resources/library --no-vignettes --timings MsQuality_1.4.0.tar.gz |
| StartedAt: 2024-06-09 21:45:01 -0400 (Sun, 09 Jun 2024) |
| EndedAt: 2024-06-09 21:51:31 -0400 (Sun, 09 Jun 2024) |
| EllapsedTime: 390.4 seconds |
| RetCode: 0 |
| Status: OK |
| CheckDir: MsQuality.Rcheck |
| Warnings: 0 |
##############################################################################
##############################################################################
###
### Running command:
###
### /Library/Frameworks/R.framework/Resources/bin/R CMD check --install=check:MsQuality.install-out.txt --library=/Library/Frameworks/R.framework/Resources/library --no-vignettes --timings MsQuality_1.4.0.tar.gz
###
##############################################################################
##############################################################################
* using log directory ‘/Users/biocbuild/bbs-3.19-bioc/meat/MsQuality.Rcheck’
* using R version 4.4.0 (2024-04-24)
* using platform: x86_64-apple-darwin20
* R was compiled by
Apple clang version 14.0.0 (clang-1400.0.29.202)
GNU Fortran (GCC) 12.2.0
* running under: macOS Monterey 12.7.1
* using session charset: UTF-8
* using option ‘--no-vignettes’
* checking for file ‘MsQuality/DESCRIPTION’ ... OK
* checking extension type ... Package
* this is package ‘MsQuality’ version ‘1.4.0’
* package encoding: UTF-8
* checking package namespace information ... OK
* checking package dependencies ... OK
* checking if this is a source package ... OK
* checking if there is a namespace ... OK
* checking for hidden files and directories ... OK
* checking for portable file names ... OK
* checking for sufficient/correct file permissions ... OK
* checking whether package ‘MsQuality’ can be installed ... OK
* checking installed package size ... OK
* checking package directory ... OK
* checking ‘build’ directory ... OK
* checking DESCRIPTION meta-information ... OK
* checking top-level files ... OK
* checking for left-over files ... OK
* checking index information ... OK
* checking package subdirectories ... OK
* checking code files for non-ASCII characters ... OK
* checking R files for syntax errors ... OK
* checking whether the package can be loaded ... OK
* checking whether the package can be loaded with stated dependencies ... OK
* checking whether the package can be unloaded cleanly ... OK
* checking whether the namespace can be loaded with stated dependencies ... OK
* checking whether the namespace can be unloaded cleanly ... OK
* checking dependencies in R code ... OK
* checking S3 generic/method consistency ... OK
* checking replacement functions ... OK
* checking foreign function calls ... OK
* checking R code for possible problems ... OK
* checking Rd files ... OK
* checking Rd metadata ... OK
* checking Rd cross-references ... OK
* checking for missing documentation entries ... OK
* checking for code/documentation mismatches ... OK
* checking Rd \usage sections ... OK
* checking Rd contents ... OK
* checking for unstated dependencies in examples ... OK
* checking contents of ‘data’ directory ... OK
* checking data for non-ASCII characters ... OK
* checking data for ASCII and uncompressed saves ... OK
* checking files in ‘vignettes’ ... OK
* checking examples ... OK
Examples with CPU (user + system) or elapsed time > 5s
user system elapsed
calculateMetrics 5.593 0.955 6.352
calculateMetricsFromMsExperiment 4.579 1.868 3.653
calculateMetricsFromOneSampleSpectra 4.065 1.208 2.627
* checking for unstated dependencies in ‘tests’ ... OK
* checking tests ...
Running ‘testthat.R’
OK
* checking for unstated dependencies in vignettes ... OK
* checking package vignettes ... OK
* checking running R code from vignettes ... SKIPPED
* checking re-building of vignette outputs ... SKIPPED
* checking PDF version of manual ... OK
* DONE
Status: OK
MsQuality.Rcheck/00install.out
############################################################################## ############################################################################## ### ### Running command: ### ### /Library/Frameworks/R.framework/Resources/bin/R CMD INSTALL MsQuality ### ############################################################################## ############################################################################## * installing to library ‘/Library/Frameworks/R.framework/Versions/4.4-x86_64/Resources/library’ * installing *source* package ‘MsQuality’ ... ** using staged installation ** R ** data ** inst ** byte-compile and prepare package for lazy loading ** help *** installing help indices ** building package indices ** installing vignettes ** testing if installed package can be loaded from temporary location ** testing if installed package can be loaded from final location ** testing if installed package keeps a record of temporary installation path * DONE (MsQuality)
MsQuality.Rcheck/tests/testthat.Rout
R version 4.4.0 (2024-04-24) -- "Puppy Cup"
Copyright (C) 2024 The R Foundation for Statistical Computing
Platform: x86_64-apple-darwin20
R is free software and comes with ABSOLUTELY NO WARRANTY.
You are welcome to redistribute it under certain conditions.
Type 'license()' or 'licence()' for distribution details.
R is a collaborative project with many contributors.
Type 'contributors()' for more information and
'citation()' on how to cite R or R packages in publications.
Type 'demo()' for some demos, 'help()' for on-line help, or
'help.start()' for an HTML browser interface to help.
Type 'q()' to quit R.
> library("testthat")
> library("MsQuality")
> library("Spectra")
Loading required package: S4Vectors
Loading required package: stats4
Loading required package: BiocGenerics
Attaching package: 'BiocGenerics'
The following objects are masked from 'package:stats':
IQR, mad, sd, var, xtabs
The following objects are masked from 'package:base':
Filter, Find, Map, Position, Reduce, anyDuplicated, aperm, append,
as.data.frame, basename, cbind, colnames, dirname, do.call,
duplicated, eval, evalq, get, grep, grepl, intersect, is.unsorted,
lapply, mapply, match, mget, order, paste, pmax, pmax.int, pmin,
pmin.int, rank, rbind, rownames, sapply, setdiff, table, tapply,
union, unique, unsplit, which.max, which.min
Attaching package: 'S4Vectors'
The following object is masked from 'package:utils':
findMatches
The following objects are masked from 'package:base':
I, expand.grid, unname
Loading required package: BiocParallel
Loading required package: ProtGenerics
Attaching package: 'ProtGenerics'
The following object is masked from 'package:stats':
smooth
> library("MsExperiment")
> library("msdata")
> library("S4Vectors")
>
> test_check("MsQuality")
trying URL 'https://api.github.com/repos/HUPO-PSI/psi-ms-CV/releases/latest'
Content type 'application/json; charset=utf-8' length 7182 bytes
==================================================
downloaded 7182 bytes
trying URL 'https://github.com/HUPO-PSI/psi-ms-CV/releases/download/v4.1.155/psi-ms.obo'
Content type 'application/octet-stream' length 985519 bytes (962 KB)
==================================================
downloaded 962 KB
[ FAIL 0 | WARN 0 | SKIP 0 | PASS 866 ]
>
> proc.time()
user system elapsed
110.757 30.863 100.679
MsQuality.Rcheck/MsQuality-Ex.timings
| name | user | system | elapsed | |
| MsQuality-package | 0.000 | 0.001 | 0.000 | |
| areaUnderTic | 0.210 | 0.017 | 0.227 | |
| areaUnderTicRtQuantiles | 0.265 | 0.014 | 0.278 | |
| calculateMetrics | 5.593 | 0.955 | 6.352 | |
| calculateMetricsFromMsExperiment | 4.579 | 1.868 | 3.653 | |
| calculateMetricsFromOneSampleSpectra | 4.065 | 1.208 | 2.627 | |
| calculateMetricsFromSpectra | 2.329 | 0.929 | 2.990 | |
| chromatographyDuration | 1.957 | 0.681 | 0.257 | |
| dot-rtOrderSpectra | 0.168 | 0.021 | 0.192 | |
| extentIdentifiedPrecursorIntensity | 0.152 | 0.013 | 0.167 | |
| meanCharge | 0.153 | 0.015 | 0.170 | |
| medianCharge | 0.119 | 0.009 | 0.128 | |
| medianPrecursorMz | 0.153 | 0.012 | 0.166 | |
| medianTicOfRtRange | 0.154 | 0.014 | 0.190 | |
| medianTicRtIqr | 0.128 | 0.010 | 0.139 | |
| msSignal10xChange | 0.135 | 0.010 | 0.145 | |
| mzAcquisitionRange | 0.134 | 0.011 | 0.146 | |
| numberEmptyScans | 0.158 | 0.012 | 0.171 | |
| numberSpectra | 0.149 | 0.013 | 0.161 | |
| plotMetric | 2.833 | 1.121 | 2.982 | |
| plotMetricTibble | 2.519 | 1.020 | 2.051 | |
| precursorIntensityMean | 0.154 | 0.018 | 0.172 | |
| precursorIntensityQuartiles | 0.152 | 0.012 | 0.164 | |
| precursorIntensityRange | 0.140 | 0.012 | 0.154 | |
| precursorIntensitySd | 0.127 | 0.011 | 0.138 | |
| qualityMetrics | 0.152 | 0.012 | 0.165 | |
| ratioCharge1over2 | 0.152 | 0.012 | 0.164 | |
| ratioCharge3over2 | 0.153 | 0.012 | 0.165 | |
| ratioCharge4over2 | 0.159 | 0.012 | 0.171 | |
| rtAcquisitionRange | 0.141 | 0.010 | 0.152 | |
| rtIqr | 0.157 | 0.011 | 0.169 | |
| rtIqrRate | 0.154 | 0.012 | 0.166 | |
| rtOverMsQuarters | 0.133 | 0.009 | 0.142 | |
| shinyMsQuality | 1.392 | 0.632 | 1.870 | |
| ticQuartersRtFraction | 1.101 | 0.450 | 0.241 | |
| ticQuartileToQuartileLogRatio | 0.149 | 0.015 | 0.163 | |
| transformIntoMzQC | 0.383 | 0.232 | 0.479 | |