Back to Multiple platform build/check report for BioC 3.19:   simplified   long
ABCDEFGHIJKL[M]NOPQRSTUVWXYZ

This page was generated on 2024-10-18 20:38 -0400 (Fri, 18 Oct 2024).

HostnameOSArch (*)R versionInstalled pkgs
nebbiolo1Linux (Ubuntu 22.04.3 LTS)x86_644.4.1 (2024-06-14) -- "Race for Your Life" 4763
palomino7Windows Server 2022 Datacenterx644.4.1 (2024-06-14 ucrt) -- "Race for Your Life" 4500
merida1macOS 12.7.5 Montereyx86_644.4.1 (2024-06-14) -- "Race for Your Life" 4530
kjohnson1macOS 13.6.6 Venturaarm644.4.1 (2024-06-14) -- "Race for Your Life" 4480
Click on any hostname to see more info about the system (e.g. compilers)      (*) as reported by 'uname -p', except on Windows and Mac OS X

Package 1343/2300HostnameOS / ArchINSTALLBUILDCHECKBUILD BIN
MsBackendRawFileReader 1.10.0  (landing page)
Christian Panse
Snapshot Date: 2024-10-16 14:00 -0400 (Wed, 16 Oct 2024)
git_url: https://git.bioconductor.org/packages/MsBackendRawFileReader
git_branch: RELEASE_3_19
git_last_commit: 20a8ce8
git_last_commit_date: 2024-04-30 11:38:05 -0400 (Tue, 30 Apr 2024)
nebbiolo1Linux (Ubuntu 22.04.3 LTS) / x86_64  OK    OK    OK  UNNEEDED, same version is already published
palomino7Windows Server 2022 Datacenter / x64  OK    OK    OK    OK  UNNEEDED, same version is already published
merida1macOS 12.7.5 Monterey / x86_64  OK    OK    OK    OK  UNNEEDED, same version is already published
kjohnson1macOS 13.6.6 Ventura / arm64  OK    OK    OK    OK  UNNEEDED, same version is already published


CHECK results for MsBackendRawFileReader on nebbiolo1

To the developers/maintainers of the MsBackendRawFileReader package:
- Allow up to 24 hours (and sometimes 48 hours) for your latest push to git@git.bioconductor.org:packages/MsBackendRawFileReader.git to reflect on this report. See Troubleshooting Build Report for more information.
- Use the following Renviron settings to reproduce errors and warnings.
- If 'R CMD check' started to fail recently on the Linux builder(s) over a missing dependency, add the missing dependency to 'Suggests:' in your DESCRIPTION file. See Renviron.bioc for more information.

raw results


Summary

Package: MsBackendRawFileReader
Version: 1.10.0
Command: /home/biocbuild/bbs-3.19-bioc/R/bin/R CMD check --install=check:MsBackendRawFileReader.install-out.txt --library=/home/biocbuild/bbs-3.19-bioc/R/site-library --timings MsBackendRawFileReader_1.10.0.tar.gz
StartedAt: 2024-10-17 02:46:41 -0400 (Thu, 17 Oct 2024)
EndedAt: 2024-10-17 02:51:49 -0400 (Thu, 17 Oct 2024)
EllapsedTime: 307.6 seconds
RetCode: 0
Status:   OK  
CheckDir: MsBackendRawFileReader.Rcheck
Warnings: 0

Command output

##############################################################################
##############################################################################
###
### Running command:
###
###   /home/biocbuild/bbs-3.19-bioc/R/bin/R CMD check --install=check:MsBackendRawFileReader.install-out.txt --library=/home/biocbuild/bbs-3.19-bioc/R/site-library --timings MsBackendRawFileReader_1.10.0.tar.gz
###
##############################################################################
##############################################################################


* using log directory ‘/home/biocbuild/bbs-3.19-bioc/meat/MsBackendRawFileReader.Rcheck’
* using R version 4.4.1 (2024-06-14)
* using platform: x86_64-pc-linux-gnu
* R was compiled by
    gcc (Ubuntu 11.4.0-1ubuntu1~22.04) 11.4.0
    GNU Fortran (Ubuntu 11.4.0-1ubuntu1~22.04) 11.4.0
* running under: Ubuntu 22.04.5 LTS
* using session charset: UTF-8
* checking for file ‘MsBackendRawFileReader/DESCRIPTION’ ... OK
* checking extension type ... Package
* this is package ‘MsBackendRawFileReader’ version ‘1.10.0’
* package encoding: UTF-8
* checking package namespace information ... OK
* checking package dependencies ... OK
* checking if this is a source package ... OK
* checking if there is a namespace ... OK
* checking for hidden files and directories ... OK
* checking for portable file names ... OK
* checking for sufficient/correct file permissions ... OK
* checking whether package ‘MsBackendRawFileReader’ can be installed ... OK
* checking installed package size ... OK
* checking package directory ... OK
* checking ‘build’ directory ... OK
* checking DESCRIPTION meta-information ... OK
* checking top-level files ... OK
* checking for left-over files ... OK
* checking index information ... OK
* checking package subdirectories ... OK
* checking code files for non-ASCII characters ... OK
* checking R files for syntax errors ... OK
* checking whether the package can be loaded ... OK
* checking whether the package can be loaded with stated dependencies ... OK
* checking whether the package can be unloaded cleanly ... OK
* checking whether the namespace can be loaded with stated dependencies ... OK
* checking whether the namespace can be unloaded cleanly ... OK
* checking loading without being on the library search path ... OK
* checking whether startup messages can be suppressed ... OK
* checking dependencies in R code ... OK
* checking S3 generic/method consistency ... OK
* checking replacement functions ... OK
* checking foreign function calls ... OK
* checking R code for possible problems ... NOTE
filterScan,MsBackendRawFileReader : <anonymous>: no visible global
  function definition for ‘scanIndex’
peaksData,MsBackendRawFileReader: no visible global function definition
  for ‘scanIndex’
Undefined global functions or variables:
  scanIndex
* checking Rd files ... OK
* checking Rd metadata ... OK
* checking Rd cross-references ... OK
* checking for missing documentation entries ... OK
* checking for code/documentation mismatches ... OK
* checking Rd \usage sections ... OK
* checking Rd contents ... OK
* checking for unstated dependencies in examples ... OK
* checking files in ‘vignettes’ ... OK
* checking examples ... OK
Examples with CPU (user + system) or elapsed time > 5s
                         user system elapsed
ioBenchmark            66.609  4.589  13.038
MsBackendRawFileReader  5.407  1.140   5.885
* checking for unstated dependencies in ‘tests’ ... OK
* checking tests ...
  Running ‘testthat.R’
 OK
* checking for unstated dependencies in vignettes ... OK
* checking package vignettes ... OK
* checking re-building of vignette outputs ... OK
* checking PDF version of manual ... OK
* DONE

Status: 1 NOTE
See
  ‘/home/biocbuild/bbs-3.19-bioc/meat/MsBackendRawFileReader.Rcheck/00check.log’
for details.


Installation output

MsBackendRawFileReader.Rcheck/00install.out

##############################################################################
##############################################################################
###
### Running command:
###
###   /home/biocbuild/bbs-3.19-bioc/R/bin/R CMD INSTALL MsBackendRawFileReader
###
##############################################################################
##############################################################################


* installing to library ‘/home/biocbuild/bbs-3.19-bioc/R/site-library’
* installing *source* package ‘MsBackendRawFileReader’ ...
** using staged installation
** R
** inst
** byte-compile and prepare package for lazy loading
** help
*** installing help indices
** building package indices
** installing vignettes
** testing if installed package can be loaded from temporary location
** testing if installed package can be loaded from final location
** testing if installed package keeps a record of temporary installation path
* DONE (MsBackendRawFileReader)

Tests output

MsBackendRawFileReader.Rcheck/tests/testthat.Rout


R version 4.4.1 (2024-06-14) -- "Race for Your Life"
Copyright (C) 2024 The R Foundation for Statistical Computing
Platform: x86_64-pc-linux-gnu

R is free software and comes with ABSOLUTELY NO WARRANTY.
You are welcome to redistribute it under certain conditions.
Type 'license()' or 'licence()' for distribution details.

R is a collaborative project with many contributors.
Type 'contributors()' for more information and
'citation()' on how to cite R or R packages in publications.

Type 'demo()' for some demos, 'help()' for on-line help, or
'help.start()' for an HTML browser interface to help.
Type 'q()' to quit R.

> library("testthat")
> library("MsBackendRawFileReader")
Loading required package: Spectra
Loading required package: S4Vectors
Loading required package: stats4
Loading required package: BiocGenerics

Attaching package: 'BiocGenerics'

The following objects are masked from 'package:stats':

    IQR, mad, sd, var, xtabs

The following objects are masked from 'package:base':

    Filter, Find, Map, Position, Reduce, anyDuplicated, aperm, append,
    as.data.frame, basename, cbind, colnames, dirname, do.call,
    duplicated, eval, evalq, get, grep, grepl, intersect, is.unsorted,
    lapply, mapply, match, mget, order, paste, pmax, pmax.int, pmin,
    pmin.int, rank, rbind, rownames, sapply, setdiff, table, tapply,
    union, unique, unsplit, which.max, which.min


Attaching package: 'S4Vectors'

The following object is masked from 'package:utils':

    findMatches

The following objects are masked from 'package:base':

    I, expand.grid, unname

Loading required package: BiocParallel
Loading required package: ProtGenerics

Attaching package: 'ProtGenerics'

The following object is masked from 'package:stats':

    smooth

> library("Spectra")
> 
> 
> sample_raw_file <- file.path(system.file(package = "rawrr"),
+                                 'extdata', 'sample.raw')
> 
> sample_mzXML_file <- file.path(path.package(package = 'MsBackendRawFileReader'),
+                                 'extdata', 'sample.mzXML')
> 
> 
> sample_raw <-  backendInitialize(MsBackendRawFileReader::MsBackendRawFileReader(), files = sample_raw_file)
> 
> 
> #sample_mzr <-  backendInitialize(MsBackendMzR(), files = sample_mzXML_file)
> 
> 
> mgf_file <- file.path(system.file(package = "MsBackendRawFileReader"),
+                              'extdata', '3159619b11ed_4590_9594.mgf')
> 
> 
> rv <- lapply(1:2, function(x){
+   file.copy(from = sample_raw_file, to = tempfile(fileext='.raw'))})
> 
> 
> register(SnowParam(workers = 1, type = "SOCK") , default = TRUE); 
> sample_raw_2 <- backendInitialize(MsBackendRawFileReader(),
+     files = file.path(tempdir(),
+          list.files(path = tempdir(), pattern = 'raw$')))
> 
> 
> test_check("MsBackendRawFileReader")
[ FAIL 0 | WARN 1 | SKIP 2 | PASS 21 ]

══ Skipped tests (2) ═══════════════════════════════════════════════════════════
• isFALSE(file.exists(sample_mzXML_file)) is TRUE (1):
  'test_MsBackendMzR_MsBackendRawFileReader.R:1:1'
• isFALSE(require(MsBackendRawMgf)) is TRUE (1): 'test_top_n_mgf.R:1:1'

[ FAIL 0 | WARN 1 | SKIP 2 | PASS 21 ]
> 
> 
> be <- Spectra::backendInitialize(MsBackendRawFileReader::MsBackendRawFileReader(),
+                                  files = c(sample_raw_file))
> 
> ## Run the MsBackend spectra variable test suite
> test_suite <- system.file("test_backends", "test_MsBackend",
+                           package = "Spectra")
> 
> #res <- test_file(paste0(test_suite, "/test_spectra_variables.R"),
> #                 reporter = check_reporter(), stop_on_failure = TRUE)
> 
> 
> ## Run the whole suite.
> res <- test_dir(test_suite, stop_on_failure = TRUE)
✔ | F W  S  OK | Context

⠏ |          0 | peaks_variables                                                
⠙ |          2 | peaks_variables                                                
⠸ |          4 | peaks_variables                                                
✔ |          4 | peaks_variables [4.1s]

⠏ |          0 | spectra_subsetting                                             
⠋ |          1 | spectra_subsetting                                             
⠇ |         19 | spectra_subsetting                                             
⠸ |         34 | spectra_subsetting                                             
⠇ |         49 | spectra_subsetting                                             
⠸ |         64 | spectra_subsetting                                             
⠇ |         79 | spectra_subsetting                                             
⠼ |         95 | spectra_subsetting                                             
⠴ |        106 | spectra_subsetting                                             
⠋ |        121 | spectra_subsetting                                             
⠴ |        136 | spectra_subsetting                                             
⠧ |        148 | spectra_subsetting                                             
⠹ |        163 | spectra_subsetting                                             
⠧ |        178 | spectra_subsetting                                             
⠹ |        193 | spectra_subsetting                                             
⠧ |        208 | spectra_subsetting                                             
⠙ |        222 | spectra_subsetting                                             
⠧ |        238 | spectra_subsetting                                             
⠹ |        253 | spectra_subsetting                                             
⠋ |        271 | spectra_subsetting                                             
⠴ |        286 | spectra_subsetting                                             
⠋ |        301 | spectra_subsetting                                             
⠦ |        317 | spectra_subsetting                                             
⠋ |        331 | spectra_subsetting                                             
⠦ |        347 | spectra_subsetting                                             
⠋ |        361 | spectra_subsetting                                             
⠇ |        379 | spectra_subsetting                                             
⠸ |        394 | spectra_subsetting                                             
⠇ |        409 | spectra_subsetting                                             
⠼ |        425 | spectra_subsetting                                             
⠦ |        437 | spectra_subsetting                                             
⠸ |        454 | spectra_subsetting                                             
⠧ |        468 | spectra_subsetting                                             
⠹ |        483 | spectra_subsetting                                             
⠇ |        499 | spectra_subsetting                                             
⠸ |        514 | spectra_subsetting                                             
⠏ |        530 | spectra_subsetting                                             
⠸ |        544 | spectra_subsetting                                             
⠋ |        561 | spectra_subsetting                                             
⠸ |        574 | spectra_subsetting                                             
⠴ |        586 | spectra_subsetting                                             
⠋ |        601 | spectra_subsetting                                             
⠸ |        614 | spectra_subsetting                                             
⠏ |        630 | spectra_subsetting                                             
⠸ |        644 | spectra_subsetting                                             
⠧ |        658 | spectra_subsetting                                             
⠼ |        675 | spectra_subsetting                                             
⠧ |        688 | spectra_subsetting                                             
⠴ |        706 | spectra_subsetting                                             
⠇ |        719 | spectra_subsetting                                             
⠹ |        733 | spectra_subsetting                                             
⠏ |        750 | spectra_subsetting                                             
⠹ |        763 | spectra_subsetting                                             
⠇ |        779 | spectra_subsetting                                             
⠹ |        793 | spectra_subsetting                                             
⠏ |        810 | spectra_subsetting                                             
⠼ |        825 | spectra_subsetting                                             
⠧ |        838 | spectra_subsetting                                             
⠹ |        853 | spectra_subsetting                                             
⠧ |        868 | spectra_subsetting                                             
⠼ |        885 | spectra_subsetting                                             
⠧ |        898 | spectra_subsetting                                             
⠹ |        913 | spectra_subsetting                                             
⠏ |        930 | spectra_subsetting                                             
⠹ |        943 | spectra_subsetting                                             
⠋ |        961 | spectra_subsetting                                             
⠴ |        976 | spectra_subsetting                                             
⠸ |        994 | spectra_subsetting                                             
⠇ |        1009 | spectra_subsetting                                            
⠼ |        1025 | spectra_subsetting                                            
⠏ |        1040 | spectra_subsetting                                            
⠸ |        1054 | spectra_subsetting                                            
⠇ |        1069 | spectra_subsetting                                            
⠸ |        1084 | spectra_subsetting                                            
⠙ |        1102 | spectra_subsetting                                            
⠦ |        1117 | spectra_subsetting                                            
⠙ |        1132 | spectra_subsetting                                            
⠦ |        1147 | spectra_subsetting                                            
⠙ |        1162 | spectra_subsetting                                            
⠧ |        1178 | spectra_subsetting                                            
⠙ |        1192 | spectra_subsetting                                            
⠦ |        1207 | spectra_subsetting                                            
⠇ |        1219 | spectra_subsetting                                            
⠙ |        1232 | spectra_subsetting                                            
⠦ |        1247 | spectra_subsetting                                            
⠋ |        1261 | spectra_subsetting                                            
⠧ |        1278 | spectra_subsetting                                            
⠙ |        1292 | spectra_subsetting                                            
⠴ |        1306 | spectra_subsetting                                            
⠙ |        1322 | spectra_subsetting                                            
⠴ |        1336 | spectra_subsetting                                            
⠹ |        1353 | spectra_subsetting                                            
⠴ |        1366 | spectra_subsetting                                            
⠋ |        1381 | spectra_subsetting                                            
⠦ |        1397 | spectra_subsetting                                            
⠋ |        1411 | spectra_subsetting                                            
⠦ |        1427 | spectra_subsetting                                            
⠋ |        1441 | spectra_subsetting                                            
⠴ |        1456 | spectra_subsetting                                            
⠋ |        1471 | spectra_subsetting                                            
⠴ |        1486 | spectra_subsetting                                            
⠙ |        1502 | spectra_subsetting                                            
⠴ |        1516 | spectra_subsetting                                            
⠙ |        1532 | spectra_subsetting                                            
⠴ |        1546 | spectra_subsetting                                            
⠙ |        1562 | spectra_subsetting                                            
⠴ |        1576 | spectra_subsetting                                            
⠋ |        1591 | spectra_subsetting                                            
⠴ |        1606 | spectra_subsetting                                            
⠇ |        1619 | spectra_subsetting                                            
⠹ |        1633 | spectra_subsetting                                            
⠧ |        1648 | spectra_subsetting                                            
⠹ |        1663 | spectra_subsetting                                            
⠧ |        1678 | spectra_subsetting                                            
⠏ |        1690 | spectra_subsetting                                            
⠼ |        1705 | spectra_subsetting                                            
⠏ |        1720 | spectra_subsetting                                            
⠦ |        1727 | spectra_subsetting                                            
⠇ |        1729 | spectra_subsetting                                            
⠋ |        1731 | spectra_subsetting                                            
⠹ |        1733 | spectra_subsetting                                            
⠼ |        1735 | spectra_subsetting                                            
⠦ |        1737 | spectra_subsetting                                            
⠇ |        1739 | spectra_subsetting                                            
⠋ |        1741 | spectra_subsetting                                            
⠹ |        1743 | spectra_subsetting                                            
⠼ |        1745 | spectra_subsetting                                            
⠦ |        1747 | spectra_subsetting                                            
⠇ |        1749 | spectra_subsetting                                            
⠋ |        1751 | spectra_subsetting                                            
⠹ |        1753 | spectra_subsetting                                            
⠼ |        1755 | spectra_subsetting                                            
⠦ |        1757 | spectra_subsetting                                            
⠇ |        1759 | spectra_subsetting                                            
⠋ |        1761 | spectra_subsetting                                            
⠹ |        1763 | spectra_subsetting                                            
⠼ |        1765 | spectra_subsetting                                            
⠦ |        1767 | spectra_subsetting                                            
⠇ |        1769 | spectra_subsetting                                            
⠋ |        1771 | spectra_subsetting                                            
⠹ |        1773 | spectra_subsetting                                            
⠼ |        1775 | spectra_subsetting                                            
⠦ |        1777 | spectra_subsetting                                            
⠇ |        1779 | spectra_subsetting                                            
⠋ |        1781 | spectra_subsetting                                            
⠹ |        1783 | spectra_subsetting                                            
⠼ |        1785 | spectra_subsetting                                            
⠦ |        1787 | spectra_subsetting                                            
⠏ |        1790 | spectra_subsetting                                            
⠙ |        1792 | spectra_subsetting                                            
⠸ |        1794 | spectra_subsetting                                            
⠦ |        1797 | spectra_subsetting                                            
⠇ |        1799 | spectra_subsetting                                            
⠋ |        1801 | spectra_subsetting                                            
⠹ |        1803 | spectra_subsetting                                            
⠼ |        1805 | spectra_subsetting                                            
⠧ |        1808 | spectra_subsetting                                            
⠏ |        1810 | spectra_subsetting                                            
⠙ |        1812 | spectra_subsetting                                            
⠸ |        1814 | spectra_subsetting                                            
⠴ |        1816 | spectra_subsetting                                            
⠧ |        1818 | spectra_subsetting                                            
⠏ |        1820 | spectra_subsetting                                            
⠙ |        1822 | spectra_subsetting                                            
⠸ |        1824 | spectra_subsetting                                            
⠴ |        1826 | spectra_subsetting                                            
⠧ |        1828 | spectra_subsetting                                            
⠋ |        1831 | spectra_subsetting                                            
⠹ |        1833 | spectra_subsetting                                            
⠼ |        1835 | spectra_subsetting                                            
⠦ |        1837 | spectra_subsetting                                            
⠇ |        1839 | spectra_subsetting                                            
⠋ |        1841 | spectra_subsetting                                            
⠹ |        1843 | spectra_subsetting                                            
⠼ |        1845 | spectra_subsetting                                            
⠦ |        1847 | spectra_subsetting                                            
⠏ |        1850 | spectra_subsetting                                            
⠙ |        1852 | spectra_subsetting                                            
⠸ |        1854 | spectra_subsetting                                            
⠴ |        1856 | spectra_subsetting                                            
⠧ |        1858 | spectra_subsetting                                            
⠋ |        1861 | spectra_subsetting                                            
⠸ |        1864 | spectra_subsetting                                            
⠴ |        1866 | spectra_subsetting                                            
⠇ |        1869 | spectra_subsetting                                            
⠙ |        1872 | spectra_subsetting                                            
⠸ |        1874 | spectra_subsetting                                            
⠦ |        1877 | spectra_subsetting                                            
⠇ |        1879 | spectra_subsetting                                            
⠙ |        1882 | spectra_subsetting                                            
⠼ |        1885 | spectra_subsetting                                            
⠦ |        1887 | spectra_subsetting                                            
⠇ |        1889 | spectra_subsetting                                            
⠋ |        1891 | spectra_subsetting                                            
⠸ |        1894 | spectra_subsetting                                            
⠴ |        1896 | spectra_subsetting                                            
⠇ |        1899 | spectra_subsetting                                            
⠙ |        1902 | spectra_subsetting                                            
⠸ |        1904 | spectra_subsetting                                            
⠦ |        1907 | spectra_subsetting                                            
⠏ |        1910 | spectra_subsetting                                            
⠹ |        1913 | spectra_subsetting                                            
⠼ |        1915 | spectra_subsetting                                            
⠧ |        1918 | spectra_subsetting                                            
⠏ |        1920 | spectra_subsetting                                            
⠹ |        1923 | spectra_subsetting                                            
⠴ |        1926 | spectra_subsetting                                            
⠧ |        1928 | spectra_subsetting                                            
⠏ |        1930 | spectra_subsetting                                            
⠹ |        1933 | spectra_subsetting                                            
⠴ |        1936 | spectra_subsetting                                            
⠇ |        1939 | spectra_subsetting                                            
⠋ |        1941 | spectra_subsetting                                            
⠸ |        1944 | spectra_subsetting                                            
⠦ |        1947 | spectra_subsetting                                            
⠇ |        1949 | spectra_subsetting                                            
⠙ |        1952 | spectra_subsetting                                            
⠼ |        1955 | spectra_subsetting                                            
⠦ |        1957 | spectra_subsetting                                            
⠏ |        1960 | spectra_subsetting                                            
⠹ |        1963 | spectra_subsetting                                            
⠴ |        1966 | spectra_subsetting                                            
⠧ |        1968 | spectra_subsetting                                            
⠋ |        1971 | spectra_subsetting                                            
⠹ |        1973 | spectra_subsetting                                            
⠴ |        1976 | spectra_subsetting                                            
⠧ |        1978 | spectra_subsetting                                            
⠏ |        1980 | spectra_subsetting                                            
⠙ |        1982 | spectra_subsetting                                            
⠸ |        1984 | spectra_subsetting                                            
⠴ |        1986 | spectra_subsetting                                            
⠧ |        1988 | spectra_subsetting                                            
⠏ |        1990 | spectra_subsetting                                            
⠙ |        1992 | spectra_subsetting                                            
⠸ |        1994 | spectra_subsetting                                            
⠦ |        1997 | spectra_subsetting                                            
⠏ |        2000 | spectra_subsetting                                            
⠙ |        2002 | spectra_subsetting                                            
⠼ |        2005 | spectra_subsetting                                            
⠧ |        2008 | spectra_subsetting                                            
⠏ |        2010 | spectra_subsetting                                            
⠙ |        2012 | spectra_subsetting                                            
⠸ |        2014 | spectra_subsetting                                            
⠴ |        2016 | spectra_subsetting                                            
⠧ |        2018 | spectra_subsetting                                            
⠋ |        2021 | spectra_subsetting                                            
⠹ |        2023 | spectra_subsetting                                            
⠴ |        2026 | spectra_subsetting                                            
⠇ |        2029 | spectra_subsetting                                            
⠋ |        2031 | spectra_subsetting                                            
⠹ |        2033 | spectra_subsetting                                            
⠼ |        2035 | spectra_subsetting                                            
⠦ |        2037 | spectra_subsetting                                            
⠇ |        2039 | spectra_subsetting                                            
⠋ |        2041 | spectra_subsetting                                            
⠹ |        2043 | spectra_subsetting                                            
⠼ |        2045 | spectra_subsetting                                            
⠦ |        2047 | spectra_subsetting                                            
⠇ |        2049 | spectra_subsetting                                            
⠋ |        2051 | spectra_subsetting                                            
⠹ |        2053 | spectra_subsetting                                            
⠼ |        2055 | spectra_subsetting                                            
⠧ |        2058 | spectra_subsetting                                            
⠋ |        2061 | spectra_subsetting                                            
⠸ |        2064 | spectra_subsetting                                            
⠴ |        2066 | spectra_subsetting                                            
⠧ |        2068 | spectra_subsetting                                            
⠏ |        2070 | spectra_subsetting                                            
⠹ |        2073 | spectra_subsetting                                            
⠴ |        2076 | spectra_subsetting                                            
⠇ |        2079 | spectra_subsetting                                            
⠙ |        2082 | spectra_subsetting                                            
⠼ |        2085 | spectra_subsetting                                            
⠧ |        2088 | spectra_subsetting                                            
⠋ |        2091 | spectra_subsetting                                            
⠸ |        2094 | spectra_subsetting                                            
⠦ |        2097 | spectra_subsetting                                            
⠏ |        2100 | spectra_subsetting                                            
⠹ |        2103 | spectra_subsetting                                            
⠴ |        2106 | spectra_subsetting                                            
⠧ |        2108 | spectra_subsetting                                            
⠋ |        2111 | spectra_subsetting                                            
⠸ |        2114 | spectra_subsetting                                            
⠴ |        2116 | spectra_subsetting                                            
⠇ |        2119 | spectra_subsetting                                            
⠋ |        2121 | spectra_subsetting                                            
⠸ |        2124 | spectra_subsetting                                            
⠴ |        2126 | spectra_subsetting                                            
⠧ |        2128 | spectra_subsetting                                            
⠏ |        2130 | spectra_subsetting                                            
⠙ |        2132 | spectra_subsetting                                            
⠸ |        2134 | spectra_subsetting                                            
⠴ |        2136 | spectra_subsetting                                            
⠇ |        2139 | spectra_subsetting                                            
⠋ |        2141 | spectra_subsetting                                            
⠸ |        2144 | spectra_subsetting                                            
⠴ |        2146 | spectra_subsetting                                            
⠧ |        2148 | spectra_subsetting                                            
⠋ |        2151 | spectra_subsetting                                            
⠹ |        2153 | spectra_subsetting                                            
⠴ |        2156 | spectra_subsetting                                            
⠧ |        2158 | spectra_subsetting                                            
⠏ |        2160 | spectra_subsetting                                            
⠙ |        2162 | spectra_subsetting                                            
⠸ |        2164 | spectra_subsetting                                            
⠴ |        2166 | spectra_subsetting                                            
⠧ |        2168 | spectra_subsetting                                            
⠏ |        2170 | spectra_subsetting                                            
⠙ |        2172 | spectra_subsetting                                            
⠸ |        2174 | spectra_subsetting                                            
⠴ |        2176 | spectra_subsetting                                            
⠧ |        2178 | spectra_subsetting                                            
⠏ |        2180 | spectra_subsetting                                            
⠙ |        2182 | spectra_subsetting                                            
⠼ |        2185 | spectra_subsetting                                            
⠧ |        2188 | spectra_subsetting                                            
⠏ |        2190 | spectra_subsetting                                            
⠙ |        2192 | spectra_subsetting                                            
⠸ |        2194 | spectra_subsetting                                            
⠴ |        2196 | spectra_subsetting                                            
⠧ |        2198 | spectra_subsetting                                            
⠏ |        2200 | spectra_subsetting                                            
⠙ |        2202 | spectra_subsetting                                            
⠸ |        2204 | spectra_subsetting                                            
⠴ |        2206 | spectra_subsetting                                            
⠧ |        2208 | spectra_subsetting                                            
⠏ |        2210 | spectra_subsetting                                            
⠙ |        2212 | spectra_subsetting                                            
⠸ |        2214 | spectra_subsetting                                            
⠴ |        2216 | spectra_subsetting                                            
⠧ |        2218 | spectra_subsetting                                            
⠏ |        2220 | spectra_subsetting                                            
⠙ |        2222 | spectra_subsetting                                            
⠼ |        2225 | spectra_subsetting                                            
⠦ |        2227 | spectra_subsetting                                            
⠏ |        2230 | spectra_subsetting                                            
⠙ |        2232 | spectra_subsetting                                            
⠸ |        2234 | spectra_subsetting                                            
⠴ |        2236 | spectra_subsetting                                            
⠇ |        2239 | spectra_subsetting                                            
⠙ |        2242 | spectra_subsetting                                            
⠼ |        2245 | spectra_subsetting                                            
⠧ |        2248 | spectra_subsetting                                            
⠋ |        2251 | spectra_subsetting                                            
⠸ |        2254 | spectra_subsetting                                            
⠦ |        2257 | spectra_subsetting                                            
⠇ |        2259 | spectra_subsetting                                            
⠙ |        2262 | spectra_subsetting                                            
⠼ |        2265 | spectra_subsetting                                            
⠦ |        2267 | spectra_subsetting                                            
⠏ |        2270 | spectra_subsetting                                            
⠹ |        2273 | spectra_subsetting                                            
⠼ |        2275 | spectra_subsetting                                            
⠧ |        2278 | spectra_subsetting                                            
⠋ |        2281 | spectra_subsetting                                            
⠹ |        2283 | spectra_subsetting                                            
⠴ |        2286 | spectra_subsetting                                            
⠧ |        2288 | spectra_subsetting                                            
⠏ |        2290 | spectra_subsetting                                            
⠙ |        2292 | spectra_subsetting                                            
⠼ |        2295 | spectra_subsetting                                            
⠧ |        2298 | spectra_subsetting                                            
⠏ |        2300 | spectra_subsetting                                            
⠼ |        2305 | spectra_subsetting                                            
⠸ |        2314 | spectra_subsetting                                            
✔ |        2317 | spectra_subsetting [43.6s]

⠏ |          0 | spectra_variables                                              
⠙ |         12 | spectra_variables                                              
⠸ |         14 | spectra_variables                                              
⠴ |         16 | spectra_variables                                              
⠹ |         43 | spectra_variables                                              
⠦ |      1  56 | spectra_variables                                              
✔ |      1  62 | spectra_variables [8.5s]

══ Results ═════════════════════════════════════════════════════════════════════
Duration: 56.2 s

── Skipped tests (1) ───────────────────────────────────────────────────────────
• empty test (1): 'test_spectra_variables.R:262:1'

[ FAIL 0 | WARN 0 | SKIP 1 | PASS 2383 ]
> 
> proc.time()
   user  system elapsed 
 85.184   4.570  87.724 

Example timings

MsBackendRawFileReader.Rcheck/MsBackendRawFileReader-Ex.timings

nameusersystemelapsed
MsBackendRawFileReader-class3.5720.5343.945
MsBackendRawFileReader5.4071.1405.885
hidden_aliases2.4640.4162.607
ioBenchmark66.609 4.58913.038