| Back to Multiple platform build/check report for BioC 3.19: simplified long |
|
This page was generated on 2024-10-18 20:38 -0400 (Fri, 18 Oct 2024).
| Hostname | OS | Arch (*) | R version | Installed pkgs |
|---|---|---|---|---|
| nebbiolo1 | Linux (Ubuntu 22.04.3 LTS) | x86_64 | 4.4.1 (2024-06-14) -- "Race for Your Life" | 4763 |
| palomino7 | Windows Server 2022 Datacenter | x64 | 4.4.1 (2024-06-14 ucrt) -- "Race for Your Life" | 4500 |
| merida1 | macOS 12.7.5 Monterey | x86_64 | 4.4.1 (2024-06-14) -- "Race for Your Life" | 4530 |
| kjohnson1 | macOS 13.6.6 Ventura | arm64 | 4.4.1 (2024-06-14) -- "Race for Your Life" | 4480 |
| Click on any hostname to see more info about the system (e.g. compilers) (*) as reported by 'uname -p', except on Windows and Mac OS X | ||||
| Package 1266/2300 | Hostname | OS / Arch | INSTALL | BUILD | CHECK | BUILD BIN | ||||||||
| MicrobiotaProcess 1.16.1 (landing page) Shuangbin Xu
| nebbiolo1 | Linux (Ubuntu 22.04.3 LTS) / x86_64 | OK | OK | OK | |||||||||
| palomino7 | Windows Server 2022 Datacenter / x64 | OK | OK | OK | OK | |||||||||
| merida1 | macOS 12.7.5 Monterey / x86_64 | OK | OK | OK | OK | |||||||||
| kjohnson1 | macOS 13.6.6 Ventura / arm64 | OK | OK | OK | OK | |||||||||
|
To the developers/maintainers of the MicrobiotaProcess package: - Allow up to 24 hours (and sometimes 48 hours) for your latest push to git@git.bioconductor.org:packages/MicrobiotaProcess.git to reflect on this report. See Troubleshooting Build Report for more information. - Use the following Renviron settings to reproduce errors and warnings. - If 'R CMD check' started to fail recently on the Linux builder(s) over a missing dependency, add the missing dependency to 'Suggests:' in your DESCRIPTION file. See Renviron.bioc for more information. |
| Package: MicrobiotaProcess |
| Version: 1.16.1 |
| Command: /home/biocbuild/bbs-3.19-bioc/R/bin/R CMD check --install=check:MicrobiotaProcess.install-out.txt --library=/home/biocbuild/bbs-3.19-bioc/R/site-library --timings MicrobiotaProcess_1.16.1.tar.gz |
| StartedAt: 2024-10-17 02:26:17 -0400 (Thu, 17 Oct 2024) |
| EndedAt: 2024-10-17 02:33:02 -0400 (Thu, 17 Oct 2024) |
| EllapsedTime: 404.7 seconds |
| RetCode: 0 |
| Status: OK |
| CheckDir: MicrobiotaProcess.Rcheck |
| Warnings: 0 |
##############################################################################
##############################################################################
###
### Running command:
###
### /home/biocbuild/bbs-3.19-bioc/R/bin/R CMD check --install=check:MicrobiotaProcess.install-out.txt --library=/home/biocbuild/bbs-3.19-bioc/R/site-library --timings MicrobiotaProcess_1.16.1.tar.gz
###
##############################################################################
##############################################################################
* using log directory ‘/home/biocbuild/bbs-3.19-bioc/meat/MicrobiotaProcess.Rcheck’
* using R version 4.4.1 (2024-06-14)
* using platform: x86_64-pc-linux-gnu
* R was compiled by
gcc (Ubuntu 11.4.0-1ubuntu1~22.04) 11.4.0
GNU Fortran (Ubuntu 11.4.0-1ubuntu1~22.04) 11.4.0
* running under: Ubuntu 22.04.5 LTS
* using session charset: UTF-8
* checking for file ‘MicrobiotaProcess/DESCRIPTION’ ... OK
* checking extension type ... Package
* this is package ‘MicrobiotaProcess’ version ‘1.16.1’
* package encoding: UTF-8
* checking package namespace information ... OK
* checking package dependencies ... OK
* checking if this is a source package ... OK
* checking if there is a namespace ... OK
* checking for hidden files and directories ... OK
* checking for portable file names ... OK
* checking for sufficient/correct file permissions ... OK
* checking whether package ‘MicrobiotaProcess’ can be installed ... OK
* checking installed package size ... OK
* checking package directory ... OK
* checking ‘build’ directory ... OK
* checking DESCRIPTION meta-information ... OK
* checking top-level files ... OK
* checking for left-over files ... OK
* checking index information ... OK
* checking package subdirectories ... OK
* checking code files for non-ASCII characters ... OK
* checking R files for syntax errors ... OK
* checking whether the package can be loaded ... OK
* checking whether the package can be loaded with stated dependencies ... OK
* checking whether the package can be unloaded cleanly ... OK
* checking whether the namespace can be loaded with stated dependencies ... OK
* checking whether the namespace can be unloaded cleanly ... OK
* checking loading without being on the library search path ... OK
* checking whether startup messages can be suppressed ... OK
* checking dependencies in R code ... OK
* checking S3 generic/method consistency ... OK
* checking replacement functions ... OK
* checking foreign function calls ... OK
* checking R code for possible problems ... OK
* checking Rd files ... OK
* checking Rd metadata ... OK
* checking Rd cross-references ... OK
* checking for missing documentation entries ... OK
* checking for code/documentation mismatches ... OK
* checking Rd \usage sections ... OK
* checking Rd contents ... OK
* checking for unstated dependencies in examples ... OK
* checking contents of ‘data’ directory ... OK
* checking data for non-ASCII characters ... OK
* checking data for ASCII and uncompressed saves ... OK
* checking files in ‘vignettes’ ... OK
* checking examples ... OK
Examples with CPU (user + system) or elapsed time > 5s
user system elapsed
mp_cal_abundance-methods 8.330 0.178 8.242
mp_cal_rarecurve-methods 5.382 0.076 5.458
mp_plot_diff_boxplot-methods 5.163 0.026 5.068
* checking for unstated dependencies in ‘tests’ ... OK
* checking tests ...
Running ‘testthat.R’
OK
* checking for unstated dependencies in vignettes ... OK
* checking package vignettes ... OK
* checking re-building of vignette outputs ... OK
* checking PDF version of manual ... OK
* DONE
Status: OK
MicrobiotaProcess.Rcheck/00install.out
############################################################################## ############################################################################## ### ### Running command: ### ### /home/biocbuild/bbs-3.19-bioc/R/bin/R CMD INSTALL MicrobiotaProcess ### ############################################################################## ############################################################################## * installing to library ‘/home/biocbuild/bbs-3.19-bioc/R/site-library’ * installing *source* package ‘MicrobiotaProcess’ ... ** using staged installation ** R ** data ** inst ** byte-compile and prepare package for lazy loading in method for ‘taxonomy<-’ with signature ‘x="MPSE",value="taxonomyTable"’: no definition for class “taxonomyTable” Creating a generic function for ‘rownames<-’ from package ‘base’ in package ‘MicrobiotaProcess’ in method for ‘get_alltaxadf’ with signature ‘"phyloseq"’: no definition for class “phyloseq” in method for ‘get_taxadf’ with signature ‘"phyloseq"’: no definition for class “phyloseq” in method for ‘get_alphaindex’ with signature ‘"phyloseq"’: no definition for class “phyloseq” in method for ‘get_NRI_NTI’ with signature ‘"phyloseq"’: no definition for class “phyloseq” in method for ‘get_rarecurve’ with signature ‘"phyloseq"’: no definition for class “phyloseq” in method for ‘get_upset’ with signature ‘"phyloseq"’: no definition for class “phyloseq” in method for ‘get_vennlist’ with signature ‘"phyloseq"’: no definition for class “phyloseq” in method for ‘drop_taxa’ with signature ‘"phyloseq"’: no definition for class “phyloseq” ** help *** installing help indices ** building package indices ** installing vignettes ** testing if installed package can be loaded from temporary location ** testing if installed package can be loaded from final location ** testing if installed package keeps a record of temporary installation path * DONE (MicrobiotaProcess)
MicrobiotaProcess.Rcheck/tests/testthat.Rout
R version 4.4.1 (2024-06-14) -- "Race for Your Life"
Copyright (C) 2024 The R Foundation for Statistical Computing
Platform: x86_64-pc-linux-gnu
R is free software and comes with ABSOLUTELY NO WARRANTY.
You are welcome to redistribute it under certain conditions.
Type 'license()' or 'licence()' for distribution details.
R is a collaborative project with many contributors.
Type 'contributors()' for more information and
'citation()' on how to cite R or R packages in publications.
Type 'demo()' for some demos, 'help()' for on-line help, or
'help.start()' for an HTML browser interface to help.
Type 'q()' to quit R.
> library("testthat")
> library("MicrobiotaProcess")
MicrobiotaProcess v1.16.1 For help:
https://github.com/YuLab-SMU/MicrobiotaProcess/issues
If you use MicrobiotaProcess in published research, please cite the
paper:
Shuangbin Xu, Li Zhan, Wenli Tang, Qianwen Wang, Zehan Dai, Lang Zhou,
Tingze Feng, Meijun Chen, Tianzhi Wu, Erqiang Hu, Guangchuang Yu.
MicrobiotaProcess: A comprehensive R package for deep mining
microbiome. The Innovation. 2023, 4(2):100388. doi:
10.1016/j.xinn.2023.100388
Export the citation to BibTex by citation('MicrobiotaProcess')
This message can be suppressed by:
suppressPackageStartupMessages(library(MicrobiotaProcess))
Attaching package: 'MicrobiotaProcess'
The following object is masked from 'package:stats':
filter
> test_check("MicrobiotaProcess")
[ FAIL 0 | WARN 9 | SKIP 0 | PASS 13 ]
[ FAIL 0 | WARN 9 | SKIP 0 | PASS 13 ]
>
> proc.time()
user system elapsed
12.844 0.777 13.510
MicrobiotaProcess.Rcheck/MicrobiotaProcess-Ex.timings
| name | user | system | elapsed | |
| ImportDada2 | 1.266 | 0.139 | 1.406 | |
| ImportQiime2 | 3.715 | 0.112 | 3.829 | |
| MPSE | 0.085 | 0.007 | 0.093 | |
| as.treedata | 0 | 0 | 0 | |
| build_tree | 0 | 0 | 0 | |
| convert_to_treedata | 0 | 0 | 0 | |
| data-hmp_aerobiosis_small | 0.012 | 0.000 | 0.012 | |
| data-kostic2012crc | 0.029 | 0.000 | 0.028 | |
| data-test_otu_data | 0.002 | 0.000 | 0.002 | |
| diff_analysis | 0.000 | 0.000 | 0.001 | |
| dr_extract | 0.001 | 0.000 | 0.001 | |
| drop_taxa | 0 | 0 | 0 | |
| generalizedFC | 0.007 | 0.000 | 0.007 | |
| get_alltaxadf | 0.001 | 0.000 | 0.000 | |
| get_alphaindex | 0.001 | 0.000 | 0.000 | |
| get_clust | 0 | 0 | 0 | |
| get_coord | 0 | 0 | 0 | |
| get_count | 0.001 | 0.000 | 0.000 | |
| get_dist | 0 | 0 | 0 | |
| get_mean_median | 0 | 0 | 0 | |
| get_pca | 0 | 0 | 0 | |
| get_pcoa | 0.000 | 0.000 | 0.001 | |
| get_pvalue | 0.089 | 0.004 | 0.095 | |
| get_rarecurve | 0 | 0 | 0 | |
| get_sampledflist | 0.000 | 0.000 | 0.001 | |
| get_taxadf | 0.001 | 0.000 | 0.000 | |
| get_upset | 0.001 | 0.000 | 0.000 | |
| get_varct | 0 | 0 | 0 | |
| get_vennlist | 0.000 | 0.000 | 0.001 | |
| ggbartax | 0 | 0 | 0 | |
| ggbox | 0.000 | 0.001 | 0.000 | |
| ggclust | 0.000 | 0.001 | 0.000 | |
| ggdiffbox | 0 | 0 | 0 | |
| ggdiffclade | 0.000 | 0.000 | 0.001 | |
| ggdifftaxbar | 0.000 | 0.000 | 0.001 | |
| ggeffectsize | 0.000 | 0.001 | 0.000 | |
| ggordpoint | 0 | 0 | 0 | |
| ggrarecurve | 0 | 0 | 0 | |
| mp_adonis-methods | 0.1 | 0.0 | 0.1 | |
| mp_aggregate-methods | 0 | 0 | 0 | |
| mp_aggregate_clade-methods | 0 | 0 | 0 | |
| mp_anosim-methods | 1.045 | 0.020 | 1.065 | |
| mp_balance_clade-methods | 0 | 0 | 0 | |
| mp_cal_abundance-methods | 8.330 | 0.178 | 8.242 | |
| mp_cal_alpha-methods | 1.028 | 0.016 | 1.045 | |
| mp_cal_cca-methods | 0.869 | 0.004 | 0.875 | |
| mp_cal_clust-methods | 0.368 | 0.000 | 0.369 | |
| mp_cal_dist-methods | 2.642 | 0.096 | 2.739 | |
| mp_cal_divergence-methods | 0.000 | 0.001 | 0.001 | |
| mp_cal_nmds-methods | 0.236 | 0.023 | 0.260 | |
| mp_cal_pca-methods | 1.387 | 0.008 | 1.395 | |
| mp_cal_pcoa-methods | 0.513 | 0.000 | 0.514 | |
| mp_cal_pd_metric-methods | 0.000 | 0.000 | 0.001 | |
| mp_cal_rarecurve-methods | 5.382 | 0.076 | 5.458 | |
| mp_cal_rda-methods | 0.672 | 0.008 | 0.680 | |
| mp_cal_upset-methods | 1.033 | 0.008 | 1.032 | |
| mp_cal_venn-methods | 0.472 | 0.000 | 0.466 | |
| mp_decostand-methods | 0.333 | 0.000 | 0.333 | |
| mp_diff_analysis-methods | 4.297 | 0.056 | 4.247 | |
| mp_diff_clade-methods | 0 | 0 | 0 | |
| mp_dmn-methods | 0 | 0 | 0 | |
| mp_dmngroup-methods | 0.000 | 0.001 | 0.001 | |
| mp_envfit-methods | 2.560 | 0.109 | 2.669 | |
| mp_filter_taxa-methods | 0.831 | 0.000 | 0.831 | |
| mp_import_metaphlan | 2.492 | 0.012 | 2.505 | |
| mp_mantel-methods | 0.267 | 0.004 | 0.271 | |
| mp_mrpp-methods | 0.168 | 0.004 | 0.173 | |
| mp_plot_abundance-methods | 0.000 | 0.001 | 0.001 | |
| mp_plot_alpha-methods | 0.000 | 0.000 | 0.001 | |
| mp_plot_diff_boxplot-methods | 5.163 | 0.026 | 5.068 | |
| mp_plot_diff_cladogram | 0 | 0 | 0 | |
| mp_plot_diff_manhattan-methods | 2.673 | 0.051 | 2.610 | |
| mp_plot_dist-methods | 0.001 | 0.000 | 0.000 | |
| mp_plot_ord-methods | 0.000 | 0.001 | 0.001 | |
| mp_plot_rarecurve-methods | 0.000 | 0.001 | 0.001 | |
| mp_plot_upset-methods | 0 | 0 | 0 | |
| mp_plot_venn-methods | 0 | 0 | 0 | |
| mp_rrarefy-methods | 0.350 | 0.004 | 0.354 | |
| mp_select_as_tip-methods | 0 | 0 | 0 | |
| mp_stat_taxa-methods | 0.963 | 0.000 | 0.848 | |
| multi_compare | 0.006 | 0.004 | 0.010 | |
| read_qza | 0 | 0 | 0 | |
| show-methods | 0.001 | 0.000 | 0.001 | |
| split_data | 0.003 | 0.000 | 0.003 | |
| split_str_to_list | 0.001 | 0.000 | 0.000 | |
| theme_taxbar | 0.000 | 0.001 | 0.001 | |