| Back to Multiple platform build/check report for BioC 3.19: simplified long |
|
This page was generated on 2024-05-09 11:41:05 -0400 (Thu, 09 May 2024).
| Hostname | OS | Arch (*) | R version | Installed pkgs |
|---|---|---|---|---|
| nebbiolo1 | Linux (Ubuntu 22.04.3 LTS) | x86_64 | 4.4.0 (2024-04-24) -- "Puppy Cup" | 4748 |
| palomino3 | Windows Server 2022 Datacenter | x64 | 4.4.0 (2024-04-24 ucrt) -- "Puppy Cup" | 4484 |
| lconway | macOS 12.7.1 Monterey | x86_64 | 4.4.0 (2024-04-24) -- "Puppy Cup" | 4514 |
| kunpeng2 | Linux (openEuler 22.03 LTS-SP1) | aarch64 | 4.4.0 beta (2024-04-15 r86425) -- "Puppy Cup" | 4480 |
| Click on any hostname to see more info about the system (e.g. compilers) (*) as reported by 'uname -p', except on Windows and Mac OS X | ||||
| Package 1232/2300 | Hostname | OS / Arch | INSTALL | BUILD | CHECK | BUILD BIN | ||||||||
| MethReg 1.14.0 (landing page) Tiago Silva
| nebbiolo1 | Linux (Ubuntu 22.04.3 LTS) / x86_64 | OK | OK | OK | |||||||||
| palomino3 | Windows Server 2022 Datacenter / x64 | OK | OK | OK | OK | |||||||||
| lconway | macOS 12.7.1 Monterey / x86_64 | OK | OK | OK | OK | |||||||||
| kunpeng2 | Linux (openEuler 22.03 LTS-SP1) / aarch64 | OK | OK | OK | ||||||||||
| kjohnson3 | macOS 13.6.5 Ventura / arm64 | see weekly results here | ||||||||||||
|
To the developers/maintainers of the MethReg package: - Allow up to 24 hours (and sometimes 48 hours) for your latest push to git@git.bioconductor.org:packages/MethReg.git to reflect on this report. See Troubleshooting Build Report for more information. - Use the following Renviron settings to reproduce errors and warnings. - If 'R CMD check' started to fail recently on the Linux builder(s) over a missing dependency, add the missing dependency to 'Suggests:' in your DESCRIPTION file. See Renviron.bioc for more information. - See Martin Grigorov's blog post for how to debug Linux ARM64 related issues on a x86_64 host. |
| Package: MethReg |
| Version: 1.14.0 |
| Command: /home/biocbuild/R/R-beta-2024-04-15_r86425/bin/R CMD check --install=check:MethReg.install-out.txt --library=/home/biocbuild/R/R-beta-2024-04-15_r86425/site-library --no-vignettes --timings MethReg_1.14.0.tar.gz |
| StartedAt: 2024-05-09 09:13:47 -0000 (Thu, 09 May 2024) |
| EndedAt: 2024-05-09 09:25:23 -0000 (Thu, 09 May 2024) |
| EllapsedTime: 696.1 seconds |
| RetCode: 0 |
| Status: OK |
| CheckDir: MethReg.Rcheck |
| Warnings: 0 |
##############################################################################
##############################################################################
###
### Running command:
###
### /home/biocbuild/R/R-beta-2024-04-15_r86425/bin/R CMD check --install=check:MethReg.install-out.txt --library=/home/biocbuild/R/R-beta-2024-04-15_r86425/site-library --no-vignettes --timings MethReg_1.14.0.tar.gz
###
##############################################################################
##############################################################################
* using log directory ‘/home/biocbuild/bbs-3.19-bioc/meat/MethReg.Rcheck’
* using R version 4.4.0 beta (2024-04-15 r86425)
* using platform: aarch64-unknown-linux-gnu
* R was compiled by
gcc (GCC) 10.3.1
GNU Fortran (GCC) 10.3.1
* running under: openEuler 22.03 (LTS-SP1)
* using session charset: UTF-8
* using option ‘--no-vignettes’
* checking for file ‘MethReg/DESCRIPTION’ ... OK
* checking extension type ... Package
* this is package ‘MethReg’ version ‘1.14.0’
* package encoding: UTF-8
* checking package namespace information ... OK
* checking package dependencies ... OK
* checking if this is a source package ... OK
* checking if there is a namespace ... OK
* checking for hidden files and directories ... OK
* checking for portable file names ... OK
* checking for sufficient/correct file permissions ... OK
* checking whether package ‘MethReg’ can be installed ... OK
* checking installed package size ... OK
* checking package directory ... OK
* checking ‘build’ directory ... OK
* checking DESCRIPTION meta-information ... OK
* checking top-level files ... OK
* checking for left-over files ... OK
* checking index information ... OK
* checking package subdirectories ... OK
* checking code files for non-ASCII characters ... OK
* checking R files for syntax errors ... OK
* checking whether the package can be loaded ... OK
* checking whether the package can be loaded with stated dependencies ... OK
* checking whether the package can be unloaded cleanly ... OK
* checking whether the namespace can be loaded with stated dependencies ... OK
* checking whether the namespace can be unloaded cleanly ... OK
* checking loading without being on the library search path ... OK
* checking dependencies in R code ... OK
* checking S3 generic/method consistency ... OK
* checking replacement functions ... OK
* checking foreign function calls ... OK
* checking R code for possible problems ... NOTE
readRemap2022: no visible binding for global variable ‘biotype’
Undefined global functions or variables:
biotype
* checking Rd files ... OK
* checking Rd metadata ... OK
* checking Rd cross-references ... OK
* checking for missing documentation entries ... OK
* checking for code/documentation mismatches ... OK
* checking Rd \usage sections ... OK
* checking Rd contents ... OK
* checking for unstated dependencies in examples ... OK
* checking contents of ‘data’ directory ... OK
* checking data for non-ASCII characters ... OK
* checking LazyData ... OK
* checking data for ASCII and uncompressed saves ... OK
* checking R/sysdata.rda ... OK
* checking files in ‘vignettes’ ... OK
* checking examples ... OK
Examples with CPU (user + system) or elapsed time > 5s
user system elapsed
create_triplet_distance_based 57.673 0.587 58.458
get_tf_in_region 54.112 0.722 54.934
create_triplet_regulon_based 52.324 0.625 53.079
* checking for unstated dependencies in ‘tests’ ... OK
* checking tests ...
Running ‘testthat.R’
OK
* checking for unstated dependencies in vignettes ... OK
* checking package vignettes ... OK
* checking running R code from vignettes ... SKIPPED
* checking re-building of vignette outputs ... SKIPPED
* checking PDF version of manual ... OK
* DONE
Status: 1 NOTE
See
‘/home/biocbuild/bbs-3.19-bioc/meat/MethReg.Rcheck/00check.log’
for details.
MethReg.Rcheck/00install.out
############################################################################## ############################################################################## ### ### Running command: ### ### /home/biocbuild/R/R-beta-2024-04-15_r86425/bin/R CMD INSTALL MethReg ### ############################################################################## ############################################################################## * installing to library ‘/home/biocbuild/R/R-beta-2024-04-15_r86425/site-library’ * installing *source* package ‘MethReg’ ... ** using staged installation ** R ** data *** moving datasets to lazyload DB ** inst ** byte-compile and prepare package for lazy loading ** help *** installing help indices ** building package indices ** installing vignettes ** testing if installed package can be loaded from temporary location ** testing if installed package can be loaded from final location ** testing if installed package keeps a record of temporary installation path * DONE (MethReg)
MethReg.Rcheck/tests/testthat.Rout
R version 4.4.0 beta (2024-04-15 r86425) -- "Puppy Cup"
Copyright (C) 2024 The R Foundation for Statistical Computing
Platform: aarch64-unknown-linux-gnu
R is free software and comes with ABSOLUTELY NO WARRANTY.
You are welcome to redistribute it under certain conditions.
Type 'license()' or 'licence()' for distribution details.
R is a collaborative project with many contributors.
Type 'contributors()' for more information and
'citation()' on how to cite R or R packages in publications.
Type 'demo()' for some demos, 'help()' for on-line help, or
'help.start()' for an HTML browser interface to help.
Type 'q()' to quit R.
> library(testthat)
> library(MethReg)
>
> test_check("MethReg")
| | 0%
|====================================================|100% ~0 s remaining
|====================================================|100% Completed after 0 s
| | 0%
|====================================================|100% ~0 s remaining
|====================================================|100% Completed after 0 s
| | 0%
|====================================================|100% ~0 s remaining
|====================================================|100% Completed after 0 s
| | 0%
|====================================================|100% ~0 s remaining
|====================================================|100% Completed after 0 s
Status freq
1 Regions below threshold 1
2 Regions above threshold 1
Status freq
1 Regions below threshold 1
2 Regions above threshold 1
Status freq
1 Regions below threshold 1
2 Regions above threshold 1
| | 0%
|========================== | 50% ~0 s remaining
|====================================================|100% ~0 s remaining
|====================================================|100% Completed after 0 s
Status freq
1 Genes above threshold 1
2 <NA> 1
| | 0%
|================= |33.33333% ~0 s remaining
|================================== |66.66667% ~0 s remaining
|====================================================|100% ~0 s remaining
|====================================================|100% Completed after 0 s
| | 0%
|========================== | 50% ~0 s remaining
|====================================================|100% ~0 s remaining
|====================================================|100% Completed after 0 s
| | 0%
|================= |33.33333% ~0 s remaining
|================================== |66.66667% ~0 s remaining
|====================================================|100% ~0 s remaining
|====================================================|100% Completed after 0 s
| | 0%
| |0.8928571% ~0 s remaining
| |1.785714% ~0 s remaining
|= |2.678571% ~0 s remaining
|= |3.571429% ~0 s remaining
|== |4.464286% ~0 s remaining
|== |5.357143% ~0 s remaining
|=== |6.25% ~0 s remaining
|=== |7.142857% ~0 s remaining
|==== |8.035714% ~0 s remaining
|==== |8.928571% ~0 s remaining
|===== |9.821429% ~0 s remaining
|===== |10.71429% ~0 s remaining
|====== |11.60714% ~0 s remaining
|====== |12.5% ~0 s remaining
|====== |13.39286% ~0 s remaining
|======= |14.28571% ~0 s remaining
|======= |15.17857% ~0 s remaining
|======== |16.07143% ~0 s remaining
|======== |16.96429% ~0 s remaining
|========= |17.85714% ~0 s remaining
|========= |18.75% ~0 s remaining
|========== |19.64286% ~0 s remaining
|========== |20.53571% ~0 s remaining
|=========== |21.42857% ~0 s remaining
|=========== |22.32143% ~0 s remaining
|============ |23.21429% ~0 s remaining
|============ |24.10714% ~0 s remaining
|============= | 25% ~0 s remaining
|============= |25.89286% ~0 s remaining
|============= |26.78571% ~0 s remaining
|============== |27.67857% ~0 s remaining
|============== |28.57143% ~0 s remaining
|=============== |29.46429% ~0 s remaining
|=============== |30.35714% ~0 s remaining
|================ |31.25% ~0 s remaining
|================ |32.14286% ~0 s remaining
|================= |33.03571% ~0 s remaining
|================= |33.92857% ~0 s remaining
|================== |34.82143% ~0 s remaining
|================== |35.71429% ~0 s remaining
|=================== |36.60714% ~0 s remaining
|=================== |37.5% ~0 s remaining
|=================== |38.39286% ~0 s remaining
|==================== |39.28571% ~0 s remaining
|==================== |40.17857% ~0 s remaining
|===================== |41.07143% ~0 s remaining
|===================== |41.96429% ~0 s remaining
|====================== |42.85714% ~0 s remaining
|====================== |43.75% ~0 s remaining
|======================= |44.64286% ~0 s remaining
|======================= |45.53571% ~0 s remaining
|======================== |46.42857% ~0 s remaining
|======================== |47.32143% ~0 s remaining
|========================= |48.21429% ~0 s remaining
|========================= |49.10714% ~0 s remaining
|========================== | 50% ~0 s remaining
|========================== |50.89286% ~0 s remaining
|========================== |51.78571% ~0 s remaining
|=========================== |52.67857% ~0 s remaining
|=========================== |53.57143% ~0 s remaining
|============================ |54.46429% ~0 s remaining
|============================ |55.35714% ~0 s remaining
|============================= |56.25% ~0 s remaining
|============================= |57.14286% ~0 s remaining
|============================== |58.03571% ~0 s remaining
|============================== |58.92857% ~0 s remaining
|=============================== |59.82143% ~0 s remaining
|=============================== |60.71429% ~0 s remaining
|================================ |61.60714% ~0 s remaining
|================================ |62.5% ~0 s remaining
|================================ |63.39286% ~0 s remaining
|================================= |64.28571% ~0 s remaining
|================================= |65.17857% ~0 s remaining
|================================== |66.07143% ~0 s remaining
|================================== |66.96429% ~0 s remaining
|=================================== |67.85714% ~0 s remaining
|=================================== |68.75% ~0 s remaining
|==================================== |69.64286% ~0 s remaining
|==================================== |70.53571% ~0 s remaining
|===================================== |71.42857% ~0 s remaining
|===================================== |72.32143% ~0 s remaining
|====================================== |73.21429% ~0 s remaining
|====================================== |74.10714% ~0 s remaining
|======================================= | 75% ~0 s remaining
|======================================= |75.89286% ~0 s remaining
|======================================= |76.78571% ~0 s remaining
|======================================== |77.67857% ~0 s remaining
|======================================== |78.57143% ~0 s remaining
|========================================= |79.46429% ~0 s remaining
|========================================= |80.35714% ~0 s remaining
|========================================== |81.25% ~0 s remaining
|========================================== |82.14286% ~0 s remaining
|=========================================== |83.03571% ~0 s remaining
|=========================================== |83.92857% ~0 s remaining
|============================================ |84.82143% ~0 s remaining
|============================================ |85.71429% ~0 s remaining
|============================================= |86.60714% ~0 s remaining
|============================================= |87.5% ~0 s remaining
|============================================= |88.39286% ~0 s remaining
|============================================== |89.28571% ~0 s remaining
|============================================== |90.17857% ~0 s remaining
|=============================================== |91.07143% ~0 s remaining
|=============================================== |91.96429% ~0 s remaining
|================================================ |92.85714% ~0 s remaining
|================================================ |93.75% ~0 s remaining
|================================================= |94.64286% ~0 s remaining
|================================================= |95.53571% ~0 s remaining
|================================================== |96.42857% ~0 s remaining
|================================================== |97.32143% ~0 s remaining
|=================================================== |98.21429% ~0 s remaining
|=================================================== |99.10714% ~0 s remaining
|====================================================|100% ~0 s remaining
|====================================================|100% Completed after 0 s
| | 0%
|====================================================|100% ~0 s remaining
|====================================================|100% Completed after 0 s
| | 0%
|====================================================|100% ~0 s remaining
|====================================================|100% Completed after 0 s
| | 0%
|====================================================|100% ~0 s remaining
|====================================================|100% Completed after 0 s
| | 0%
|====================================================|100% ~0 s remaining
|====================================================|100% Completed after 0 s
[ FAIL 0 | WARN 3 | SKIP 11 | PASS 148 ]
══ Skipped tests (11) ══════════════════════════════════════════════════════════
• On Bioconductor (7): 'test-create_triplet_distance_based.R:2:3',
'test-get_promoter_avg.R:3:5', 'test-get_promoter_avg.R:15:5',
'test-get_promoter_avg.R:30:5', 'test-get_promoter_avg.R:47:5',
'test-plot_interaction_model.R:3:5', 'test-plot_stratified_model.R:3:5'
• On CRAN (2): 'test-get_human_tfs.R:2:5', 'test-get_tf_in_region.R:3:5'
• empty test (2): 'test-get_residuals.R:1:1', 'test-get_tf_in_region.R:16:1'
[ FAIL 0 | WARN 3 | SKIP 11 | PASS 148 ]
>
> proc.time()
user system elapsed
112.722 3.929 125.923
MethReg.Rcheck/MethReg-Ex.timings
| name | user | system | elapsed | |
| cor_dnam_target_gene | 0.044 | 0.000 | 0.045 | |
| cor_tf_target_gene | 0.019 | 0.000 | 0.019 | |
| create_triplet_distance_based | 57.673 | 0.587 | 58.458 | |
| create_triplet_regulon_based | 52.324 | 0.625 | 53.079 | |
| export_results_to_table | 1.855 | 0.056 | 1.915 | |
| filter_dnam_by_quant_diff | 0.125 | 0.000 | 0.126 | |
| filter_exp_by_quant_mean_FC | 1.075 | 0.008 | 1.088 | |
| get_human_tfs | 0.588 | 0.026 | 0.602 | |
| get_met_probes_info | 0.017 | 0.004 | 0.021 | |
| get_promoter_avg | 0 | 0 | 0 | |
| get_region_target_gene | 4.087 | 0.248 | 4.344 | |
| get_residuals | 0.057 | 0.000 | 0.057 | |
| get_tf_ES | 1.725 | 0.104 | 1.844 | |
| get_tf_in_region | 54.112 | 0.722 | 54.934 | |
| interaction_model | 0.275 | 0.000 | 0.275 | |
| make_dnam_se | 0.088 | 0.000 | 0.088 | |
| make_exp_se | 0.113 | 0.000 | 0.112 | |
| make_granges_from_names | 0.015 | 0.003 | 0.019 | |
| make_names_from_granges | 0.016 | 0.004 | 0.020 | |
| plot_interaction_model | 2.361 | 0.048 | 2.413 | |
| stratified_model | 0.057 | 0.000 | 0.056 | |