| Back to Multiple platform build/check report for BioC 3.19: simplified long |
|
This page was generated on 2024-06-11 14:42 -0400 (Tue, 11 Jun 2024).
| Hostname | OS | Arch (*) | R version | Installed pkgs |
|---|---|---|---|---|
| nebbiolo1 | Linux (Ubuntu 22.04.3 LTS) | x86_64 | 4.4.0 (2024-04-24) -- "Puppy Cup" | 4757 |
| palomino3 | Windows Server 2022 Datacenter | x64 | 4.4.0 (2024-04-24 ucrt) -- "Puppy Cup" | 4491 |
| lconway | macOS 12.7.1 Monterey | x86_64 | 4.4.0 (2024-04-24) -- "Puppy Cup" | 4522 |
| kjohnson3 | macOS 13.6.5 Ventura | arm64 | 4.4.0 (2024-04-24) -- "Puppy Cup" | 4468 |
| Click on any hostname to see more info about the system (e.g. compilers) (*) as reported by 'uname -p', except on Windows and Mac OS X | ||||
| Package 1368/2300 | Hostname | OS / Arch | INSTALL | BUILD | CHECK | BUILD BIN | ||||||||
| MSstatsShiny 1.6.2 (landing page) Devon Kohler
| nebbiolo1 | Linux (Ubuntu 22.04.3 LTS) / x86_64 | OK | OK | WARNINGS | |||||||||
| palomino3 | Windows Server 2022 Datacenter / x64 | OK | OK | WARNINGS | OK | |||||||||
| lconway | macOS 12.7.1 Monterey / x86_64 | OK | OK | WARNINGS | OK | |||||||||
| kjohnson3 | macOS 13.6.5 Ventura / arm64 | OK | OK | WARNINGS | OK | |||||||||
|
To the developers/maintainers of the MSstatsShiny package: - Allow up to 24 hours (and sometimes 48 hours) for your latest push to git@git.bioconductor.org:packages/MSstatsShiny.git to reflect on this report. See Troubleshooting Build Report for more information. - Use the following Renviron settings to reproduce errors and warnings. - If 'R CMD check' started to fail recently on the Linux builder(s) over a missing dependency, add the missing dependency to 'Suggests:' in your DESCRIPTION file. See Renviron.bioc for more information. |
| Package: MSstatsShiny |
| Version: 1.6.2 |
| Command: /Library/Frameworks/R.framework/Resources/bin/R CMD INSTALL MSstatsShiny |
| StartedAt: 2024-06-09 15:36:24 -0400 (Sun, 09 Jun 2024) |
| EndedAt: 2024-06-09 15:36:58 -0400 (Sun, 09 Jun 2024) |
| EllapsedTime: 34.0 seconds |
| RetCode: 0 |
| Status: OK |
############################################################################## ############################################################################## ### ### Running command: ### ### /Library/Frameworks/R.framework/Resources/bin/R CMD INSTALL MSstatsShiny ### ############################################################################## ############################################################################## * installing to library ‘/Library/Frameworks/R.framework/Versions/4.4-x86_64/Resources/library’ * installing *source* package ‘MSstatsShiny’ ... ** using staged installation ** R ** data ** inst ** byte-compile and prepare package for lazy loading Warning: replacing previous import ‘MSstats::SkylinetoMSstatsFormat’ by ‘MSstatsConvert::SkylinetoMSstatsFormat’ when loading ‘MSstatsShiny’ Warning: replacing previous import ‘MSstats::ProgenesistoMSstatsFormat’ by ‘MSstatsConvert::ProgenesistoMSstatsFormat’ when loading ‘MSstatsShiny’ Warning: replacing previous import ‘MSstats::SpectronauttoMSstatsFormat’ by ‘MSstatsConvert::SpectronauttoMSstatsFormat’ when loading ‘MSstatsShiny’ Warning: replacing previous import ‘MSstats::FragPipetoMSstatsFormat’ by ‘MSstatsConvert::FragPipetoMSstatsFormat’ when loading ‘MSstatsShiny’ Warning: replacing previous import ‘MSstats::DIAUmpiretoMSstatsFormat’ by ‘MSstatsConvert::DIAUmpiretoMSstatsFormat’ when loading ‘MSstatsShiny’ Warning: replacing previous import ‘MSstats::OpenMStoMSstatsFormat’ by ‘MSstatsConvert::OpenMStoMSstatsFormat’ when loading ‘MSstatsShiny’ Warning: replacing previous import ‘MSstats::MaxQtoMSstatsFormat’ by ‘MSstatsConvert::MaxQtoMSstatsFormat’ when loading ‘MSstatsShiny’ Warning: replacing previous import ‘MSstats::PDtoMSstatsFormat’ by ‘MSstatsConvert::PDtoMSstatsFormat’ when loading ‘MSstatsShiny’ Warning: replacing previous import ‘MSstats::OpenSWATHtoMSstatsFormat’ by ‘MSstatsConvert::OpenSWATHtoMSstatsFormat’ when loading ‘MSstatsShiny’ Warning: replacing previous import ‘MSstats::DIANNtoMSstatsFormat’ by ‘MSstatsConvert::DIANNtoMSstatsFormat’ when loading ‘MSstatsShiny’ ** help *** installing help indices ** building package indices ** installing vignettes ** testing if installed package can be loaded from temporary location Warning: replacing previous import ‘MSstats::SkylinetoMSstatsFormat’ by ‘MSstatsConvert::SkylinetoMSstatsFormat’ when loading ‘MSstatsShiny’ Warning: replacing previous import ‘MSstats::ProgenesistoMSstatsFormat’ by ‘MSstatsConvert::ProgenesistoMSstatsFormat’ when loading ‘MSstatsShiny’ Warning: replacing previous import ‘MSstats::SpectronauttoMSstatsFormat’ by ‘MSstatsConvert::SpectronauttoMSstatsFormat’ when loading ‘MSstatsShiny’ Warning: replacing previous import ‘MSstats::FragPipetoMSstatsFormat’ by ‘MSstatsConvert::FragPipetoMSstatsFormat’ when loading ‘MSstatsShiny’ Warning: replacing previous import ‘MSstats::DIAUmpiretoMSstatsFormat’ by ‘MSstatsConvert::DIAUmpiretoMSstatsFormat’ when loading ‘MSstatsShiny’ Warning: replacing previous import ‘MSstats::OpenMStoMSstatsFormat’ by ‘MSstatsConvert::OpenMStoMSstatsFormat’ when loading ‘MSstatsShiny’ Warning: replacing previous import ‘MSstats::MaxQtoMSstatsFormat’ by ‘MSstatsConvert::MaxQtoMSstatsFormat’ when loading ‘MSstatsShiny’ Warning: replacing previous import ‘MSstats::PDtoMSstatsFormat’ by ‘MSstatsConvert::PDtoMSstatsFormat’ when loading ‘MSstatsShiny’ Warning: replacing previous import ‘MSstats::OpenSWATHtoMSstatsFormat’ by ‘MSstatsConvert::OpenSWATHtoMSstatsFormat’ when loading ‘MSstatsShiny’ Warning: replacing previous import ‘MSstats::DIANNtoMSstatsFormat’ by ‘MSstatsConvert::DIANNtoMSstatsFormat’ when loading ‘MSstatsShiny’ ** testing if installed package can be loaded from final location Warning: replacing previous import ‘MSstats::SkylinetoMSstatsFormat’ by ‘MSstatsConvert::SkylinetoMSstatsFormat’ when loading ‘MSstatsShiny’ Warning: replacing previous import ‘MSstats::ProgenesistoMSstatsFormat’ by ‘MSstatsConvert::ProgenesistoMSstatsFormat’ when loading ‘MSstatsShiny’ Warning: replacing previous import ‘MSstats::SpectronauttoMSstatsFormat’ by ‘MSstatsConvert::SpectronauttoMSstatsFormat’ when loading ‘MSstatsShiny’ Warning: replacing previous import ‘MSstats::FragPipetoMSstatsFormat’ by ‘MSstatsConvert::FragPipetoMSstatsFormat’ when loading ‘MSstatsShiny’ Warning: replacing previous import ‘MSstats::DIAUmpiretoMSstatsFormat’ by ‘MSstatsConvert::DIAUmpiretoMSstatsFormat’ when loading ‘MSstatsShiny’ Warning: replacing previous import ‘MSstats::OpenMStoMSstatsFormat’ by ‘MSstatsConvert::OpenMStoMSstatsFormat’ when loading ‘MSstatsShiny’ Warning: replacing previous import ‘MSstats::MaxQtoMSstatsFormat’ by ‘MSstatsConvert::MaxQtoMSstatsFormat’ when loading ‘MSstatsShiny’ Warning: replacing previous import ‘MSstats::PDtoMSstatsFormat’ by ‘MSstatsConvert::PDtoMSstatsFormat’ when loading ‘MSstatsShiny’ Warning: replacing previous import ‘MSstats::OpenSWATHtoMSstatsFormat’ by ‘MSstatsConvert::OpenSWATHtoMSstatsFormat’ when loading ‘MSstatsShiny’ Warning: replacing previous import ‘MSstats::DIANNtoMSstatsFormat’ by ‘MSstatsConvert::DIANNtoMSstatsFormat’ when loading ‘MSstatsShiny’ ** testing if installed package keeps a record of temporary installation path * DONE (MSstatsShiny)