Back to Multiple platform build/check report for BioC 3.19: simplified long |
|
This page was generated on 2024-06-11 14:43 -0400 (Tue, 11 Jun 2024).
Hostname | OS | Arch (*) | R version | Installed pkgs |
---|---|---|---|---|
nebbiolo1 | Linux (Ubuntu 22.04.3 LTS) | x86_64 | 4.4.0 (2024-04-24) -- "Puppy Cup" | 4757 |
palomino3 | Windows Server 2022 Datacenter | x64 | 4.4.0 (2024-04-24 ucrt) -- "Puppy Cup" | 4491 |
lconway | macOS 12.7.1 Monterey | x86_64 | 4.4.0 (2024-04-24) -- "Puppy Cup" | 4522 |
kjohnson3 | macOS 13.6.5 Ventura | arm64 | 4.4.0 (2024-04-24) -- "Puppy Cup" | 4468 |
Click on any hostname to see more info about the system (e.g. compilers) (*) as reported by 'uname -p', except on Windows and Mac OS X |
Package 1147/2300 | Hostname | OS / Arch | INSTALL | BUILD | CHECK | BUILD BIN | ||||||||
MAGeCKFlute 2.8.0 (landing page) Wubing Zhang
| nebbiolo1 | Linux (Ubuntu 22.04.3 LTS) / x86_64 | OK | OK | OK | |||||||||
palomino3 | Windows Server 2022 Datacenter / x64 | OK | OK | OK | OK | |||||||||
lconway | macOS 12.7.1 Monterey / x86_64 | OK | OK | OK | OK | |||||||||
kjohnson3 | macOS 13.6.5 Ventura / arm64 | OK | OK | OK | OK | |||||||||
To the developers/maintainers of the MAGeCKFlute package: - Allow up to 24 hours (and sometimes 48 hours) for your latest push to git@git.bioconductor.org:packages/MAGeCKFlute.git to reflect on this report. See Troubleshooting Build Report for more information. - Use the following Renviron settings to reproduce errors and warnings. - If 'R CMD check' started to fail recently on the Linux builder(s) over a missing dependency, add the missing dependency to 'Suggests:' in your DESCRIPTION file. See Renviron.bioc for more information. |
Package: MAGeCKFlute |
Version: 2.8.0 |
Command: /Library/Frameworks/R.framework/Resources/bin/R CMD check --install=check:MAGeCKFlute.install-out.txt --library=/Library/Frameworks/R.framework/Resources/library --no-vignettes --timings MAGeCKFlute_2.8.0.tar.gz |
StartedAt: 2024-06-10 20:27:45 -0400 (Mon, 10 Jun 2024) |
EndedAt: 2024-06-10 20:34:26 -0400 (Mon, 10 Jun 2024) |
EllapsedTime: 401.3 seconds |
RetCode: 0 |
Status: OK |
CheckDir: MAGeCKFlute.Rcheck |
Warnings: 0 |
############################################################################## ############################################################################## ### ### Running command: ### ### /Library/Frameworks/R.framework/Resources/bin/R CMD check --install=check:MAGeCKFlute.install-out.txt --library=/Library/Frameworks/R.framework/Resources/library --no-vignettes --timings MAGeCKFlute_2.8.0.tar.gz ### ############################################################################## ############################################################################## * using log directory ‘/Users/biocbuild/bbs-3.19-bioc/meat/MAGeCKFlute.Rcheck’ * using R version 4.4.0 (2024-04-24) * using platform: aarch64-apple-darwin20 * R was compiled by Apple clang version 14.0.0 (clang-1400.0.29.202) GNU Fortran (GCC) 12.2.0 * running under: macOS Ventura 13.6.5 * using session charset: UTF-8 * using option ‘--no-vignettes’ * checking for file ‘MAGeCKFlute/DESCRIPTION’ ... OK * checking extension type ... Package * this is package ‘MAGeCKFlute’ version ‘2.8.0’ * package encoding: UTF-8 * checking package namespace information ... OK * checking package dependencies ... OK * checking if this is a source package ... OK * checking if there is a namespace ... OK * checking for hidden files and directories ... OK * checking for portable file names ... OK * checking for sufficient/correct file permissions ... OK * checking whether package ‘MAGeCKFlute’ can be installed ... OK * checking installed package size ... NOTE installed size is 20.7Mb sub-directories of 1Mb or more: extdata 20.3Mb * checking package directory ... OK * checking ‘build’ directory ... OK * checking DESCRIPTION meta-information ... OK * checking top-level files ... OK * checking for left-over files ... OK * checking index information ... OK * checking package subdirectories ... OK * checking code files for non-ASCII characters ... OK * checking R files for syntax errors ... OK * checking whether the package can be loaded ... OK * checking whether the package can be loaded with stated dependencies ... OK * checking whether the package can be unloaded cleanly ... OK * checking whether the namespace can be loaded with stated dependencies ... OK * checking whether the namespace can be unloaded cleanly ... OK * checking dependencies in R code ... OK * checking S3 generic/method consistency ... OK * checking replacement functions ... OK * checking foreign function calls ... OK * checking R code for possible problems ... NOTE EnrichedFilter: no visible global function definition for ‘is’ EnrichedGeneView: no visible global function definition for ‘is’ EnrichedView: no visible global function definition for ‘is’ EnrichedView: no visible global function definition for ‘slot’ enrich.HGT: no visible global function definition for ‘new’ Undefined global functions or variables: is new slot Consider adding importFrom("methods", "is", "new", "slot") to your NAMESPACE file (and ensure that your DESCRIPTION Imports field contains 'methods'). * checking Rd files ... NOTE checkRd: (-1) FluteMLE.Rd:87: Lost braces; missing escapes or markup? 87 | \item {QC}: {Quality control} | ^ checkRd: (-1) FluteMLE.Rd:88: Lost braces; missing escapes or markup? 88 | \item {Selection}: {Positive selection and negative selection.} | ^ checkRd: (-1) FluteMLE.Rd:89: Lost braces; missing escapes or markup? 89 | \item {Enrichment}: {Enrichment analysis for positive and negative selection genes.} | ^ checkRd: (-1) FluteMLE.Rd:90: Lost braces; missing escapes or markup? 90 | \item {PathwayView}: {Pathway view for top enriched pathways.} | ^ checkRd: (-1) getOrg.Rd:18: Lost braces 18 | \code{pkg}{annotation package name} | ^ * checking Rd metadata ... OK * checking Rd cross-references ... OK * checking for missing documentation entries ... OK * checking for code/documentation mismatches ... OK * checking Rd \usage sections ... OK * checking Rd contents ... OK * checking for unstated dependencies in examples ... OK * checking files in ‘vignettes’ ... OK * checking examples ... OK Examples with CPU (user + system) or elapsed time > 5s user system elapsed MAView 8.696 0.284 12.816 BatchRemove 5.270 0.133 7.672 enrich.ORT 4.995 0.103 7.283 enrich.HGT 3.952 0.071 5.566 TransGeneID 3.546 0.054 5.276 * checking for unstated dependencies in vignettes ... OK * checking package vignettes ... OK * checking running R code from vignettes ... SKIPPED * checking re-building of vignette outputs ... SKIPPED * checking PDF version of manual ... OK * DONE Status: 3 NOTEs See ‘/Users/biocbuild/bbs-3.19-bioc/meat/MAGeCKFlute.Rcheck/00check.log’ for details.
MAGeCKFlute.Rcheck/00install.out
############################################################################## ############################################################################## ### ### Running command: ### ### /Library/Frameworks/R.framework/Resources/bin/R CMD INSTALL MAGeCKFlute ### ############################################################################## ############################################################################## * installing to library ‘/Library/Frameworks/R.framework/Versions/4.4-arm64/Resources/library’ * installing *source* package ‘MAGeCKFlute’ ... ** using staged installation ** R ** inst ** byte-compile and prepare package for lazy loading ** help *** installing help indices ** building package indices ** installing vignettes ** testing if installed package can be loaded from temporary location ** testing if installed package can be loaded from final location ** testing if installed package keeps a record of temporary installation path * DONE (MAGeCKFlute)
MAGeCKFlute.Rcheck/MAGeCKFlute-Ex.timings
name | user | system | elapsed | |
BarView | 0.264 | 0.014 | 0.411 | |
BatchRemove | 5.270 | 0.133 | 7.672 | |
ConsistencyView | 1.026 | 0.063 | 1.567 | |
CutoffCalling | 0.004 | 0.001 | 0.009 | |
DensityDiffView | 1.281 | 0.032 | 1.766 | |
DensityView | 1.096 | 0.043 | 1.574 | |
EnrichAnalyzer | 0.019 | 0.002 | 0.028 | |
EnrichedFilter | 0.012 | 0.001 | 0.020 | |
EnrichedGeneView | 0.012 | 0.001 | 0.015 | |
EnrichedView | 0.011 | 0.001 | 0.015 | |
FluteMLE | 0.001 | 0.001 | 0.001 | |
FluteRRA | 0.001 | 0.001 | 0.002 | |
HeatmapView | 0.526 | 0.016 | 0.770 | |
IdentBarView | 0.151 | 0.004 | 0.212 | |
IncorporateDepmap | 0.282 | 0.010 | 0.408 | |
MAView | 8.696 | 0.284 | 12.816 | |
MapRatesView | 0.441 | 0.010 | 0.689 | |
NormalizeBeta | 1.104 | 0.027 | 1.551 | |
OmitCommonEssential | 0 | 0 | 0 | |
RankView | 0.706 | 0.033 | 1.030 | |
ReadBeta | 0.515 | 0.012 | 0.709 | |
ReadRRA | 0.261 | 0.006 | 0.414 | |
ReadsgRRA | 0.018 | 0.003 | 0.032 | |
ResembleDepmap | 0.260 | 0.006 | 0.375 | |
ScatterView | 3.326 | 0.099 | 4.926 | |
Selector | 0.600 | 0.012 | 0.891 | |
SquareView | 1.268 | 0.041 | 1.908 | |
TransGeneID | 3.546 | 0.054 | 5.276 | |
ViolinView | 1.410 | 0.045 | 2.067 | |
VolcanoView | 1.571 | 0.065 | 2.366 | |
arrangePathview | 0.444 | 0.010 | 0.628 | |
enrich.GSE | 0.016 | 0.001 | 0.022 | |
enrich.HGT | 3.952 | 0.071 | 5.566 | |
enrich.ORT | 4.995 | 0.103 | 7.283 | |
getCols | 0.007 | 0.000 | 0.012 | |
getGeneAnn | 0.000 | 0.000 | 0.001 | |
getOrg | 0.001 | 0.000 | 0.001 | |
getOrtAnn | 0.000 | 0.000 | 0.001 | |
gsGetter | 0.440 | 0.011 | 0.652 | |
hclustView | 0.429 | 0.014 | 0.715 | |
loadDepmap | 0 | 0 | 0 | |
normalize.loess | 1.138 | 0.018 | 1.676 | |
sgRankView | 0.180 | 0.005 | 0.275 | |
writeGMT | 0.030 | 0.002 | 0.046 | |