| Back to Multiple platform build/check report for BioC 3.19: simplified long |
|
This page was generated on 2024-05-09 11:41:02 -0400 (Thu, 09 May 2024).
| Hostname | OS | Arch (*) | R version | Installed pkgs |
|---|---|---|---|---|
| nebbiolo1 | Linux (Ubuntu 22.04.3 LTS) | x86_64 | 4.4.0 (2024-04-24) -- "Puppy Cup" | 4748 |
| palomino3 | Windows Server 2022 Datacenter | x64 | 4.4.0 (2024-04-24 ucrt) -- "Puppy Cup" | 4484 |
| lconway | macOS 12.7.1 Monterey | x86_64 | 4.4.0 (2024-04-24) -- "Puppy Cup" | 4514 |
| kunpeng2 | Linux (openEuler 22.03 LTS-SP1) | aarch64 | 4.4.0 beta (2024-04-15 r86425) -- "Puppy Cup" | 4480 |
| Click on any hostname to see more info about the system (e.g. compilers) (*) as reported by 'uname -p', except on Windows and Mac OS X | ||||
| Package 1136/2300 | Hostname | OS / Arch | INSTALL | BUILD | CHECK | BUILD BIN | ||||||||
| M3Drop 1.30.0 (landing page) Tallulah Andrews
| nebbiolo1 | Linux (Ubuntu 22.04.3 LTS) / x86_64 | OK | OK | OK | |||||||||
| palomino3 | Windows Server 2022 Datacenter / x64 | OK | ERROR | skipped | skipped | |||||||||
| lconway | macOS 12.7.1 Monterey / x86_64 | OK | OK | OK | OK | |||||||||
| kunpeng2 | Linux (openEuler 22.03 LTS-SP1) / aarch64 | OK | OK | OK | ||||||||||
| kjohnson3 | macOS 13.6.5 Ventura / arm64 | see weekly results here | ||||||||||||
|
To the developers/maintainers of the M3Drop package: - Allow up to 24 hours (and sometimes 48 hours) for your latest push to git@git.bioconductor.org:packages/M3Drop.git to reflect on this report. See Troubleshooting Build Report for more information. - Use the following Renviron settings to reproduce errors and warnings. - If 'R CMD check' started to fail recently on the Linux builder(s) over a missing dependency, add the missing dependency to 'Suggests:' in your DESCRIPTION file. See Renviron.bioc for more information. - See Martin Grigorov's blog post for how to debug Linux ARM64 related issues on a x86_64 host. |
| Package: M3Drop |
| Version: 1.30.0 |
| Command: /home/biocbuild/R/R-beta-2024-04-15_r86425/bin/R CMD check --install=check:M3Drop.install-out.txt --library=/home/biocbuild/R/R-beta-2024-04-15_r86425/site-library --no-vignettes --timings M3Drop_1.30.0.tar.gz |
| StartedAt: 2024-05-09 08:55:39 -0000 (Thu, 09 May 2024) |
| EndedAt: 2024-05-09 09:03:38 -0000 (Thu, 09 May 2024) |
| EllapsedTime: 478.9 seconds |
| RetCode: 0 |
| Status: OK |
| CheckDir: M3Drop.Rcheck |
| Warnings: 0 |
##############################################################################
##############################################################################
###
### Running command:
###
### /home/biocbuild/R/R-beta-2024-04-15_r86425/bin/R CMD check --install=check:M3Drop.install-out.txt --library=/home/biocbuild/R/R-beta-2024-04-15_r86425/site-library --no-vignettes --timings M3Drop_1.30.0.tar.gz
###
##############################################################################
##############################################################################
* using log directory ‘/home/biocbuild/bbs-3.19-bioc/meat/M3Drop.Rcheck’
* using R version 4.4.0 beta (2024-04-15 r86425)
* using platform: aarch64-unknown-linux-gnu
* R was compiled by
gcc (GCC) 10.3.1
GNU Fortran (GCC) 10.3.1
* running under: openEuler 22.03 (LTS-SP1)
* using session charset: UTF-8
* using option ‘--no-vignettes’
* checking for file ‘M3Drop/DESCRIPTION’ ... OK
* this is package ‘M3Drop’ version ‘1.30.0’
* checking package namespace information ... OK
* checking package dependencies ... OK
* checking if this is a source package ... OK
* checking if there is a namespace ... OK
* checking for hidden files and directories ... OK
* checking for portable file names ... OK
* checking for sufficient/correct file permissions ... OK
* checking whether package ‘M3Drop’ can be installed ... OK
* checking installed package size ... OK
* checking package directory ... OK
* checking ‘build’ directory ... OK
* checking DESCRIPTION meta-information ... OK
* checking top-level files ... OK
* checking for left-over files ... OK
* checking index information ... OK
* checking package subdirectories ... OK
* checking code files for non-ASCII characters ... OK
* checking R files for syntax errors ... OK
* checking whether the package can be loaded ... OK
* checking whether the package can be loaded with stated dependencies ... OK
* checking whether the package can be unloaded cleanly ... OK
* checking whether the namespace can be loaded with stated dependencies ... OK
* checking whether the namespace can be unloaded cleanly ... OK
* checking loading without being on the library search path ... OK
* checking dependencies in R code ... NOTE
Namespace in Imports field not imported from: ‘scater’
All declared Imports should be used.
* checking S3 generic/method consistency ... OK
* checking replacement functions ... OK
* checking foreign function calls ... OK
* checking R code for possible problems ... NOTE
M3DropConvertData: no visible global function definition for ‘assays’
NBumiConvertData: no visible global function definition for ‘assays’
bg__filter_cells: no visible binding for global variable ‘x’
bg__get_extreme_residuals: no visible binding for global variable ‘x’
Undefined global functions or variables:
assays x
* checking Rd files ... NOTE
prepare_Rd: NBumi_FSOther.Rd:8-10: Dropping empty section \usage
prepare_Rd: NBumi_TradDE.Rd:7-8: Dropping empty section \usage
* checking Rd metadata ... OK
* checking Rd cross-references ... OK
* checking for missing documentation entries ... OK
* checking for code/documentation mismatches ... OK
* checking Rd \usage sections ... OK
* checking Rd contents ... OK
* checking for unstated dependencies in examples ... OK
* checking files in ‘vignettes’ ... OK
* checking examples ... OK
Examples with CPU (user + system) or elapsed time > 5s
user system elapsed
NewSimulations 157.068 0.635 158.026
Imputation 79.643 0.103 79.820
M3D_getmarkers 47.426 0.144 47.655
M3D_ConverData 8.097 0.152 8.265
Brennecke_getVariableGenes 5.278 0.152 5.446
NBumi_CompareModels 5.358 0.024 5.393
* checking for unstated dependencies in vignettes ... OK
* checking package vignettes ... OK
* checking running R code from vignettes ... SKIPPED
* checking re-building of vignette outputs ... SKIPPED
* checking PDF version of manual ... OK
* DONE
Status: 3 NOTEs
See
‘/home/biocbuild/bbs-3.19-bioc/meat/M3Drop.Rcheck/00check.log’
for details.
M3Drop.Rcheck/00install.out
############################################################################## ############################################################################## ### ### Running command: ### ### /home/biocbuild/R/R-beta-2024-04-15_r86425/bin/R CMD INSTALL M3Drop ### ############################################################################## ############################################################################## * installing to library ‘/home/biocbuild/R/R-beta-2024-04-15_r86425/site-library’ * installing *source* package ‘M3Drop’ ... ** using staged installation ** R ** inst ** byte-compile and prepare package for lazy loading ** help *** installing help indices ** building package indices ** installing vignettes ** testing if installed package can be loaded from temporary location ** testing if installed package can be loaded from final location ** testing if installed package keeps a record of temporary installation path * DONE (M3Drop)
M3Drop.Rcheck/M3Drop-Ex.timings
| name | user | system | elapsed | |
| Brennecke_getVariableGenes | 5.278 | 0.152 | 5.446 | |
| Consensus_FS | 1.916 | 0.000 | 1.918 | |
| Fitting_Dropout_Models | 0.000 | 0.000 | 0.001 | |
| Imputation | 79.643 | 0.103 | 79.820 | |
| M3D_Clean_Data | 2.124 | 0.048 | 2.174 | |
| M3D_ConverData | 8.097 | 0.152 | 8.265 | |
| M3D_Differential_Expression | 2.614 | 0.048 | 2.668 | |
| M3D_Dropout_Models | 1.534 | 0.004 | 1.543 | |
| M3D_Expression_Heatmap | 0.453 | 0.008 | 0.462 | |
| M3D_Get_Extremes | 4.062 | 0.012 | 4.079 | |
| M3D_Get_Heatmap_Cell_Clusters | 0.420 | 0.004 | 0.424 | |
| M3D_Simulations | 0 | 0 | 0 | |
| M3D_Test_Shift | 1.698 | 0.008 | 1.709 | |
| M3D_ThreeSet_Venn | 0.242 | 0.004 | 0.246 | |
| M3D_TraditionalDE | 0.015 | 0.000 | 0.014 | |
| M3D_getmarkers | 47.426 | 0.144 | 47.655 | |
| M3D_horz_res | 0 | 0 | 0 | |
| NBumi_CheckFit | 3.347 | 0.047 | 3.402 | |
| NBumi_CoExpression | 1.888 | 0.004 | 1.895 | |
| NBumi_CompareModels | 5.358 | 0.024 | 5.393 | |
| NBumi_ConvertToInteger | 0 | 0 | 0 | |
| NBumi_ConvrtData | 0.454 | 0.000 | 0.455 | |
| NBumi_FSDrop | 2.980 | 0.016 | 3.003 | |
| NBumi_FSHighVar | 1.858 | 0.012 | 1.875 | |
| NBumi_FSOther | 0.013 | 0.000 | 0.012 | |
| NBumi_FitDisp | 0 | 0 | 0 | |
| NBumi_FitDispVsMean | 1.451 | 0.020 | 1.475 | |
| NBumi_FitModel | 1.831 | 0.004 | 1.839 | |
| NBumi_HVG | 2.131 | 0.000 | 2.136 | |
| NBumi_PearsonResiduals | 2.789 | 0.020 | 2.815 | |
| NBumi_TradDE | 0.001 | 0.000 | 0.000 | |
| NewSimulations | 157.068 | 0.635 | 158.026 | |
| Other_FS | 3.218 | 0.056 | 3.280 | |
| PoissonUMIFeatureSelectionDropouts | 1.650 | 0.028 | 1.681 | |
| bg__fit_gamma | 0 | 0 | 0 | |
| bg__get_stats | 0.001 | 0.000 | 0.000 | |
| bg__mean2disp | 0 | 0 | 0 | |
| bg__shift_size | 0 | 0 | 0 | |
| bg__var_vs_drop | 0 | 0 | 0 | |