| Back to Multiple platform build/check report for BioC 3.19: simplified long | 
 | 
This page was generated on 2024-06-28 17:41 -0400 (Fri, 28 Jun 2024).
| Hostname | OS | Arch (*) | R version | Installed pkgs | 
|---|---|---|---|---|
| nebbiolo1 | Linux (Ubuntu 22.04.3 LTS) | x86_64 | 4.4.0 (2024-04-24) -- "Puppy Cup" | 4760 | 
| palomino3 | Windows Server 2022 Datacenter | x64 | 4.4.0 (2024-04-24 ucrt) -- "Puppy Cup" | 4494 | 
| merida1 | macOS 12.7.4 Monterey | x86_64 | 4.4.0 (2024-04-24) -- "Puppy Cup" | 4508 | 
| kjohnson1 | macOS 13.6.6 Ventura | arm64 | 4.4.0 (2024-04-24) -- "Puppy Cup" | 4466 | 
| palomino7 | Windows Server 2022 Datacenter | x64 | 4.4.1 (2024-06-14 ucrt) -- "Race for Your Life" | 4362 | 
| Click on any hostname to see more info about the system (e.g. compilers) (*) as reported by 'uname -p', except on Windows and Mac OS X | ||||
| Package 1104/2300 | Hostname | OS / Arch | INSTALL | BUILD | CHECK | BUILD BIN | ||||||||
| LedPred 1.38.0  (landing page) Aitor Gonzalez 
 | nebbiolo1 | Linux (Ubuntu 22.04.3 LTS) / x86_64 | OK | OK | OK |  | ||||||||
| palomino3 | Windows Server 2022 Datacenter / x64 | OK | OK | OK | OK |  | ||||||||
| merida1 | macOS 12.7.4 Monterey / x86_64 | OK | OK | OK | OK |  | ||||||||
| kjohnson1 | macOS 13.6.6 Ventura / arm64 | OK | OK | OK | OK |  | ||||||||
| palomino7 | Windows Server 2022 Datacenter / x64 | OK | OK | OK | OK | |||||||||
| To the developers/maintainers of the LedPred package: - Allow up to 24 hours (and sometimes 48 hours) for your latest push to git@git.bioconductor.org:packages/LedPred.git to reflect on this report. See Troubleshooting Build Report for more information. - Use the following Renviron settings to reproduce errors and warnings. - If 'R CMD check' started to fail recently on the Linux builder(s) over a missing dependency, add the missing dependency to 'Suggests:' in your DESCRIPTION file. See Renviron.bioc for more information. | 
| Package: LedPred | 
| Version: 1.38.0 | 
| Command: chmod a+r LedPred -R && F:\biocbuild\bbs-3.19-bioc\R\bin\R.exe CMD build --keep-empty-dirs --no-resave-data LedPred | 
| StartedAt: 2024-06-26 19:43:31 -0400 (Wed, 26 Jun 2024) | 
| EndedAt: 2024-06-26 19:43:58 -0400 (Wed, 26 Jun 2024) | 
| EllapsedTime: 27.6 seconds | 
| RetCode: 0 | 
| Status: OK | 
| PackageFile: LedPred_1.38.0.tar.gz | 
| PackageFileSize: 1.333 MiB | 
##############################################################################
##############################################################################
###
### Running command:
###
###   chmod a+r LedPred -R && F:\biocbuild\bbs-3.19-bioc\R\bin\R.exe CMD build --keep-empty-dirs --no-resave-data LedPred
###
##############################################################################
##############################################################################
* checking for file 'LedPred/DESCRIPTION' ... OK
* preparing 'LedPred':
* checking DESCRIPTION meta-information ... OK
* installing the package to build vignettes
* creating vignettes ... OK
Warning: 'inst/doc' files
    'LedPred.Rnw', 'LedPred.pdf', 'LedPred.R'
  ignored as vignettes have been rebuilt.
  Run R CMD build with --no-build-vignettes to prevent rebuilding.
* checking for LF line-endings in source and make files and shell scripts
* checking for empty or unneeded directories
* building 'LedPred_1.38.0.tar.gz'