| Back to Multiple platform build/check report for BioC 3.19: simplified long |
|
This page was generated on 2024-01-03 12:22:37 -0500 (Wed, 03 Jan 2024).
| Hostname | OS | Arch (*) | R version | Installed pkgs |
|---|---|---|---|---|
| nebbiolo1 | Linux (Ubuntu 22.04.2 LTS) | x86_64 | R Under development (unstable) (2023-11-11 r85510) -- "Unsuffered Consequences" | 4631 |
| palomino3 | Windows Server 2022 Datacenter | x64 | R Under development (unstable) (2023-11-14 r85524 ucrt) -- "Unsuffered Consequences" | 4391 |
| merida1 | macOS 12.7.1 Monterey | x86_64 | R Under development (unstable) (2023-11-11 r85510) -- "Unsuffered Consequences" | 4400 |
| kunpeng2 | Linux (openEuler 22.03 LTS-SP1) | aarch64 | R Under development (unstable) (2023-11-01 r85459) -- "Unsuffered Consequences" | 4325 |
| Click on any hostname to see more info about the system (e.g. compilers) (*) as reported by 'uname -p', except on Windows and Mac OS X | ||||
| Package 1024/2231 | Hostname | OS / Arch | INSTALL | BUILD | CHECK | BUILD BIN | ||||||||
| IntOMICS 1.3.0 (landing page) Pacinkova Anna
| nebbiolo1 | Linux (Ubuntu 22.04.2 LTS) / x86_64 | OK | OK | WARNINGS | |||||||||
| palomino3 | Windows Server 2022 Datacenter / x64 | OK | OK | WARNINGS | OK | |||||||||
| merida1 | macOS 12.7.1 Monterey / x86_64 | OK | OK | WARNINGS | OK | |||||||||
| kunpeng2 | Linux (openEuler 22.03 LTS-SP1) / aarch64 | OK | OK | WARNINGS | ||||||||||
|
To the developers/maintainers of the IntOMICS package: - Allow up to 24 hours (and sometimes 48 hours) for your latest push to git@git.bioconductor.org:packages/IntOMICS.git to reflect on this report. See Troubleshooting Build Report for more information. - Use the following Renviron settings to reproduce errors and warnings. - If 'R CMD check' started to fail recently on the Linux builder(s) over a missing dependency, add the missing dependency to 'Suggests:' in your DESCRIPTION file. See Renviron.bioc for more information. |
| Package: IntOMICS |
| Version: 1.3.0 |
| Command: rm -rf IntOMICS.buildbin-libdir && mkdir IntOMICS.buildbin-libdir && F:\biocbuild\bbs-3.19-bioc\R\bin\R.exe CMD INSTALL --build --library=IntOMICS.buildbin-libdir IntOMICS_1.3.0.tar.gz |
| StartedAt: 2024-01-03 10:48:29 -0500 (Wed, 03 Jan 2024) |
| EndedAt: 2024-01-03 10:49:11 -0500 (Wed, 03 Jan 2024) |
| EllapsedTime: 42.5 seconds |
| RetCode: 0 |
| Status: OK |
| PackageFile: IntOMICS_1.3.0.zip |
| PackageFileSize: 2.57 MiB |
############################################################################## ############################################################################## ### ### Running command: ### ### rm -rf IntOMICS.buildbin-libdir && mkdir IntOMICS.buildbin-libdir && F:\biocbuild\bbs-3.19-bioc\R\bin\R.exe CMD INSTALL --build --library=IntOMICS.buildbin-libdir IntOMICS_1.3.0.tar.gz ### ############################################################################## ############################################################################## * installing *source* package 'IntOMICS' ... ** using staged installation ** R ** data ** inst ** byte-compile and prepare package for lazy loading ** help *** installing help indices ** building package indices ** installing vignettes ** testing if installed package can be loaded from temporary location ** testing if installed package can be loaded from final location ** testing if installed package keeps a record of temporary installation path * MD5 sums packaged installation of 'IntOMICS' as IntOMICS_1.3.0.zip * DONE (IntOMICS)