| Back to Multiple platform build/check report for BioC 3.19: simplified long |
|
This page was generated on 2024-06-11 14:43 -0400 (Tue, 11 Jun 2024).
| Hostname | OS | Arch (*) | R version | Installed pkgs |
|---|---|---|---|---|
| nebbiolo1 | Linux (Ubuntu 22.04.3 LTS) | x86_64 | 4.4.0 (2024-04-24) -- "Puppy Cup" | 4757 |
| palomino3 | Windows Server 2022 Datacenter | x64 | 4.4.0 (2024-04-24 ucrt) -- "Puppy Cup" | 4491 |
| lconway | macOS 12.7.1 Monterey | x86_64 | 4.4.0 (2024-04-24) -- "Puppy Cup" | 4522 |
| kjohnson3 | macOS 13.6.5 Ventura | arm64 | 4.4.0 (2024-04-24) -- "Puppy Cup" | 4468 |
| Click on any hostname to see more info about the system (e.g. compilers) (*) as reported by 'uname -p', except on Windows and Mac OS X | ||||
| Package 1050/2300 | Hostname | OS / Arch | INSTALL | BUILD | CHECK | BUILD BIN | ||||||||
| IntEREst 1.28.0 (landing page) Ali Oghabian
| nebbiolo1 | Linux (Ubuntu 22.04.3 LTS) / x86_64 | OK | OK | OK | |||||||||
| palomino3 | Windows Server 2022 Datacenter / x64 | OK | OK | OK | OK | |||||||||
| lconway | macOS 12.7.1 Monterey / x86_64 | OK | OK | OK | OK | |||||||||
| kjohnson3 | macOS 13.6.5 Ventura / arm64 | OK | OK | OK | OK | |||||||||
|
To the developers/maintainers of the IntEREst package: - Allow up to 24 hours (and sometimes 48 hours) for your latest push to git@git.bioconductor.org:packages/IntEREst.git to reflect on this report. See Troubleshooting Build Report for more information. - Use the following Renviron settings to reproduce errors and warnings. - If 'R CMD check' started to fail recently on the Linux builder(s) over a missing dependency, add the missing dependency to 'Suggests:' in your DESCRIPTION file. See Renviron.bioc for more information. |
| Package: IntEREst |
| Version: 1.28.0 |
| Command: /Library/Frameworks/R.framework/Resources/bin/R CMD check --install=check:IntEREst.install-out.txt --library=/Library/Frameworks/R.framework/Resources/library --no-vignettes --timings IntEREst_1.28.0.tar.gz |
| StartedAt: 2024-06-10 19:24:05 -0400 (Mon, 10 Jun 2024) |
| EndedAt: 2024-06-10 19:35:36 -0400 (Mon, 10 Jun 2024) |
| EllapsedTime: 690.8 seconds |
| RetCode: 0 |
| Status: OK |
| CheckDir: IntEREst.Rcheck |
| Warnings: 0 |
##############################################################################
##############################################################################
###
### Running command:
###
### /Library/Frameworks/R.framework/Resources/bin/R CMD check --install=check:IntEREst.install-out.txt --library=/Library/Frameworks/R.framework/Resources/library --no-vignettes --timings IntEREst_1.28.0.tar.gz
###
##############################################################################
##############################################################################
* using log directory ‘/Users/biocbuild/bbs-3.19-bioc/meat/IntEREst.Rcheck’
* using R version 4.4.0 (2024-04-24)
* using platform: aarch64-apple-darwin20
* R was compiled by
Apple clang version 14.0.0 (clang-1400.0.29.202)
GNU Fortran (GCC) 12.2.0
* running under: macOS Ventura 13.6.5
* using session charset: UTF-8
* using option ‘--no-vignettes’
* checking for file ‘IntEREst/DESCRIPTION’ ... OK
* this is package ‘IntEREst’ version ‘1.28.0’
* checking package namespace information ... OK
* checking package dependencies ... NOTE
Depends: includes the non-default packages:
'GenomicRanges', 'Rsamtools', 'SummarizedExperiment', 'edgeR',
'S4Vectors', 'GenomicFiles'
Adding so many packages to the search path is excessive and importing
selectively is preferable.
* checking if this is a source package ... OK
* checking if there is a namespace ... OK
* checking for hidden files and directories ... OK
* checking for portable file names ... OK
* checking for sufficient/correct file permissions ... OK
* checking whether package ‘IntEREst’ can be installed ... OK
* checking installed package size ... OK
* checking package directory ... OK
* checking ‘build’ directory ... OK
* checking DESCRIPTION meta-information ... OK
* checking top-level files ... OK
* checking for left-over files ... OK
* checking index information ... OK
* checking package subdirectories ... OK
* checking code files for non-ASCII characters ... OK
* checking R files for syntax errors ... OK
* checking whether the package can be loaded ... OK
* checking whether the package can be loaded with stated dependencies ... OK
* checking whether the package can be unloaded cleanly ... OK
* checking whether the namespace can be loaded with stated dependencies ... OK
* checking whether the namespace can be unloaded cleanly ... OK
* checking dependencies in R code ... OK
* checking S3 generic/method consistency ... OK
* checking replacement functions ... OK
* checking foreign function calls ... OK
* checking R code for possible problems ... NOTE
interestIntExAnalyseSingleStranded: no visible global function
definition for ‘bamFlagAsBitMatrix’
Undefined global functions or variables:
bamFlagAsBitMatrix
* checking Rd files ... NOTE
checkRd: (-1) interest.Rd:105: Lost braces; missing escapes or markup?
105 | regions to a different region defined in {limitRanges}. It is useful to ignore
| ^
checkRd: (-1) interest.sequential.Rd:103: Lost braces; missing escapes or markup?
103 | regions to a different region defined in {limitRanges}. It is useful to ignore
| ^
* checking Rd metadata ... OK
* checking Rd cross-references ... OK
* checking for missing documentation entries ... OK
* checking for code/documentation mismatches ... OK
* checking Rd \usage sections ... OK
* checking Rd contents ... OK
* checking for unstated dependencies in examples ... OK
* checking contents of ‘data’ directory ... OK
* checking data for non-ASCII characters ... OK
* checking LazyData ... OK
* checking data for ASCII and uncompressed saves ... OK
* checking files in ‘vignettes’ ... OK
* checking examples ... OK
Examples with CPU (user + system) or elapsed time > 5s
user system elapsed
DEXSeqIntEREst 25.655 0.335 39.521
deseqInterest 4.915 0.051 7.817
* checking for unstated dependencies in vignettes ... OK
* checking package vignettes ... OK
* checking running R code from vignettes ... SKIPPED
* checking re-building of vignette outputs ... SKIPPED
* checking PDF version of manual ... OK
* DONE
Status: 3 NOTEs
See
‘/Users/biocbuild/bbs-3.19-bioc/meat/IntEREst.Rcheck/00check.log’
for details.
IntEREst.Rcheck/00install.out
############################################################################## ############################################################################## ### ### Running command: ### ### /Library/Frameworks/R.framework/Resources/bin/R CMD INSTALL IntEREst ### ############################################################################## ############################################################################## * installing to library ‘/Library/Frameworks/R.framework/Versions/4.4-arm64/Resources/library’ * installing *source* package ‘IntEREst’ ... ** using staged installation ** R ** data *** moving datasets to lazyload DB ** inst ** byte-compile and prepare package for lazy loading ** help *** installing help indices ** building package indices ** installing vignettes ** testing if installed package can be loaded from temporary location ** testing if installed package can be loaded from final location ** testing if installed package keeps a record of temporary installation path * DONE (IntEREst)
IntEREst.Rcheck/IntEREst-Ex.timings
| name | user | system | elapsed | |
| DEXSeqIntEREst | 25.655 | 0.335 | 39.521 | |
| addAnnotation | 0.043 | 0.002 | 0.104 | |
| annotateU12 | 2.448 | 0.137 | 4.090 | |
| applyOverlap | 0.158 | 0.002 | 0.259 | |
| attributes | 0.025 | 0.003 | 0.046 | |
| boxplot-method | 0.054 | 0.002 | 0.086 | |
| buildSsTypePwms | 0 | 0 | 0 | |
| counts-method | 0.031 | 0.003 | 0.057 | |
| deseqInterest | 4.915 | 0.051 | 7.817 | |
| exactTestInterest | 0.097 | 0.004 | 0.162 | |
| getRepeatTable | 0.000 | 0.000 | 0.001 | |
| glmInterest | 0.128 | 0.004 | 0.179 | |
| interest | 1.542 | 0.031 | 2.389 | |
| interest.sequential | 1.362 | 0.026 | 2.172 | |
| interestResult | 0.021 | 0.002 | 0.043 | |
| interestResultIntEx | 0.180 | 0.002 | 0.285 | |
| intexIndex | 0.003 | 0.001 | 0.003 | |
| lfc | 0.210 | 0.006 | 0.366 | |
| mergeInterestResult | 0.071 | 0.004 | 0.118 | |
| plot-method | 0.375 | 0.013 | 0.630 | |
| psi | 0.655 | 0.007 | 1.024 | |
| qlfInterest | 0.157 | 0.007 | 0.229 | |
| readInterestResults | 0.036 | 0.007 | 0.068 | |
| referencePrepare | 1.461 | 0.036 | 2.294 | |
| subInterestResult | 0.037 | 0.002 | 0.057 | |
| treatInterest | 0.130 | 0.004 | 0.195 | |
| u12Boxplot | 0.063 | 0.002 | 0.098 | |
| u12BoxplotNb | 0.086 | 0.001 | 0.150 | |
| u12DensityPlot | 0.290 | 0.008 | 0.471 | |
| u12Index | 0.005 | 0.000 | 0.008 | |
| u12NbIndex | 0.046 | 0.001 | 0.068 | |
| unionRefTr | 0.015 | 0.001 | 0.021 | |
| updateRowDataCol | 0.059 | 0.002 | 0.091 | |