| Back to Multiple platform build/check report for BioC 3.19: simplified long |
|
This page was generated on 2024-05-09 11:40:57 -0400 (Thu, 09 May 2024).
| Hostname | OS | Arch (*) | R version | Installed pkgs |
|---|---|---|---|---|
| nebbiolo1 | Linux (Ubuntu 22.04.3 LTS) | x86_64 | 4.4.0 (2024-04-24) -- "Puppy Cup" | 4748 |
| palomino3 | Windows Server 2022 Datacenter | x64 | 4.4.0 (2024-04-24 ucrt) -- "Puppy Cup" | 4484 |
| lconway | macOS 12.7.1 Monterey | x86_64 | 4.4.0 (2024-04-24) -- "Puppy Cup" | 4514 |
| kunpeng2 | Linux (openEuler 22.03 LTS-SP1) | aarch64 | 4.4.0 beta (2024-04-15 r86425) -- "Puppy Cup" | 4480 |
| Click on any hostname to see more info about the system (e.g. compilers) (*) as reported by 'uname -p', except on Windows and Mac OS X | ||||
| Package 962/2300 | Hostname | OS / Arch | INSTALL | BUILD | CHECK | BUILD BIN | ||||||||
| HiCBricks 1.22.0 (landing page) Koustav Pal
| nebbiolo1 | Linux (Ubuntu 22.04.3 LTS) / x86_64 | OK | OK | OK | |||||||||
| palomino3 | Windows Server 2022 Datacenter / x64 | OK | OK | OK | OK | |||||||||
| lconway | macOS 12.7.1 Monterey / x86_64 | OK | OK | OK | OK | |||||||||
| kunpeng2 | Linux (openEuler 22.03 LTS-SP1) / aarch64 | OK | OK | OK | ||||||||||
| kjohnson3 | macOS 13.6.5 Ventura / arm64 | see weekly results here | ||||||||||||
|
To the developers/maintainers of the HiCBricks package: - Allow up to 24 hours (and sometimes 48 hours) for your latest push to git@git.bioconductor.org:packages/HiCBricks.git to reflect on this report. See Troubleshooting Build Report for more information. - Use the following Renviron settings to reproduce errors and warnings. - If 'R CMD check' started to fail recently on the Linux builder(s) over a missing dependency, add the missing dependency to 'Suggests:' in your DESCRIPTION file. See Renviron.bioc for more information. - See Martin Grigorov's blog post for how to debug Linux ARM64 related issues on a x86_64 host. |
| Package: HiCBricks |
| Version: 1.22.0 |
| Command: /home/biocbuild/R/R-beta-2024-04-15_r86425/bin/R CMD check --install=check:HiCBricks.install-out.txt --library=/home/biocbuild/R/R-beta-2024-04-15_r86425/site-library --no-vignettes --timings HiCBricks_1.22.0.tar.gz |
| StartedAt: 2024-05-09 08:18:32 -0000 (Thu, 09 May 2024) |
| EndedAt: 2024-05-09 08:23:11 -0000 (Thu, 09 May 2024) |
| EllapsedTime: 278.5 seconds |
| RetCode: 0 |
| Status: OK |
| CheckDir: HiCBricks.Rcheck |
| Warnings: 0 |
##############################################################################
##############################################################################
###
### Running command:
###
### /home/biocbuild/R/R-beta-2024-04-15_r86425/bin/R CMD check --install=check:HiCBricks.install-out.txt --library=/home/biocbuild/R/R-beta-2024-04-15_r86425/site-library --no-vignettes --timings HiCBricks_1.22.0.tar.gz
###
##############################################################################
##############################################################################
* using log directory ‘/home/biocbuild/bbs-3.19-bioc/meat/HiCBricks.Rcheck’
* using R version 4.4.0 beta (2024-04-15 r86425)
* using platform: aarch64-unknown-linux-gnu
* R was compiled by
gcc (GCC) 10.3.1
GNU Fortran (GCC) 10.3.1
* running under: openEuler 22.03 (LTS-SP1)
* using session charset: UTF-8
* using option ‘--no-vignettes’
* checking for file ‘HiCBricks/DESCRIPTION’ ... OK
* checking extension type ... Package
* this is package ‘HiCBricks’ version ‘1.22.0’
* package encoding: UTF-8
* checking package namespace information ... OK
* checking package dependencies ... OK
* checking if this is a source package ... OK
* checking if there is a namespace ... OK
* checking for hidden files and directories ... OK
* checking for portable file names ... OK
* checking for sufficient/correct file permissions ... OK
* checking whether package ‘HiCBricks’ can be installed ... OK
* checking installed package size ... OK
* checking package directory ... OK
* checking ‘build’ directory ... OK
* checking DESCRIPTION meta-information ... OK
* checking top-level files ... OK
* checking for left-over files ... OK
* checking index information ... OK
* checking package subdirectories ... OK
* checking code files for non-ASCII characters ... OK
* checking R files for syntax errors ... OK
* checking whether the package can be loaded ... OK
* checking whether the package can be loaded with stated dependencies ... OK
* checking whether the package can be unloaded cleanly ... OK
* checking whether the namespace can be loaded with stated dependencies ... OK
* checking whether the namespace can be unloaded cleanly ... OK
* checking loading without being on the library search path ... OK
* checking dependencies in R code ... OK
* checking S3 generic/method consistency ... OK
* checking replacement functions ... OK
* checking foreign function calls ... OK
* checking R code for possible problems ... OK
* checking Rd files ... OK
* checking Rd metadata ... OK
* checking Rd cross-references ... OK
* checking for missing documentation entries ... OK
* checking for code/documentation mismatches ... OK
* checking Rd \usage sections ... OK
* checking Rd contents ... OK
* checking for unstated dependencies in examples ... OK
* checking files in ‘vignettes’ ... OK
* checking examples ... OK
* checking for unstated dependencies in vignettes ... OK
* checking package vignettes ... OK
* checking running R code from vignettes ... SKIPPED
* checking re-building of vignette outputs ... SKIPPED
* checking PDF version of manual ... OK
* DONE
Status: OK
HiCBricks.Rcheck/00install.out
############################################################################## ############################################################################## ### ### Running command: ### ### /home/biocbuild/R/R-beta-2024-04-15_r86425/bin/R CMD INSTALL HiCBricks ### ############################################################################## ############################################################################## * installing to library ‘/home/biocbuild/R/R-beta-2024-04-15_r86425/site-library’ * installing *source* package ‘HiCBricks’ ... ** using staged installation ** R ** inst ** byte-compile and prepare package for lazy loading ** help *** installing help indices ** building package indices ** installing vignettes ** testing if installed package can be loaded from temporary location ** testing if installed package can be loaded from final location ** testing if installed package keeps a record of temporary installation path * DONE (HiCBricks)
HiCBricks.Rcheck/HiCBricks-Ex.timings
| name | user | system | elapsed | |
| BrickContainer_change_experiment_name | 1.536 | 0.036 | 1.573 | |
| BrickContainer_change_output_directory | 1.280 | 0.016 | 1.298 | |
| BrickContainer_get_path_to_file | 1.097 | 0.016 | 1.277 | |
| BrickContainer_list_chromosomes | 1.133 | 0.028 | 1.164 | |
| BrickContainer_list_experiment_name | 1.129 | 0.012 | 1.143 | |
| BrickContainer_list_files | 1.180 | 0.012 | 1.194 | |
| BrickContainer_list_output_directory | 1.124 | 0.000 | 1.135 | |
| BrickContainer_list_resolutions | 1.182 | 0.028 | 1.211 | |
| BrickContainer_unlink_resolution | 2.418 | 0.040 | 2.467 | |
| Brick_add_ranges | 2.491 | 0.028 | 2.524 | |
| Brick_call_compartments | 2.301 | 0.039 | 2.357 | |
| Brick_export_to_sparse | 3.374 | 0.072 | 3.503 | |
| Brick_fetch_range_index | 1.403 | 0.024 | 1.431 | |
| Brick_fetch_row_vector | 1.951 | 0.028 | 2.319 | |
| Brick_get_bintable | 1.157 | 0.012 | 1.170 | |
| Brick_get_chrominfo | 1.112 | 0.028 | 1.142 | |
| Brick_get_entire_matrix | 1.557 | 0.040 | 1.600 | |
| Brick_get_matrix | 1.947 | 0.060 | 2.010 | |
| Brick_get_matrix_mcols | 1.532 | 0.008 | 1.543 | |
| Brick_get_matrix_within_coords | 2.123 | 0.035 | 2.284 | |
| Brick_get_ranges | 1.166 | 0.024 | 1.193 | |
| Brick_get_values_by_distance | 1.656 | 0.012 | 1.671 | |
| Brick_get_vector_values | 1.571 | 0.036 | 1.611 | |
| Brick_list_matrices | 1.112 | 0.028 | 1.142 | |
| Brick_list_matrix_mcols | 1.152 | 0.008 | 1.163 | |
| Brick_list_mcool_normalisations | 0.000 | 0.000 | 0.001 | |
| Brick_list_mcool_resolutions | 0 | 0 | 0 | |
| Brick_list_rangekeys | 1.081 | 0.020 | 1.103 | |
| Brick_list_ranges_mcols | 1.132 | 0.016 | 1.150 | |
| Brick_load_cis_matrix_till_distance | 1.395 | 0.032 | 1.430 | |
| Brick_load_data_from_mcool | 0 | 0 | 0 | |
| Brick_load_data_from_sparse | 0.001 | 0.000 | 0.000 | |
| Brick_load_matrix | 1.465 | 0.028 | 1.650 | |
| Brick_local_score_differentiator | 2.286 | 0.088 | 2.381 | |
| Brick_make_ranges | 0.012 | 0.000 | 0.012 | |
| Brick_matrix_dimensions | 1.527 | 0.016 | 1.546 | |
| Brick_matrix_exists | 1.511 | 0.024 | 1.734 | |
| Brick_matrix_filename | 1.481 | 0.032 | 1.516 | |
| Brick_matrix_isdone | 1.441 | 0.032 | 1.476 | |
| Brick_matrix_issparse | 1.481 | 0.016 | 1.499 | |
| Brick_matrix_maxdist | 1.489 | 0.032 | 1.525 | |
| Brick_matrix_minmax | 1.499 | 0.020 | 1.624 | |
| Brick_mcool_normalisation_exists | 0.001 | 0.000 | 0.000 | |
| Brick_rangekey_exists | 1.173 | 0.008 | 1.183 | |
| Brick_return_region_position | 1.231 | 0.016 | 1.248 | |
| Brick_vizart_plot_heatmap | 2.704 | 0.011 | 2.726 | |
| Create_many_Bricks | 1.179 | 0.024 | 1.237 | |
| Create_many_Bricks_from_mcool | 0.001 | 0.000 | 0.000 | |
| load_BrickContainer | 1.266 | 0.020 | 1.287 | |