Back to Multiple platform build/check report for BioC 3.19: simplified long |
|
This page was generated on 2024-03-04 11:39:20 -0500 (Mon, 04 Mar 2024).
Hostname | OS | Arch (*) | R version | Installed pkgs |
---|---|---|---|---|
nebbiolo1 | Linux (Ubuntu 22.04.3 LTS) | x86_64 | R Under development (unstable) (2024-01-16 r85808) -- "Unsuffered Consequences" | 4676 |
palomino3 | Windows Server 2022 Datacenter | x64 | R Under development (unstable) (2024-01-14 r85805 ucrt) -- "Unsuffered Consequences" | 4414 |
merida1 | macOS 12.7.1 Monterey | x86_64 | R Under development (unstable) (2024-01-16 r85808) -- "Unsuffered Consequences" | 4441 |
kunpeng2 | Linux (openEuler 22.03 LTS-SP1) | aarch64 | R Under development (unstable) (2024-01-16 r85812) -- "Unsuffered Consequences" | 4417 |
Click on any hostname to see more info about the system (e.g. compilers) (*) as reported by 'uname -p', except on Windows and Mac OS X |
Package 969/2251 | Hostname | OS / Arch | INSTALL | BUILD | CHECK | BUILD BIN | ||||||||
HTqPCR 1.57.0 (landing page) Heidi Dvinge
| nebbiolo1 | Linux (Ubuntu 22.04.3 LTS) / x86_64 | OK | OK | OK | |||||||||
palomino3 | Windows Server 2022 Datacenter / x64 | OK | OK | OK | OK | |||||||||
merida1 | macOS 12.7.1 Monterey / x86_64 | OK | OK | OK | OK | |||||||||
kunpeng2 | Linux (openEuler 22.03 LTS-SP1) / aarch64 | OK | OK | OK | ||||||||||
To the developers/maintainers of the HTqPCR package: - Allow up to 24 hours (and sometimes 48 hours) for your latest push to git@git.bioconductor.org:packages/HTqPCR.git to reflect on this report. See Troubleshooting Build Report for more information. - Use the following Renviron settings to reproduce errors and warnings. - If 'R CMD check' started to fail recently on the Linux builder(s) over a missing dependency, add the missing dependency to 'Suggests:' in your DESCRIPTION file. See Renviron.bioc for more information. |
Package: HTqPCR |
Version: 1.57.0 |
Command: /Library/Frameworks/R.framework/Resources/bin/R CMD check --install=check:HTqPCR.install-out.txt --library=/Library/Frameworks/R.framework/Resources/library --no-vignettes --timings HTqPCR_1.57.0.tar.gz |
StartedAt: 2024-03-02 05:22:30 -0500 (Sat, 02 Mar 2024) |
EndedAt: 2024-03-02 05:24:17 -0500 (Sat, 02 Mar 2024) |
EllapsedTime: 107.7 seconds |
RetCode: 0 |
Status: OK |
CheckDir: HTqPCR.Rcheck |
Warnings: 0 |
############################################################################## ############################################################################## ### ### Running command: ### ### /Library/Frameworks/R.framework/Resources/bin/R CMD check --install=check:HTqPCR.install-out.txt --library=/Library/Frameworks/R.framework/Resources/library --no-vignettes --timings HTqPCR_1.57.0.tar.gz ### ############################################################################## ############################################################################## * using log directory ‘/Users/biocbuild/bbs-3.19-bioc/meat/HTqPCR.Rcheck’ * using R Under development (unstable) (2024-01-16 r85808) * using platform: x86_64-apple-darwin20 * R was compiled by Apple clang version 14.0.0 (clang-1400.0.29.202) GNU Fortran (GCC) 12.2.0 * running under: macOS Monterey 12.7.1 * using session charset: UTF-8 * using option ‘--no-vignettes’ * checking for file ‘HTqPCR/DESCRIPTION’ ... OK * checking extension type ... Package * this is package ‘HTqPCR’ version ‘1.57.0’ * checking package namespace information ... OK * checking package dependencies ... OK * checking if this is a source package ... OK * checking if there is a namespace ... OK * checking for hidden files and directories ... OK * checking for portable file names ... OK * checking for sufficient/correct file permissions ... OK * checking whether package ‘HTqPCR’ can be installed ... OK * checking installed package size ... OK * checking package directory ... OK * checking ‘build’ directory ... OK * checking DESCRIPTION meta-information ... NOTE Packages listed in more than one of Depends, Imports, Suggests, Enhances: ‘Biobase’ ‘limma’ ‘RColorBrewer’ A package should be listed in only one of these fields. * checking top-level files ... OK * checking for left-over files ... OK * checking index information ... OK * checking package subdirectories ... OK * checking R files for non-ASCII characters ... OK * checking R files for syntax errors ... OK * checking whether the package can be loaded ... OK * checking whether the package can be loaded with stated dependencies ... OK * checking whether the package can be unloaded cleanly ... OK * checking whether the namespace can be loaded with stated dependencies ... OK * checking whether the namespace can be unloaded cleanly ... OK * checking dependencies in R code ... OK * checking S3 generic/method consistency ... OK * checking replacement functions ... OK * checking foreign function calls ... OK * checking R code for possible problems ... NOTE heatmapSig: warning in heatmap.2(data, trace = "none", density.info = "none", col = col, distfun = d, breaks = b, mar = mar, ...): partial argument match of 'mar' to 'margins' limmaCtData: warning in topTable(fit2, sort = "none", n = nrow(fit2)): partial argument match of 'n' to 'number' limmaCtData: warning in topTable(fit2, sort = "none", n = nrow(fit2)): partial argument match of 'sort' to 'sort.by' plotCtCor: warning in heatmap.2(x, col = col, breaks = b, scale = "none", dendrogram = "row", trace = "none", main = main, density.info = "none", mar = mar, ...): partial argument match of 'mar' to 'margins' plotCtHeatmap: warning in heatmap.2(data, trace = "none", density.info = "none", main = main, col = col, distfun = d, breaks = breaks, mar = mar, ...): partial argument match of 'mar' to 'margins' plotCtOverview: warning in plotCI(x = x.pos + i - 1, y = M[i, ], uiw = SD[i, ], add = TRUE, gap = 0, pch = 20, xpd = TRUE, sfra = 0.001): partial argument match of 'sfra' to 'sfrac' plotCtOverview: warning in plotCI(x = x.pos + i - 1, y = M[i, ], uiw = SD.ratio[i, ], add = TRUE, gap = 0, pch = 20, xpd = TRUE, sfra = 0.001): partial argument match of 'sfra' to 'sfrac' .readCtBioMark: no visible global function definition for ‘read.csv’ .readCtCFX: no visible global function definition for ‘read.csv’ .readCtOpenArray: no visible global function definition for ‘read.csv’ cbind.qPCRset: no visible global function definition for ‘phenoData<-’ cbind.qPCRset: no visible global function definition for ‘AnnotatedDataFrame’ cbind.qPCRset: no visible global function definition for ‘pData’ cbind.qPCRset: no visible global function definition for ‘capture.output’ changeCtLayout: no visible global function definition for ‘featureData<-’ changeCtLayout: no visible global function definition for ‘featureData’ changeCtLayout: no visible global function definition for ‘phenoData<-’ changeCtLayout: no visible global function definition for ‘capture.output’ filterCategory: no visible global function definition for ‘capture.output’ filterCtData: no visible binding for global variable ‘IQR’ filterCtData: no visible global function definition for ‘capture.output’ mannwhitneyCtData : <anonymous>: no visible global function definition for ‘wilcox.test’ normalizeCtData: no visible global function definition for ‘capture.output’ rbind.qPCRset: no visible global function definition for ‘featureData<-’ rbind.qPCRset: no visible global function definition for ‘AnnotatedDataFrame’ rbind.qPCRset: no visible global function definition for ‘fData’ rbind.qPCRset: no visible global function definition for ‘capture.output’ readCtData: no visible global function definition for ‘AnnotatedDataFrame’ readCtData: no visible global function definition for ‘capture.output’ setCategory: no visible global function definition for ‘capture.output’ [,qPCRset: no visible global function definition for ‘phenoData<-’ [,qPCRset: no visible global function definition for ‘phenoData’ exprs,qPCRset: no visible global function definition for ‘assayDataElement’ exprs<-,qPCRset-ANY: no visible global function definition for ‘assayDataElementReplace’ featureCategory,qPCRset: no visible global function definition for ‘assayDataElement’ featureCategory<-,qPCRset: no visible global function definition for ‘assayDataElementReplace’ featureClass,qPCRset: no visible global function definition for ‘fData’ featureClass<-,qPCRset: no visible global function definition for ‘fData’ featureClass<-,qPCRset: no visible global function definition for ‘fData<-’ featureNames,qPCRset: no visible global function definition for ‘fData’ featureNames<-,qPCRset-character: no visible global function definition for ‘fData’ featureNames<-,qPCRset-character: no visible global function definition for ‘fData<-’ featurePos,qPCRset: no visible global function definition for ‘fData’ featurePos<-,qPCRset: no visible global function definition for ‘fData’ featurePos<-,qPCRset: no visible global function definition for ‘fData<-’ featureType,qPCRset: no visible global function definition for ‘fData’ featureType<-,qPCRset: no visible global function definition for ‘fData’ featureType<-,qPCRset: no visible global function definition for ‘fData<-’ flag,qPCRset: no visible global function definition for ‘assayDataElement’ flag<-,qPCRset: no visible global function definition for ‘assayDataElementReplace’ Undefined global functions or variables: AnnotatedDataFrame IQR assayDataElement assayDataElementReplace capture.output fData fData<- featureData featureData<- pData phenoData phenoData<- read.csv wilcox.test Consider adding importFrom("stats", "IQR", "wilcox.test") importFrom("utils", "capture.output", "read.csv") to your NAMESPACE file. * checking Rd files ... NOTE prepare_Rd: cbind.Rd:35-36: Dropping empty section \examples prepare_Rd: heatmapSig.Rd:31-32: Dropping empty section \examples prepare_Rd: mannwhitneyCtData.Rd:52-62: Dropping empty section \examples prepare_Rd: plotCtRQ.Rd:46-48: Dropping empty section \examples prepare_Rd: plotCtSignificance.Rd:46-47: Dropping empty section \examples prepare_Rd: ttestCtData.Rd:49-50: Dropping empty section \examples * checking Rd metadata ... OK * checking Rd cross-references ... OK * checking for missing documentation entries ... OK * checking for code/documentation mismatches ... OK * checking Rd \usage sections ... OK * checking Rd contents ... OK * checking for unstated dependencies in examples ... OK * checking contents of ‘data’ directory ... OK * checking data for non-ASCII characters ... OK * checking data for ASCII and uncompressed saves ... OK * checking sizes of PDF files under ‘inst/doc’ ... OK * checking files in ‘vignettes’ ... OK * checking examples ... OK * checking for unstated dependencies in vignettes ... OK * checking package vignettes ... OK * checking running R code from vignettes ... SKIPPED * checking re-building of vignette outputs ... SKIPPED * checking PDF version of manual ... OK * DONE Status: 3 NOTEs See ‘/Users/biocbuild/bbs-3.19-bioc/meat/HTqPCR.Rcheck/00check.log’ for details.
HTqPCR.Rcheck/00install.out
############################################################################## ############################################################################## ### ### Running command: ### ### /Library/Frameworks/R.framework/Resources/bin/R CMD INSTALL HTqPCR ### ############################################################################## ############################################################################## * installing to library ‘/Library/Frameworks/R.framework/Versions/4.4-x86_64/Resources/library’ * installing *source* package ‘HTqPCR’ ... ** using staged installation ** R ** data ** inst ** byte-compile and prepare package for lazy loading ** help *** installing help indices ** building package indices ** installing vignettes ** testing if installed package can be loaded from temporary location ** testing if installed package can be loaded from final location ** testing if installed package keeps a record of temporary installation path * DONE (HTqPCR)
HTqPCR.Rcheck/HTqPCR-Ex.timings
name | user | system | elapsed | |
changeCtLayout | 0.382 | 0.019 | 0.444 | |
clusterCt | 0.140 | 0.021 | 0.179 | |
filterCategory | 0.113 | 0.008 | 0.137 | |
filterCtData | 0.642 | 0.012 | 0.720 | |
limmaCtData | 0.118 | 0.010 | 0.145 | |
normalizeCtData | 0.931 | 0.071 | 1.128 | |
plotCVBoxes | 0.198 | 0.009 | 0.219 | |
plotCtArray | 0.154 | 0.008 | 0.188 | |
plotCtBoxes | 0.057 | 0.007 | 0.071 | |
plotCtCard | 0.122 | 0.016 | 0.155 | |
plotCtCategory | 0.963 | 0.015 | 1.087 | |
plotCtCor | 0.077 | 0.007 | 0.099 | |
plotCtDensity | 0.043 | 0.006 | 0.055 | |
plotCtHeatmap | 2.675 | 0.068 | 3.073 | |
plotCtHistogram | 0.020 | 0.005 | 0.026 | |
plotCtOverview | 0.119 | 0.011 | 0.141 | |
plotCtPCA | 0.044 | 0.008 | 0.059 | |
plotCtPairs | 1.014 | 0.055 | 1.219 | |
plotCtReps | 0.352 | 0.016 | 0.411 | |
plotCtScatter | 0.065 | 0.009 | 0.081 | |
plotCtVariation | 0.575 | 0.029 | 0.705 | |
plotGenes | 0.037 | 0.007 | 0.050 | |
qPCRpros | 0.006 | 0.003 | 0.009 | |
qPCRraw | 0.006 | 0.002 | 0.009 | |
qPCRset-class | 0.106 | 0.015 | 0.132 | |
readCtData | 0.119 | 0.007 | 0.145 | |
setCategory | 0.063 | 0.004 | 0.074 | |