| Back to Multiple platform build/check report for BioC 3.19: simplified long |
|
This page was generated on 2024-10-18 20:39 -0400 (Fri, 18 Oct 2024).
| Hostname | OS | Arch (*) | R version | Installed pkgs |
|---|---|---|---|---|
| nebbiolo1 | Linux (Ubuntu 22.04.3 LTS) | x86_64 | 4.4.1 (2024-06-14) -- "Race for Your Life" | 4763 |
| palomino7 | Windows Server 2022 Datacenter | x64 | 4.4.1 (2024-06-14 ucrt) -- "Race for Your Life" | 4500 |
| merida1 | macOS 12.7.5 Monterey | x86_64 | 4.4.1 (2024-06-14) -- "Race for Your Life" | 4530 |
| kjohnson1 | macOS 13.6.6 Ventura | arm64 | 4.4.1 (2024-06-14) -- "Race for Your Life" | 4480 |
| Click on any hostname to see more info about the system (e.g. compilers) (*) as reported by 'uname -p', except on Windows and Mac OS X | ||||
| Package 829/2300 | Hostname | OS / Arch | INSTALL | BUILD | CHECK | BUILD BIN | ||||||||
| GenomicAlignments 1.40.0 (landing page) Hervé Pagès
| nebbiolo1 | Linux (Ubuntu 22.04.3 LTS) / x86_64 | OK | OK | OK | |||||||||
| palomino7 | Windows Server 2022 Datacenter / x64 | OK | OK | OK | OK | |||||||||
| merida1 | macOS 12.7.5 Monterey / x86_64 | OK | OK | OK | OK | |||||||||
| kjohnson1 | macOS 13.6.6 Ventura / arm64 | OK | OK | OK | OK | |||||||||
|
To the developers/maintainers of the GenomicAlignments package: - Allow up to 24 hours (and sometimes 48 hours) for your latest push to git@git.bioconductor.org:packages/GenomicAlignments.git to reflect on this report. See Troubleshooting Build Report for more information. - Use the following Renviron settings to reproduce errors and warnings. - If 'R CMD check' started to fail recently on the Linux builder(s) over a missing dependency, add the missing dependency to 'Suggests:' in your DESCRIPTION file. See Renviron.bioc for more information. |
| Package: GenomicAlignments |
| Version: 1.40.0 |
| Command: rm -rf GenomicAlignments.buildbin-libdir && mkdir GenomicAlignments.buildbin-libdir && E:\biocbuild\bbs-3.19-bioc\R\bin\R.exe CMD INSTALL --build --library=GenomicAlignments.buildbin-libdir GenomicAlignments_1.40.0.tar.gz |
| StartedAt: 2024-10-17 07:51:23 -0400 (Thu, 17 Oct 2024) |
| EndedAt: 2024-10-17 07:54:01 -0400 (Thu, 17 Oct 2024) |
| EllapsedTime: 158.2 seconds |
| RetCode: 0 |
| Status: OK |
| PackageFile: GenomicAlignments_1.40.0.zip |
| PackageFileSize: 2.275 MiB |
##############################################################################
##############################################################################
###
### Running command:
###
### rm -rf GenomicAlignments.buildbin-libdir && mkdir GenomicAlignments.buildbin-libdir && E:\biocbuild\bbs-3.19-bioc\R\bin\R.exe CMD INSTALL --build --library=GenomicAlignments.buildbin-libdir GenomicAlignments_1.40.0.tar.gz
###
##############################################################################
##############################################################################
* installing *source* package 'GenomicAlignments' ...
** using staged installation
** libs
using C compiler: 'gcc.exe (GCC) 13.2.0'
gcc -I"E:/biocbuild/bbs-3.19-bioc/R/include" -DNDEBUG -I'E:/biocbuild/bbs-3.19-bioc/R/library/S4Vectors/include' -I'E:/biocbuild/bbs-3.19-bioc/R/library/IRanges/include' -I"C:/rtools44/x86_64-w64-mingw32.static.posix/include" -O2 -Wall -mfpmath=sse -msse2 -mstackrealign -c IRanges_stubs.c -o IRanges_stubs.o
gcc -I"E:/biocbuild/bbs-3.19-bioc/R/include" -DNDEBUG -I'E:/biocbuild/bbs-3.19-bioc/R/library/S4Vectors/include' -I'E:/biocbuild/bbs-3.19-bioc/R/library/IRanges/include' -I"C:/rtools44/x86_64-w64-mingw32.static.posix/include" -O2 -Wall -mfpmath=sse -msse2 -mstackrealign -c R_init_GenomicAlignments.c -o R_init_GenomicAlignments.o
gcc -I"E:/biocbuild/bbs-3.19-bioc/R/include" -DNDEBUG -I'E:/biocbuild/bbs-3.19-bioc/R/library/S4Vectors/include' -I'E:/biocbuild/bbs-3.19-bioc/R/library/IRanges/include' -I"C:/rtools44/x86_64-w64-mingw32.static.posix/include" -O2 -Wall -mfpmath=sse -msse2 -mstackrealign -c S4Vectors_stubs.c -o S4Vectors_stubs.o
gcc -I"E:/biocbuild/bbs-3.19-bioc/R/include" -DNDEBUG -I'E:/biocbuild/bbs-3.19-bioc/R/library/S4Vectors/include' -I'E:/biocbuild/bbs-3.19-bioc/R/library/IRanges/include' -I"C:/rtools44/x86_64-w64-mingw32.static.posix/include" -O2 -Wall -mfpmath=sse -msse2 -mstackrealign -c cigar_utils.c -o cigar_utils.o
In file included from E:/biocbuild/bbs-3.19-bioc/R/include/Rdefines.h:41,
from GenomicAlignments.h:1,
from cigar_utils.c:1:
In function 'make_CompressedIRangesList',
inlined from 'cigar_ranges' at cigar_utils.c:680:2:
cigar_utils.c:534:25: warning: 'range_buf1' may be used uninitialized [-Wmaybe-uninitialized]
534 | new_IRanges_from_IntPairAE("IRanges", range_buf));
| ^~~~~~~~~~~~~~~~~~~~~~~~~~~~~~~~~~~~~~~~~~~~~~~~
E:/biocbuild/bbs-3.19-bioc/R/include/Rinternals.h:371:36: note: in definition of macro 'PROTECT'
371 | #define PROTECT(s) Rf_protect(s)
| ^
cigar_utils.c: In function 'cigar_ranges':
cigar_utils.c:590:20: note: 'range_buf1' was declared here
590 | IntPairAE *range_buf1;
| ^~~~~~~~~~
cigar_utils.c:674:37: warning: 'breakpoint' may be used uninitialized [-Wmaybe-uninitialized]
674 | *(breakpoint++) = IntPairAE_get_nelt(range_buf1);
| ~~~~~~~~~~~^~~
cigar_utils.c:588:62: note: 'breakpoint' was declared here
588 | int cigar_len, space0, pos_len, f_is_NULL, ans_len, *breakpoint,
| ^~~~~~~~~~
cigar_utils.c:626:29: warning: 'flag_elt' may be used uninitialized [-Wmaybe-uninitialized]
626 | if (*flag_elt == NA_INTEGER) {
| ^~~~~~~~~
cigar_utils.c:593:20: note: 'flag_elt' was declared here
593 | const int *flag_elt, *pos_elt, *f_elt;
| ^~~~~~~~
cigar_utils.c:656:29: warning: 'f_elt' may be used uninitialized [-Wmaybe-uninitialized]
656 | if (*f_elt == NA_INTEGER)
| ^~~~~~
cigar_utils.c:593:41: note: 'f_elt' was declared here
593 | const int *flag_elt, *pos_elt, *f_elt;
| ^~~~~
In function 'make_CompressedIRangesList',
inlined from 'cigar_ranges' at cigar_utils.c:680:2:
cigar_utils.c:542:25: warning: 'ans_breakpoints' may be used uninitialized [-Wmaybe-uninitialized]
542 | new_PartitioningByEnd("PartitioningByEnd",
| ^~~~~~~~~~~~~~~~~~~~~~~~~~~~~~~~~~~~~~~~~~
543 | breakpoints, NULL));
| ~~~~~~~~~~~~~~~~~~
E:/biocbuild/bbs-3.19-bioc/R/include/Rinternals.h:371:36: note: in definition of macro 'PROTECT'
371 | #define PROTECT(s) Rf_protect(s)
| ^
cigar_utils.c: In function 'cigar_ranges':
cigar_utils.c:587:19: note: 'ans_breakpoints' was declared here
587 | SEXP ans, ans_breakpoints, f_levels, cigar_elt;
| ^~~~~~~~~~~~~~~
cigar_utils.c: In function 'cigar_width':
cigar_utils.c:708:29: warning: 'flag_elt' may be used uninitialized [-Wmaybe-uninitialized]
708 | if (*flag_elt == NA_INTEGER) {
| ^~~~~~~~~
cigar_utils.c:698:20: note: 'flag_elt' was declared here
698 | const int *flag_elt;
| ^~~~~~~~
gcc -I"E:/biocbuild/bbs-3.19-bioc/R/include" -DNDEBUG -I'E:/biocbuild/bbs-3.19-bioc/R/library/S4Vectors/include' -I'E:/biocbuild/bbs-3.19-bioc/R/library/IRanges/include' -I"C:/rtools44/x86_64-w64-mingw32.static.posix/include" -O2 -Wall -mfpmath=sse -msse2 -mstackrealign -c coordinate_mapping_methods.c -o coordinate_mapping_methods.o
coordinate_mapping_methods.c: In function 'to_ref':
coordinate_mapping_methods.c:219:6: warning: 'n' may be used uninitialized [-Wmaybe-uninitialized]
219 | if (n == 0)
| ^
coordinate_mapping_methods.c:172:7: note: 'n' was declared here
172 | int n, offset = 0, OPL, query_consumed = 0;
| ^
gcc -I"E:/biocbuild/bbs-3.19-bioc/R/include" -DNDEBUG -I'E:/biocbuild/bbs-3.19-bioc/R/library/S4Vectors/include' -I'E:/biocbuild/bbs-3.19-bioc/R/library/IRanges/include' -I"C:/rtools44/x86_64-w64-mingw32.static.posix/include" -O2 -Wall -mfpmath=sse -msse2 -mstackrealign -c encodeOverlaps_methods.c -o encodeOverlaps_methods.o
In function 'unsafe_overlap_encoding',
inlined from 'overlap_encoding' at encodeOverlaps_methods.c:209:2:
encodeOverlaps_methods.c:182:9: warning: 'out_nelt0' may be used uninitialized [-Wmaybe-uninitialized]
182 | CharAE_delete_at(out, out_nelt0, j1 * nrow);
| ^~~~~~~~~~~~~~~~~~~~~~~~~~~~~~~~~~~~~~~~~~~
encodeOverlaps_methods.c: In function 'overlap_encoding':
encodeOverlaps_methods.c:99:13: note: 'out_nelt0' was declared here
99 | int out_nelt0, i, starti, widthi, spacei, j, startj, widthj, spacej,
| ^~~~~~~~~
gcc -shared -s -static-libgcc -o GenomicAlignments.dll tmp.def IRanges_stubs.o R_init_GenomicAlignments.o S4Vectors_stubs.o cigar_utils.o coordinate_mapping_methods.o encodeOverlaps_methods.o -LC:/rtools44/x86_64-w64-mingw32.static.posix/lib/x64 -LC:/rtools44/x86_64-w64-mingw32.static.posix/lib -LE:/biocbuild/bbs-3.19-bioc/R/bin/x64 -lR
installing to E:/biocbuild/bbs-3.19-bioc/meat/GenomicAlignments.buildbin-libdir/00LOCK-GenomicAlignments/00new/GenomicAlignments/libs/x64
** R
** inst
** byte-compile and prepare package for lazy loading
** help
*** installing help indices
** building package indices
** installing vignettes
** testing if installed package can be loaded from temporary location
** testing if installed package can be loaded from final location
** testing if installed package keeps a record of temporary installation path
* MD5 sums
packaged installation of 'GenomicAlignments' as GenomicAlignments_1.40.0.zip
* DONE (GenomicAlignments)