Back to Multiple platform build/check report for BioC 3.19: simplified long |
|
This page was generated on 2024-10-18 20:39 -0400 (Fri, 18 Oct 2024).
Hostname | OS | Arch (*) | R version | Installed pkgs |
---|---|---|---|---|
nebbiolo1 | Linux (Ubuntu 22.04.3 LTS) | x86_64 | 4.4.1 (2024-06-14) -- "Race for Your Life" | 4763 |
palomino7 | Windows Server 2022 Datacenter | x64 | 4.4.1 (2024-06-14 ucrt) -- "Race for Your Life" | 4500 |
merida1 | macOS 12.7.5 Monterey | x86_64 | 4.4.1 (2024-06-14) -- "Race for Your Life" | 4530 |
kjohnson1 | macOS 13.6.6 Ventura | arm64 | 4.4.1 (2024-06-14) -- "Race for Your Life" | 4480 |
Click on any hostname to see more info about the system (e.g. compilers) (*) as reported by 'uname -p', except on Windows and Mac OS X |
Package 817/2300 | Hostname | OS / Arch | INSTALL | BUILD | CHECK | BUILD BIN | ||||||||
GeneStructureTools 1.24.0 (landing page) Beth Signal
| nebbiolo1 | Linux (Ubuntu 22.04.3 LTS) / x86_64 | OK | OK | OK | |||||||||
palomino7 | Windows Server 2022 Datacenter / x64 | OK | OK | OK | OK | |||||||||
merida1 | macOS 12.7.5 Monterey / x86_64 | OK | OK | OK | OK | |||||||||
kjohnson1 | macOS 13.6.6 Ventura / arm64 | OK | OK | OK | OK | |||||||||
To the developers/maintainers of the GeneStructureTools package: - Allow up to 24 hours (and sometimes 48 hours) for your latest push to git@git.bioconductor.org:packages/GeneStructureTools.git to reflect on this report. See Troubleshooting Build Report for more information. - Use the following Renviron settings to reproduce errors and warnings. - If 'R CMD check' started to fail recently on the Linux builder(s) over a missing dependency, add the missing dependency to 'Suggests:' in your DESCRIPTION file. See Renviron.bioc for more information. |
Package: GeneStructureTools |
Version: 1.24.0 |
Command: E:\biocbuild\bbs-3.19-bioc\R\bin\R.exe CMD check --no-multiarch --install=check:GeneStructureTools.install-out.txt --library=E:\biocbuild\bbs-3.19-bioc\R\library --no-vignettes --timings GeneStructureTools_1.24.0.tar.gz |
StartedAt: 2024-10-17 01:45:43 -0400 (Thu, 17 Oct 2024) |
EndedAt: 2024-10-17 01:53:31 -0400 (Thu, 17 Oct 2024) |
EllapsedTime: 467.3 seconds |
RetCode: 0 |
Status: OK |
CheckDir: GeneStructureTools.Rcheck |
Warnings: 0 |
############################################################################## ############################################################################## ### ### Running command: ### ### E:\biocbuild\bbs-3.19-bioc\R\bin\R.exe CMD check --no-multiarch --install=check:GeneStructureTools.install-out.txt --library=E:\biocbuild\bbs-3.19-bioc\R\library --no-vignettes --timings GeneStructureTools_1.24.0.tar.gz ### ############################################################################## ############################################################################## * using log directory 'E:/biocbuild/bbs-3.19-bioc/meat/GeneStructureTools.Rcheck' * using R version 4.4.1 (2024-06-14 ucrt) * using platform: x86_64-w64-mingw32 * R was compiled by gcc.exe (GCC) 13.2.0 GNU Fortran (GCC) 13.2.0 * running under: Windows Server 2022 x64 (build 20348) * using session charset: UTF-8 * using option '--no-vignettes' * checking for file 'GeneStructureTools/DESCRIPTION' ... OK * checking extension type ... Package * this is package 'GeneStructureTools' version '1.24.0' * package encoding: UTF-8 * checking package namespace information ... OK * checking package dependencies ... OK * checking if this is a source package ... OK * checking if there is a namespace ... OK * checking for hidden files and directories ... OK * checking for portable file names ... OK * checking whether package 'GeneStructureTools' can be installed ... OK * checking installed package size ... OK * checking package directory ... OK * checking 'build' directory ... OK * checking DESCRIPTION meta-information ... OK * checking top-level files ... OK * checking for left-over files ... OK * checking index information ... OK * checking package subdirectories ... OK * checking code files for non-ASCII characters ... OK * checking R files for syntax errors ... OK * checking whether the package can be loaded ... OK * checking whether the package can be loaded with stated dependencies ... OK * checking whether the package can be unloaded cleanly ... OK * checking whether the namespace can be loaded with stated dependencies ... OK * checking whether the namespace can be unloaded cleanly ... OK * checking dependencies in R code ... OK * checking S3 generic/method consistency ... OK * checking replacement functions ... OK * checking foreign function calls ... OK * checking R code for possible problems ... OK * checking Rd files ... OK * checking Rd metadata ... OK * checking Rd cross-references ... OK * checking for missing documentation entries ... OK * checking for code/documentation mismatches ... OK * checking Rd \usage sections ... OK * checking Rd contents ... OK * checking for unstated dependencies in examples ... OK * checking files in 'vignettes' ... OK * checking examples ... OK Examples with CPU (user + system) or elapsed time > 5s user system elapsed leafcutterTranscriptChangeSummary 31.67 1.99 33.67 whippetTranscriptChangeSummary 14.45 0.28 15.69 replaceJunction 4.47 0.04 5.51 * checking for unstated dependencies in vignettes ... OK * checking package vignettes ... OK * checking running R code from vignettes ... SKIPPED * checking re-building of vignette outputs ... SKIPPED * checking PDF version of manual ... OK * DONE Status: OK
GeneStructureTools.Rcheck/00install.out
############################################################################## ############################################################################## ### ### Running command: ### ### E:\biocbuild\bbs-3.19-bioc\R\bin\R.exe CMD INSTALL GeneStructureTools ### ############################################################################## ############################################################################## * installing to library 'E:/biocbuild/bbs-3.19-bioc/R/library' * installing *source* package 'GeneStructureTools' ... ** using staged installation ** R ** inst ** byte-compile and prepare package for lazy loading ** help *** installing help indices ** building package indices ** installing vignettes ** testing if installed package can be loaded from temporary location ** testing if installed package can be loaded from final location ** testing if installed package keeps a record of temporary installation path * DONE (GeneStructureTools)
GeneStructureTools.Rcheck/GeneStructureTools-Ex.timings
name | user | system | elapsed | |
DEXSeqIdsToGeneIds | 0 | 0 | 0 | |
UTR2UTR53 | 4.03 | 0.22 | 4.27 | |
addBroadTypes | 0.32 | 0.03 | 0.34 | |
addIntronInTranscript | 1.72 | 0.05 | 2.94 | |
alternativeIntronUsage | 4.85 | 0.02 | 4.89 | |
annotateGeneModel | 1.21 | 0.00 | 1.20 | |
attrChangeAltSpliced | 1.62 | 0.00 | 2.61 | |
coordinates-methods | 0.05 | 0.01 | 1.02 | |
diffSplicingResults-methods | 0.03 | 0.05 | 1.12 | |
exonsToTranscripts | 0.56 | 0.01 | 0.58 | |
filterGtfOverlap | 0.57 | 0.00 | 0.56 | |
filterWhippetEvents | 0.06 | 0.00 | 1.14 | |
findDEXexonType | 2.83 | 0.04 | 2.86 | |
findExonContainingTranscripts | 0.73 | 0.07 | 1.86 | |
findIntronContainingTranscripts | 0.77 | 0.04 | 2.74 | |
findJunctionPairs | 1.62 | 0.00 | 2.62 | |
formatWhippetEvents | 0.02 | 0.00 | 0.11 | |
getOrfs | 0.90 | 0.03 | 0.94 | |
getUOrfs | 0.86 | 0.01 | 0.87 | |
junctions-methods | 0.05 | 0.00 | 1.11 | |
leafcutterTranscriptChangeSummary | 31.67 | 1.99 | 33.67 | |
makeGeneModel | 0.39 | 0.00 | 0.40 | |
maxLocation | 0 | 0 | 0 | |
orfDiff | 1.94 | 0.09 | 2.90 | |
orfSimilarity | 0.00 | 0.02 | 0.02 | |
overlapTypes | 2.80 | 0.01 | 2.81 | |
readCounts-methods | 0.03 | 0.00 | 1.02 | |
readWhippetDIFFfiles | 0.0 | 0.0 | 0.1 | |
readWhippetDataSet | 0.08 | 0.02 | 1.07 | |
readWhippetJNCfiles | 0.01 | 0.00 | 0.50 | |
readWhippetPSIfiles | 0.00 | 0.00 | 0.39 | |
removeDuplicateTranscripts | 0.55 | 0.00 | 0.54 | |
removeSameExon | 0.37 | 0.00 | 0.38 | |
removeVersion | 0 | 0 | 0 | |
reorderExonNumbers | 0.3 | 0.0 | 0.3 | |
replaceJunction | 4.47 | 0.04 | 5.51 | |
skipExonInTranscript | 2.12 | 0.02 | 3.24 | |
summariseExonTypes | 3.30 | 0.02 | 3.31 | |
transcriptChangeSummary | 1.83 | 0.06 | 2.87 | |
whippetTranscriptChangeSummary | 14.45 | 0.28 | 15.69 | |