Back to Multiple platform build/check report for BioC 3.19: simplified long |
|
This page was generated on 2024-06-11 14:43 -0400 (Tue, 11 Jun 2024).
Hostname | OS | Arch (*) | R version | Installed pkgs |
---|---|---|---|---|
nebbiolo1 | Linux (Ubuntu 22.04.3 LTS) | x86_64 | 4.4.0 (2024-04-24) -- "Puppy Cup" | 4757 |
palomino3 | Windows Server 2022 Datacenter | x64 | 4.4.0 (2024-04-24 ucrt) -- "Puppy Cup" | 4491 |
lconway | macOS 12.7.1 Monterey | x86_64 | 4.4.0 (2024-04-24) -- "Puppy Cup" | 4522 |
kjohnson3 | macOS 13.6.5 Ventura | arm64 | 4.4.0 (2024-04-24) -- "Puppy Cup" | 4468 |
Click on any hostname to see more info about the system (e.g. compilers) (*) as reported by 'uname -p', except on Windows and Mac OS X |
Package 817/2300 | Hostname | OS / Arch | INSTALL | BUILD | CHECK | BUILD BIN | ||||||||
GeneStructureTools 1.24.0 (landing page) Beth Signal
| nebbiolo1 | Linux (Ubuntu 22.04.3 LTS) / x86_64 | OK | OK | OK | |||||||||
palomino3 | Windows Server 2022 Datacenter / x64 | OK | OK | OK | OK | |||||||||
lconway | macOS 12.7.1 Monterey / x86_64 | OK | OK | OK | OK | |||||||||
kjohnson3 | macOS 13.6.5 Ventura / arm64 | OK | OK | OK | OK | |||||||||
To the developers/maintainers of the GeneStructureTools package: - Allow up to 24 hours (and sometimes 48 hours) for your latest push to git@git.bioconductor.org:packages/GeneStructureTools.git to reflect on this report. See Troubleshooting Build Report for more information. - Use the following Renviron settings to reproduce errors and warnings. - If 'R CMD check' started to fail recently on the Linux builder(s) over a missing dependency, add the missing dependency to 'Suggests:' in your DESCRIPTION file. See Renviron.bioc for more information. |
Package: GeneStructureTools |
Version: 1.24.0 |
Command: /Library/Frameworks/R.framework/Resources/bin/R CMD check --install=check:GeneStructureTools.install-out.txt --library=/Library/Frameworks/R.framework/Resources/library --no-vignettes --timings GeneStructureTools_1.24.0.tar.gz |
StartedAt: 2024-06-10 16:38:02 -0400 (Mon, 10 Jun 2024) |
EndedAt: 2024-06-10 16:49:57 -0400 (Mon, 10 Jun 2024) |
EllapsedTime: 715.8 seconds |
RetCode: 0 |
Status: OK |
CheckDir: GeneStructureTools.Rcheck |
Warnings: 0 |
############################################################################## ############################################################################## ### ### Running command: ### ### /Library/Frameworks/R.framework/Resources/bin/R CMD check --install=check:GeneStructureTools.install-out.txt --library=/Library/Frameworks/R.framework/Resources/library --no-vignettes --timings GeneStructureTools_1.24.0.tar.gz ### ############################################################################## ############################################################################## * using log directory ‘/Users/biocbuild/bbs-3.19-bioc/meat/GeneStructureTools.Rcheck’ * using R version 4.4.0 (2024-04-24) * using platform: aarch64-apple-darwin20 * R was compiled by Apple clang version 14.0.0 (clang-1400.0.29.202) GNU Fortran (GCC) 12.2.0 * running under: macOS Ventura 13.6.5 * using session charset: UTF-8 * using option ‘--no-vignettes’ * checking for file ‘GeneStructureTools/DESCRIPTION’ ... OK * checking extension type ... Package * this is package ‘GeneStructureTools’ version ‘1.24.0’ * package encoding: UTF-8 * checking package namespace information ... OK * checking package dependencies ... OK * checking if this is a source package ... OK * checking if there is a namespace ... OK * checking for hidden files and directories ... OK * checking for portable file names ... OK * checking for sufficient/correct file permissions ... OK * checking whether package ‘GeneStructureTools’ can be installed ... OK * checking installed package size ... OK * checking package directory ... OK * checking ‘build’ directory ... OK * checking DESCRIPTION meta-information ... OK * checking top-level files ... OK * checking for left-over files ... OK * checking index information ... OK * checking package subdirectories ... OK * checking code files for non-ASCII characters ... OK * checking R files for syntax errors ... OK * checking whether the package can be loaded ... OK * checking whether the package can be loaded with stated dependencies ... OK * checking whether the package can be unloaded cleanly ... OK * checking whether the namespace can be loaded with stated dependencies ... OK * checking whether the namespace can be unloaded cleanly ... OK * checking dependencies in R code ... OK * checking S3 generic/method consistency ... OK * checking replacement functions ... OK * checking foreign function calls ... OK * checking R code for possible problems ... OK * checking Rd files ... OK * checking Rd metadata ... OK * checking Rd cross-references ... OK * checking for missing documentation entries ... OK * checking for code/documentation mismatches ... OK * checking Rd \usage sections ... OK * checking Rd contents ... OK * checking for unstated dependencies in examples ... OK * checking files in ‘vignettes’ ... OK * checking examples ... OK Examples with CPU (user + system) or elapsed time > 5s user system elapsed leafcutterTranscriptChangeSummary 27.786 0.973 41.805 whippetTranscriptChangeSummary 14.450 0.384 21.825 replaceJunction 4.450 0.177 7.206 alternativeIntronUsage 4.320 0.040 5.538 * checking for unstated dependencies in vignettes ... OK * checking package vignettes ... OK * checking running R code from vignettes ... SKIPPED * checking re-building of vignette outputs ... SKIPPED * checking PDF version of manual ... OK * DONE Status: OK
GeneStructureTools.Rcheck/00install.out
############################################################################## ############################################################################## ### ### Running command: ### ### /Library/Frameworks/R.framework/Resources/bin/R CMD INSTALL GeneStructureTools ### ############################################################################## ############################################################################## * installing to library ‘/Library/Frameworks/R.framework/Versions/4.4-arm64/Resources/library’ * installing *source* package ‘GeneStructureTools’ ... ** using staged installation ** R ** inst ** byte-compile and prepare package for lazy loading ** help *** installing help indices ** building package indices ** installing vignettes ** testing if installed package can be loaded from temporary location ** testing if installed package can be loaded from final location ** testing if installed package keeps a record of temporary installation path * DONE (GeneStructureTools)
GeneStructureTools.Rcheck/GeneStructureTools-Ex.timings
name | user | system | elapsed | |
DEXSeqIdsToGeneIds | 0.003 | 0.001 | 0.003 | |
UTR2UTR53 | 2.611 | 0.111 | 4.020 | |
addBroadTypes | 0.219 | 0.008 | 0.290 | |
addIntronInTranscript | 2.144 | 0.154 | 3.671 | |
alternativeIntronUsage | 4.320 | 0.040 | 5.538 | |
annotateGeneModel | 0.962 | 0.022 | 1.508 | |
attrChangeAltSpliced | 1.424 | 0.141 | 2.634 | |
coordinates-methods | 0.088 | 0.127 | 0.594 | |
diffSplicingResults-methods | 0.083 | 0.124 | 0.564 | |
exonsToTranscripts | 0.373 | 0.011 | 0.535 | |
filterGtfOverlap | 0.280 | 0.009 | 0.428 | |
filterWhippetEvents | 0.093 | 0.111 | 0.564 | |
findDEXexonType | 2.830 | 0.035 | 4.304 | |
findExonContainingTranscripts | 0.495 | 0.136 | 1.235 | |
findIntronContainingTranscripts | 0.735 | 0.134 | 1.456 | |
findJunctionPairs | 1.549 | 0.138 | 3.076 | |
formatWhippetEvents | 0.019 | 0.016 | 0.095 | |
getOrfs | 0.818 | 0.026 | 1.514 | |
getUOrfs | 0.656 | 0.017 | 0.857 | |
junctions-methods | 0.091 | 0.123 | 0.594 | |
leafcutterTranscriptChangeSummary | 27.786 | 0.973 | 41.805 | |
makeGeneModel | 0.176 | 0.008 | 0.255 | |
maxLocation | 0.004 | 0.001 | 0.005 | |
orfDiff | 1.902 | 0.173 | 3.367 | |
orfSimilarity | 0.001 | 0.000 | 0.001 | |
overlapTypes | 2.645 | 0.037 | 4.214 | |
readCounts-methods | 0.088 | 0.126 | 0.602 | |
readWhippetDIFFfiles | 0.007 | 0.014 | 0.060 | |
readWhippetDataSet | 0.087 | 0.120 | 0.578 | |
readWhippetJNCfiles | 0.043 | 0.054 | 0.257 | |
readWhippetPSIfiles | 0.023 | 0.055 | 0.219 | |
removeDuplicateTranscripts | 0.296 | 0.009 | 0.475 | |
removeSameExon | 0.250 | 0.009 | 0.428 | |
removeVersion | 0 | 0 | 0 | |
reorderExonNumbers | 0.189 | 0.008 | 0.272 | |
replaceJunction | 4.450 | 0.177 | 7.206 | |
skipExonInTranscript | 1.648 | 0.144 | 3.047 | |
summariseExonTypes | 2.852 | 0.034 | 4.296 | |
transcriptChangeSummary | 1.716 | 0.159 | 2.959 | |
whippetTranscriptChangeSummary | 14.450 | 0.384 | 21.825 | |