| Back to Multiple platform build/check report for BioC 3.19: simplified long | 
 | 
This page was generated on 2024-05-09 11:40:53 -0400 (Thu, 09 May 2024).
| Hostname | OS | Arch (*) | R version | Installed pkgs | 
|---|---|---|---|---|
| nebbiolo1 | Linux (Ubuntu 22.04.3 LTS) | x86_64 | 4.4.0 (2024-04-24) -- "Puppy Cup" | 4748 | 
| palomino3 | Windows Server 2022 Datacenter | x64 | 4.4.0 (2024-04-24 ucrt) -- "Puppy Cup" | 4484 | 
| lconway | macOS 12.7.1 Monterey | x86_64 | 4.4.0 (2024-04-24) -- "Puppy Cup" | 4514 | 
| kunpeng2 | Linux (openEuler 22.03 LTS-SP1) | aarch64 | 4.4.0 beta (2024-04-15 r86425) -- "Puppy Cup" | 4480 | 
| Click on any hostname to see more info about the system (e.g. compilers) (*) as reported by 'uname -p', except on Windows and Mac OS X | ||||
| Package 822/2300 | Hostname | OS / Arch | INSTALL | BUILD | CHECK | BUILD BIN | ||||||||
| GENIE3 1.26.0  (landing page) Van Anh Huynh-Thu 
 | nebbiolo1 | Linux (Ubuntu 22.04.3 LTS) / x86_64 | OK | OK | OK |  | ||||||||
| palomino3 | Windows Server 2022 Datacenter / x64 | OK | OK | OK | OK |  | ||||||||
| lconway | macOS 12.7.1 Monterey / x86_64 | OK | OK | OK | OK |  | ||||||||
| kunpeng2 | Linux (openEuler 22.03 LTS-SP1) / aarch64 | OK | OK | OK | ||||||||||
| kjohnson3 | macOS 13.6.5 Ventura / arm64 | see weekly results here | ||||||||||||
| To the developers/maintainers of the GENIE3 package: - Allow up to 24 hours (and sometimes 48 hours) for your latest push to git@git.bioconductor.org:packages/GENIE3.git to reflect on this report. See Troubleshooting Build Report for more information. - Use the following Renviron settings to reproduce errors and warnings. - If 'R CMD check' started to fail recently on the Linux builder(s) over a missing dependency, add the missing dependency to 'Suggests:' in your DESCRIPTION file. See Renviron.bioc for more information. - See Martin Grigorov's blog post for how to debug Linux ARM64 related issues on a x86_64 host. | 
| Package: GENIE3 | 
| Version: 1.26.0 | 
| Command: /home/biocbuild/R/R-beta-2024-04-15_r86425/bin/R CMD INSTALL GENIE3 | 
| StartedAt: 2024-05-08 20:07:33 -0000 (Wed, 08 May 2024) | 
| EndedAt: 2024-05-08 20:07:47 -0000 (Wed, 08 May 2024) | 
| EllapsedTime: 14.0 seconds | 
| RetCode: 0 | 
| Status: OK | 
##############################################################################
##############################################################################
###
### Running command:
###
###   /home/biocbuild/R/R-beta-2024-04-15_r86425/bin/R CMD INSTALL GENIE3
###
##############################################################################
##############################################################################
* installing to library ‘/home/biocbuild/R/R-beta-2024-04-15_r86425/site-library’
* installing *source* package ‘GENIE3’ ...
** using staged installation
** libs
using C compiler: ‘gcc (GCC) 10.3.1’
gcc -I"/home/biocbuild/R/R-beta-2024-04-15_r86425/include" -DNDEBUG   -I/usr/local/include    -fPIC  -g -O2  -Wall -c GENIE3.c -o GENIE3.o
GENIE3.c: In function ‘find_the_best_threshold_multiregr’:
GENIE3.c:1368:24: warning: ‘best_threshold’ may be used uninitialized in this function [-Wmaybe-uninitialized]
 1368 |     current_threshold.f=best_threshold;
      |     ~~~~~~~~~~~~~~~~~~~^~~~~~~~~~~~~~~
GENIE3.c:1370:27: warning: ‘best_info’ may be used uninitialized in this function [-Wmaybe-uninitialized]
 1370 |     current_threshold_info=best_info;
      |     ~~~~~~~~~~~~~~~~~~~~~~^~~~~~~~~~
GENIE3.c: In function ‘build_one_tree_ensemble’:
GENIE3.c:1052:7: warning: ‘fp’ may be used uninitialized in this function [-Wmaybe-uninitialized]
 1052 |       write_one_tree(current_tree, fp);
      |       ^~~~~~~~~~~~~~~~~~~~~~~~~~~~~~~~
GENIE3.c: In function ‘find_the_best_threshold_symb_multiregr’:
GENIE3.c:1466:27: warning: ‘best_info’ may be used uninitialized in this function [-Wmaybe-uninitialized]
 1466 |     current_threshold_info=best_info;
      |     ~~~~~~~~~~~~~~~~~~~~~~^~~~~~~~~~
GENIE3.c: In function ‘compute_ltrees_variable_importance_multiregr_separate’:
GENIE3.c:1762:10: warning: ‘flag_continue’ may be used uninitialized in this function [-Wmaybe-uninitialized]
 1762 |   return flag_continue;
      |          ^~~~~~~~~~~~~
gcc -shared -L/home/biocbuild/R/R-beta-2024-04-15_r86425/lib -L/usr/local/lib -o GENIE3.so GENIE3.o -L/home/biocbuild/R/R-beta-2024-04-15_r86425/lib -lR
installing to /home/biocbuild/R/R-beta-2024-04-15_r86425/site-library/00LOCK-GENIE3/00new/GENIE3/libs
** R
** inst
** byte-compile and prepare package for lazy loading
in method for ‘GENIE3’ with signature ‘"SummarizedExperiment"’: no definition for class “SummarizedExperiment”
in method for ‘GENIE3’ with signature ‘"ExpressionSet"’: no definition for class “ExpressionSet”
** help
*** installing help indices
** building package indices
** installing vignettes
** testing if installed package can be loaded from temporary location
** checking absolute paths in shared objects and dynamic libraries
** testing if installed package can be loaded from final location
** testing if installed package keeps a record of temporary installation path
* DONE (GENIE3)