Back to Multiple platform build/check report for BioC 3.19: simplified long |
|
This page was generated on 2024-10-18 20:40 -0400 (Fri, 18 Oct 2024).
Hostname | OS | Arch (*) | R version | Installed pkgs |
---|---|---|---|---|
nebbiolo1 | Linux (Ubuntu 22.04.3 LTS) | x86_64 | 4.4.1 (2024-06-14) -- "Race for Your Life" | 4763 |
palomino7 | Windows Server 2022 Datacenter | x64 | 4.4.1 (2024-06-14 ucrt) -- "Race for Your Life" | 4500 |
merida1 | macOS 12.7.5 Monterey | x86_64 | 4.4.1 (2024-06-14) -- "Race for Your Life" | 4530 |
kjohnson1 | macOS 13.6.6 Ventura | arm64 | 4.4.1 (2024-06-14) -- "Race for Your Life" | 4480 |
Click on any hostname to see more info about the system (e.g. compilers) (*) as reported by 'uname -p', except on Windows and Mac OS X |
Package 723/2300 | Hostname | OS / Arch | INSTALL | BUILD | CHECK | BUILD BIN | ||||||||
FindIT2 1.10.0 (landing page) Guandong Shang
| nebbiolo1 | Linux (Ubuntu 22.04.3 LTS) / x86_64 | OK | OK | OK | |||||||||
palomino7 | Windows Server 2022 Datacenter / x64 | OK | OK | OK | OK | |||||||||
merida1 | macOS 12.7.5 Monterey / x86_64 | OK | OK | OK | OK | |||||||||
kjohnson1 | macOS 13.6.6 Ventura / arm64 | OK | OK | OK | OK | |||||||||
To the developers/maintainers of the FindIT2 package: - Allow up to 24 hours (and sometimes 48 hours) for your latest push to git@git.bioconductor.org:packages/FindIT2.git to reflect on this report. See Troubleshooting Build Report for more information. - Use the following Renviron settings to reproduce errors and warnings. - If 'R CMD check' started to fail recently on the Linux builder(s) over a missing dependency, add the missing dependency to 'Suggests:' in your DESCRIPTION file. See Renviron.bioc for more information. |
Package: FindIT2 |
Version: 1.10.0 |
Command: /Library/Frameworks/R.framework/Resources/bin/R CMD check --install=check:FindIT2.install-out.txt --library=/Library/Frameworks/R.framework/Resources/library --no-vignettes --timings FindIT2_1.10.0.tar.gz |
StartedAt: 2024-10-17 05:19:49 -0400 (Thu, 17 Oct 2024) |
EndedAt: 2024-10-17 05:33:43 -0400 (Thu, 17 Oct 2024) |
EllapsedTime: 833.3 seconds |
RetCode: 0 |
Status: OK |
CheckDir: FindIT2.Rcheck |
Warnings: 0 |
############################################################################## ############################################################################## ### ### Running command: ### ### /Library/Frameworks/R.framework/Resources/bin/R CMD check --install=check:FindIT2.install-out.txt --library=/Library/Frameworks/R.framework/Resources/library --no-vignettes --timings FindIT2_1.10.0.tar.gz ### ############################################################################## ############################################################################## * using log directory ‘/Users/biocbuild/bbs-3.19-bioc/meat/FindIT2.Rcheck’ * using R version 4.4.1 (2024-06-14) * using platform: x86_64-apple-darwin20 * R was compiled by Apple clang version 14.0.0 (clang-1400.0.29.202) GNU Fortran (GCC) 12.2.0 * running under: macOS Monterey 12.7.6 * using session charset: UTF-8 * using option ‘--no-vignettes’ * checking for file ‘FindIT2/DESCRIPTION’ ... OK * this is package ‘FindIT2’ version ‘1.10.0’ * package encoding: UTF-8 * checking package namespace information ... OK * checking package dependencies ... OK * checking if this is a source package ... OK * checking if there is a namespace ... OK * checking for hidden files and directories ... OK * checking for portable file names ... OK * checking for sufficient/correct file permissions ... OK * checking whether package ‘FindIT2’ can be installed ... OK * checking installed package size ... OK * checking package directory ... OK * checking ‘build’ directory ... OK * checking DESCRIPTION meta-information ... OK * checking top-level files ... OK * checking for left-over files ... OK * checking index information ... OK * checking package subdirectories ... OK * checking code files for non-ASCII characters ... OK * checking R files for syntax errors ... OK * checking whether the package can be loaded ... OK * checking whether the package can be loaded with stated dependencies ... OK * checking whether the package can be unloaded cleanly ... OK * checking whether the namespace can be loaded with stated dependencies ... OK * checking whether the namespace can be unloaded cleanly ... OK * checking dependencies in R code ... OK * checking S3 generic/method consistency ... OK * checking replacement functions ... OK * checking foreign function calls ... OK * checking R code for possible problems ... OK * checking Rd files ... OK * checking Rd metadata ... OK * checking Rd cross-references ... OK * checking for missing documentation entries ... OK * checking for code/documentation mismatches ... OK * checking Rd \usage sections ... OK * checking Rd contents ... OK * checking for unstated dependencies in examples ... OK * checking contents of ‘data’ directory ... OK * checking data for non-ASCII characters ... OK * checking data for ASCII and uncompressed saves ... OK * checking files in ‘vignettes’ ... OK * checking examples ... OK Examples with CPU (user + system) or elapsed time > 5s user system elapsed findIT_regionRP 12.384 0.155 14.568 calcRP_region 10.151 0.233 12.277 plot_peakGeneCor 7.291 0.115 8.850 calcRP_TFHit 6.676 0.269 8.316 calcRP_coverage 6.325 0.543 7.687 peakGeneCor 5.768 0.092 6.929 enhancerPromoterCor 5.583 0.128 6.436 integrate_ChIP_RNA 4.250 0.072 5.199 * checking for unstated dependencies in ‘tests’ ... OK * checking tests ... Running ‘testthat.R’ OK * checking for unstated dependencies in vignettes ... OK * checking package vignettes ... OK * checking running R code from vignettes ... SKIPPED * checking re-building of vignette outputs ... SKIPPED * checking PDF version of manual ... OK * DONE Status: OK
FindIT2.Rcheck/00install.out
############################################################################## ############################################################################## ### ### Running command: ### ### /Library/Frameworks/R.framework/Resources/bin/R CMD INSTALL FindIT2 ### ############################################################################## ############################################################################## * installing to library ‘/Library/Frameworks/R.framework/Versions/4.4-x86_64/Resources/library’ * installing *source* package ‘FindIT2’ ... ** using staged installation ** R ** data ** inst ** byte-compile and prepare package for lazy loading ** help *** installing help indices ** building package indices ** installing vignettes ** testing if installed package can be loaded from temporary location ** testing if installed package can be loaded from final location ** testing if installed package keeps a record of temporary installation path * DONE (FindIT2)
FindIT2.Rcheck/tests/testthat.Rout
R version 4.4.1 (2024-06-14) -- "Race for Your Life" Copyright (C) 2024 The R Foundation for Statistical Computing Platform: x86_64-apple-darwin20 R is free software and comes with ABSOLUTELY NO WARRANTY. You are welcome to redistribute it under certain conditions. Type 'license()' or 'licence()' for distribution details. R is a collaborative project with many contributors. Type 'contributors()' for more information and 'citation()' on how to cite R or R packages in publications. Type 'demo()' for some demos, 'help()' for on-line help, or 'help.start()' for an HTML browser interface to help. Type 'q()' to quit R. > library(testthat) > library(FindIT2) Loading required package: GenomicRanges Loading required package: stats4 Loading required package: BiocGenerics Attaching package: 'BiocGenerics' The following objects are masked from 'package:stats': IQR, mad, sd, var, xtabs The following objects are masked from 'package:base': Filter, Find, Map, Position, Reduce, anyDuplicated, aperm, append, as.data.frame, basename, cbind, colnames, dirname, do.call, duplicated, eval, evalq, get, grep, grepl, intersect, is.unsorted, lapply, mapply, match, mget, order, paste, pmax, pmax.int, pmin, pmin.int, rank, rbind, rownames, sapply, setdiff, table, tapply, union, unique, unsplit, which.max, which.min Loading required package: S4Vectors Attaching package: 'S4Vectors' The following object is masked from 'package:utils': findMatches The following objects are masked from 'package:base': I, expand.grid, unname Loading required package: IRanges Loading required package: GenomeInfoDb > if (!requireNamespace("TxDb.Athaliana.BioMart.plantsmart28")) { + stop("unable to load TxDb.Athaliana.BioMart.plantsmart28") + } Loading required namespace: TxDb.Athaliana.BioMart.plantsmart28 > > test_check("FindIT2") >> preparing gene features information... 2024-10-17 05:31:13 >> some scan range may cross Chr bound, trimming... 2024-10-17 05:31:16 >> preparing weight info... 2024-10-17 05:31:16 >> loading E50h_sampleChr5.bw info... 2024-10-17 05:31:16 ------------ >> extracting and calcluating Chr5 signal... 2024-10-17 05:31:16 >> dealing with Chr5 left gene signal... 2024-10-17 05:31:22 >> norming Chr5RP accoring to the whole Chr RP... 2024-10-17 05:31:22 >> merging all Chr RP together... 2024-10-17 05:31:22 >> done 2024-10-17 05:31:22 >> checking seqlevels match... 2024-10-17 05:31:23 >> your peak_GR seqlevel:Chr5... >> your Txdb seqlevel:Chr1 Chr2 Chr3 Chr4 Chr5 ChrM ChrC... Good, your Chrs in peak_GR is all in Txdb ------------ annotatePeak using geneScan mode begins >> preparing gene features information and scan region... 2024-10-17 05:31:23 >> some scan range may cross Chr bound, trimming... 2024-10-17 05:31:25 >> finding overlap peak in gene scan region... 2024-10-17 05:31:25 >> dealing with left peak not your gene scan region... 2024-10-17 05:31:25 >> merging two set peaks... 2024-10-17 05:31:26 >> calculating distance and dealing with gene strand... 2024-10-17 05:31:26 >> merging all info together ... 2024-10-17 05:31:26 >> done 2024-10-17 05:31:26 >> calculating peakCenter to TSS using peak-gene pair... 2024-10-17 05:31:26 >> pre-filling 1356 noAssoc peak gene's RP with 0... 2024-10-17 05:31:28 >> calculating RP using centerToTSS and peak score2024-10-17 05:31:28 >> merging all info together 2024-10-17 05:31:33 >> done 2024-10-17 05:31:35 >> calculating peakCenter to TSS using peak-gene pair... 2024-10-17 05:31:35 >> pre-filling 1356 noAssoc peak gene's RP with 0... 2024-10-17 05:31:37 >> calculating RP using centerToTSS and peak score2024-10-17 05:31:37 >> merging all info together 2024-10-17 05:31:44 >> done 2024-10-17 05:31:45 >> checking seqlevels match... 2024-10-17 05:31:45 >> your peak_GR seqlevel:Chr5... >> your Txdb seqlevel:Chr1 Chr2 Chr3 Chr4 Chr5 ChrM ChrC... Good, your Chrs in peak_GR is all in Txdb ------------ annotatePeak using geneScan mode begins >> preparing gene features information and scan region... 2024-10-17 05:31:46 >> some scan range may cross Chr bound, trimming... 2024-10-17 05:31:47 >> finding overlap peak in gene scan region... 2024-10-17 05:31:47 >> dealing with left peak not your gene scan region... 2024-10-17 05:31:47 >> merging two set peaks... 2024-10-17 05:31:48 >> calculating distance and dealing with gene strand... 2024-10-17 05:31:48 >> merging all info together ... 2024-10-17 05:31:48 >> done 2024-10-17 05:31:48 >> calculating peakCenter to TSS using peak-gene pair... 2024-10-17 05:31:48 >> calculating RP using centerToTSS and TF hit 2024-10-17 05:31:51 >> merging all info together 2024-10-17 05:31:51 >> done 2024-10-17 05:31:51 >> calculating peakCenter to TSS using peak-gene pair... 2024-10-17 05:31:51 >> calculating RP using centerToTSS and TF hit 2024-10-17 05:31:53 >> merging all info together 2024-10-17 05:31:53 >> done 2024-10-17 05:31:53 >> checking seqlevels match... 2024-10-17 05:31:55 >> your peak_GR seqlevel:Chr5... >> your Txdb seqlevel:Chr1 Chr2 Chr3 Chr4 Chr5 ChrM ChrC... Good, your Chrs in peak_GR is all in Txdb ------------ annotatePeak using geneScan mode begins >> preparing gene features information and scan region... 2024-10-17 05:31:55 >> some scan range may cross Chr bound, trimming... 2024-10-17 05:31:57 >> finding overlap peak in gene scan region... 2024-10-17 05:31:57 >> dealing with left peak not your gene scan region... 2024-10-17 05:31:57 >> merging two set peaks... 2024-10-17 05:31:57 >> calculating distance and dealing with gene strand... 2024-10-17 05:31:57 >> merging all info together ... 2024-10-17 05:31:58 >> done 2024-10-17 05:31:58 >> calculating peakCenter to TSS using peak-gene pair... 2024-10-17 05:31:58 >> pre-filling 1356 noAssoc peak gene's RP with 0... 2024-10-17 05:31:59 >> calculating RP using centerToTSS and peak score2024-10-17 05:31:59 >> merging all info together 2024-10-17 05:32:04 >> done 2024-10-17 05:32:05 >> extracting RP info from regionRP... 2024-10-17 05:32:07 >> dealing with TF_GR_databse... 2024-10-17 05:32:07 >> calculating percent and p-value... 2024-10-17 05:32:07 >> dealing withE5_0h_R1... 2024-10-17 05:32:07 >> dealing withE5_0h_R2... 2024-10-17 05:32:07 >> dealing withE5_4h_R1... 2024-10-17 05:32:07 >> dealing withE5_4h_R2... 2024-10-17 05:32:07 >> dealing withE5_8h_R1... 2024-10-17 05:32:08 >> dealing withE5_8h_R2... 2024-10-17 05:32:08 >> dealing withE5_16h_R1... 2024-10-17 05:32:08 >> dealing withE5_16h_R2... 2024-10-17 05:32:08 >> dealing withE5_24h_R1... 2024-10-17 05:32:08 >> dealing withE5_24h_R2... 2024-10-17 05:32:08 >> dealing withE5_48h_R1... 2024-10-17 05:32:08 >> dealing withE5_48h_R2... 2024-10-17 05:32:08 >> dealing withE5_48h_R3... 2024-10-17 05:32:08 >> dealing withE5_72h_R1... 2024-10-17 05:32:09 >> dealing withE5_72h_R2... 2024-10-17 05:32:09 >> dealing withE5_72h_R3... 2024-10-17 05:32:09 >> merging all info together... 2024-10-17 05:32:09 >> done 2024-10-17 05:32:09 >> preparing gene features information... 2024-10-17 05:32:10 >> some scan range may cross Chr bound, trimming... 2024-10-17 05:32:11 >> calculating p-value for each TF, which may be time consuming... 2024-10-17 05:32:11 >> merging all info together... 2024-10-17 05:32:11 >> done 2024-10-17 05:32:11 >> dealing with TF_GR_database... 2024-10-17 05:32:12 >> calculating coef and converting into z-score using INT... 2024-10-17 05:32:12 >> dealing with E5_0h_R1... 2024-10-17 05:32:12 >> dealing with E5_0h_R2... 2024-10-17 05:32:13 >> dealing with E5_4h_R1... 2024-10-17 05:32:14 >> dealing with E5_4h_R2... 2024-10-17 05:32:14 >> dealing with E5_8h_R1... 2024-10-17 05:32:14 >> dealing with E5_8h_R2... 2024-10-17 05:32:15 >> dealing with E5_16h_R1... 2024-10-17 05:32:15 >> dealing with E5_16h_R2... 2024-10-17 05:32:15 >> dealing with E5_24h_R1... 2024-10-17 05:32:15 >> dealing with E5_24h_R2... 2024-10-17 05:32:15 >> dealing with E5_48h_R1... 2024-10-17 05:32:16 >> dealing with E5_48h_R2... 2024-10-17 05:32:16 >> dealing with E5_48h_R3... 2024-10-17 05:32:16 >> dealing with E5_72h_R1... 2024-10-17 05:32:16 >> dealing with E5_72h_R2... 2024-10-17 05:32:16 >> dealing with E5_72h_R3... 2024-10-17 05:32:17 >> merging all info together... 2024-10-17 05:32:17 >> done 2024-10-17 05:32:17 >> checking seqlevels match... 2024-10-17 05:32:18 >> your peak_GR seqlevel:Chr5... >> your Txdb seqlevel:Chr1 Chr2 Chr3 Chr4 Chr5 ChrM ChrC... Good, your Chrs in peak_GR is all in Txdb ------------ annotatePeak using geneScan mode begins >> preparing gene features information and scan region... 2024-10-17 05:32:18 >> some scan range may cross Chr bound, trimming... 2024-10-17 05:32:19 >> finding overlap peak in gene scan region... 2024-10-17 05:32:19 >> dealing with left peak not your gene scan region... 2024-10-17 05:32:19 >> merging two set peaks... 2024-10-17 05:32:20 >> calculating distance and dealing with gene strand... 2024-10-17 05:32:20 >> merging all info together ... 2024-10-17 05:32:20 >> done 2024-10-17 05:32:20 >> calculating peakCenter to TSS using peak-gene pair... 2024-10-17 05:32:20 >> calculating RP using centerToTSS and TF hit 2024-10-17 05:32:22 >> merging all info together 2024-10-17 05:32:22 >> done 2024-10-17 05:32:22 >> checking seqlevels match... 2024-10-17 05:32:23 >> your peak_GR seqlevel:5... >> your Txdb seqlevel:Chr1 Chr2 Chr3 Chr4 Chr5 ChrM ChrC... >> checking seqlevels match... 2024-10-17 05:32:23 >> your peak_GR seqlevel:Chr5 Chr6... >> your Txdb seqlevel:Chr1 Chr2 Chr3 Chr4 Chr5 ChrM ChrC... >> checking seqlevels match... 2024-10-17 05:32:30 >> your peak_GR seqlevel:Chr5... >> your Txdb seqlevel:Chr1 Chr2 Chr3 Chr4 Chr5 ChrM ChrC... Good, your Chrs in peak_GR is all in Txdb >> checking seqlevels match... 2024-10-17 05:32:30 >> your peak_GR seqlevel:Chr5... >> your Txdb seqlevel:Chr1 Chr2 Chr3 Chr4 Chr5 ChrM ChrC... Good, your Chrs in peak_GR is all in Txdb ------------ annotating Peak using nearest gene mode begins >> preparing gene features information... 2024-10-17 05:32:30 >> finding nearest gene and calculating distance... 2024-10-17 05:32:32 >> dealing with gene strand ... 2024-10-17 05:32:32 >> merging all info together ... 2024-10-17 05:32:32 >> done 2024-10-17 05:32:32 >> checking seqlevels match... 2024-10-17 05:32:33 >> your peak_GR seqlevel:Chr5... >> your Txdb seqlevel:Chr1 Chr2 Chr3 Chr4 Chr5 ChrM ChrC... Good, your Chrs in peak_GR is all in Txdb >> checking seqlevels match... 2024-10-17 05:32:33 >> your peak_GR seqlevel:Chr5... >> your Txdb seqlevel:Chr1 Chr2 Chr3 Chr4 Chr5 ChrM ChrC... Good, your Chrs in peak_GR is all in Txdb ------------ annotating Peak using nearest gene mode begins >> preparing gene features information... 2024-10-17 05:32:33 >> finding nearest gene and calculating distance... 2024-10-17 05:32:35 >> dealing with gene strand ... 2024-10-17 05:32:35 >> merging all info together ... 2024-10-17 05:32:35 >> done 2024-10-17 05:32:35 >> checking seqlevels match... 2024-10-17 05:32:37 >> your peak_GR seqlevel:Chr5... >> your Txdb seqlevel:Chr1 Chr2 Chr3 Chr4 Chr5 ChrM ChrC... Good, your Chrs in peak_GR is all in Txdb >> checking seqlevels match... 2024-10-17 05:32:37 >> your peak_GR seqlevel:Chr5... >> your Txdb seqlevel:Chr1 Chr2 Chr3 Chr4 Chr5 ChrM ChrC... Good, your Chrs in peak_GR is all in Txdb ------------ annotating Peak using nearest gene mode begins >> preparing gene features information... 2024-10-17 05:32:37 >> finding nearest gene and calculating distance... 2024-10-17 05:32:40 >> dealing with gene strand ... 2024-10-17 05:32:40 >> merging all info together ... 2024-10-17 05:32:40 >> done 2024-10-17 05:32:41 >> checking seqlevels match... 2024-10-17 05:32:42 >> your peak_GR seqlevel:Chr5... >> your Txdb seqlevel:Chr1 Chr2 Chr3 Chr4 Chr5 ChrM ChrC... Good, your Chrs in peak_GR is all in Txdb >> checking seqlevels match... 2024-10-17 05:32:43 >> your peak_GR seqlevel:Chr5... >> your Txdb seqlevel:Chr1 Chr2 Chr3 Chr4 Chr5 ChrM ChrC... Good, your Chrs in peak_GR is all in Txdb ------------ annotating Peak using nearest gene mode begins >> preparing gene features information... 2024-10-17 05:32:43 >> finding nearest gene and calculating distance... 2024-10-17 05:32:44 >> dealing with gene strand ... 2024-10-17 05:32:45 >> merging all info together ... 2024-10-17 05:32:45 >> done 2024-10-17 05:32:45 It seems that there 1 genes have not been annotated by nearestGene mode >> checking seqlevels match... 2024-10-17 05:32:47 >> your peak_GR seqlevel:Chr5... >> your Txdb seqlevel:Chr1 Chr2 Chr3 Chr4 Chr5 ChrM ChrC... Good, your Chrs in peak_GR is all in Txdb >> checking seqlevels match... 2024-10-17 05:32:47 >> your peak_GR seqlevel:Chr5... >> your Txdb seqlevel:Chr1 Chr2 Chr3 Chr4 Chr5 ChrM ChrC... Good, your Chrs in peak_GR is all in Txdb ------------ annotating Peak using nearest gene mode begins >> preparing gene features information... 2024-10-17 05:32:47 >> finding nearest gene and calculating distance... 2024-10-17 05:32:48 >> dealing with gene strand ... 2024-10-17 05:32:49 >> merging all info together ... 2024-10-17 05:32:49 >> done 2024-10-17 05:32:49 It seems that there 1 genes have not been annotated by nearestGene mode >> checking seqlevels match... 2024-10-17 05:32:51 >> your peak_GR seqlevel:Chr5... >> your Txdb seqlevel:Chr1 Chr2 Chr3 Chr4 Chr5 ChrM ChrC... Good, your Chrs in peak_GR is all in Txdb >> checking seqlevels match... 2024-10-17 05:32:53 >> your peak_GR seqlevel:Chr5... >> your Txdb seqlevel:Chr1 Chr2 Chr3 Chr4 Chr5 ChrM ChrC... Good, your Chrs in peak_GR is all in Txdb >> some scan range may cross Chr bound, trimming... 2024-10-17 05:32:55 >> checking seqlevels match... 2024-10-17 05:32:57 >> your peak_GR seqlevel:Chr5... >> your Txdb seqlevel:Chr1 Chr2 Chr3 Chr4 Chr5 ChrM ChrC... Good, your Chrs in peak_GR is all in Txdb >> some scan range may cross Chr bound, trimming... 2024-10-17 05:32:59 Good, your two matrix colnames matchs >> calculating cor and pvalue, which may be time consuming... 2024-10-17 05:33:03 >> merging all info together... 2024-10-17 05:33:03 >> done 2024-10-17 05:33:04 >> checking seqlevels match... 2024-10-17 05:33:04 >> your peak_GR seqlevel:Chr5... >> your Txdb seqlevel:Chr1 Chr2 Chr3 Chr4 Chr5 ChrM ChrC... Good, your Chrs in peak_GR is all in Txdb >> using scanPromoter parameter to scan promoter for each gene... 2024-10-17 05:33:04 >> checking seqlevels match... 2024-10-17 05:33:04 >> your peak_GR seqlevel:Chr5... >> your Txdb seqlevel:Chr1 Chr2 Chr3 Chr4 Chr5 ChrM ChrC... Good, your Chrs in peak_GR is all in Txdb >> some scan range may cross Chr bound, trimming... 2024-10-17 05:33:06 >> there are 85 gene have scaned promoter >> using scanEnhancer parameter to scan Enhancer for each gene... 2024-10-17 05:33:07 >> checking seqlevels match... 2024-10-17 05:33:07 >> your peak_GR seqlevel:Chr5... >> your Txdb seqlevel:Chr1 Chr2 Chr3 Chr4 Chr5 ChrM ChrC... Good, your Chrs in peak_GR is all in Txdb >> some scan range may cross Chr bound, trimming... 2024-10-17 05:33:08 >> calculating cor and pvalue, which may be time consuming... 2024-10-17 05:33:09 >> merging all info together... 2024-10-17 05:33:09 >> done 2024-10-17 05:33:10 Good, your two matrix colnames matchs >> calculating cor and pvalue, which may be time consuming... 2024-10-17 05:33:10 >> merging all info together... 2024-10-17 05:33:10 >> done 2024-10-17 05:33:10 >> checking seqlevels match... 2024-10-17 05:33:11 >> your peak_GR seqlevel:Chr5... >> your Txdb seqlevel:Chr1 Chr2 Chr3 Chr4 Chr5 ChrM ChrC... Good, your Chrs in peak_GR is all in Txdb ------------ annotatePeak using geneScan mode begins >> preparing gene features information and scan region... 2024-10-17 05:33:11 >> some scan range may cross Chr bound, trimming... 2024-10-17 05:33:12 >> finding overlap peak in gene scan region... 2024-10-17 05:33:12 >> dealing with left peak not your gene scan region... 2024-10-17 05:33:12 >> merging two set peaks... 2024-10-17 05:33:13 >> calculating distance and dealing with gene strand... 2024-10-17 05:33:13 >> merging all info together ... 2024-10-17 05:33:13 >> done 2024-10-17 05:33:13 Good, your two matrix colnames matchs >> calculating cor and pvalue, which may be time consuming... 2024-10-17 05:33:17 >> merging all info together... 2024-10-17 05:33:17 >> done 2024-10-17 05:33:17 >> checking seqlevels match... 2024-10-17 05:33:17 >> your peak_GR seqlevel:Chr5... >> your Txdb seqlevel:Chr1 Chr2 Chr3 Chr4 Chr5 ChrM ChrC... Good, your Chrs in peak_GR is all in Txdb >> using scanPromoter parameter to scan promoter for each gene... 2024-10-17 05:33:17 >> checking seqlevels match... 2024-10-17 05:33:17 >> your peak_GR seqlevel:Chr5... >> your Txdb seqlevel:Chr1 Chr2 Chr3 Chr4 Chr5 ChrM ChrC... Good, your Chrs in peak_GR is all in Txdb >> some scan range may cross Chr bound, trimming... 2024-10-17 05:33:19 >> there are 85 gene have scaned promoter >> using scanEnhancer parameter to scan Enhancer for each gene... 2024-10-17 05:33:20 >> checking seqlevels match... 2024-10-17 05:33:20 >> your peak_GR seqlevel:Chr5... >> your Txdb seqlevel:Chr1 Chr2 Chr3 Chr4 Chr5 ChrM ChrC... Good, your Chrs in peak_GR is all in Txdb >> some scan range may cross Chr bound, trimming... 2024-10-17 05:33:22 >> calculating cor and pvalue, which may be time consuming... 2024-10-17 05:33:22 >> merging all info together... 2024-10-17 05:33:23 >> done 2024-10-17 05:33:23 Joining with `by = join_by(feature_id)` Joining with `by = join_by(feature_id)` `geom_smooth()` using formula = 'y ~ x' Joining with `by = join_by(feature_id)` Joining with `by = join_by(feature_id)` `geom_smooth()` using formula = 'y ~ x' [ FAIL 0 | WARN 0 | SKIP 0 | PASS 65 ] > > proc.time() user system elapsed 132.765 3.769 164.019
FindIT2.Rcheck/FindIT2-Ex.timings
name | user | system | elapsed | |
TF_target_database | 0.000 | 0.001 | 0.003 | |
calcRP_TFHit | 6.676 | 0.269 | 8.316 | |
calcRP_coverage | 6.325 | 0.543 | 7.687 | |
calcRP_region | 10.151 | 0.233 | 12.277 | |
enhancerPromoterCor | 5.583 | 0.128 | 6.436 | |
findIT_MARA | 1.009 | 0.029 | 1.088 | |
findIT_TFHit | 1.979 | 0.040 | 2.145 | |
findIT_TTPair | 0.152 | 0.010 | 0.183 | |
findIT_enrichFisher | 0.347 | 0.008 | 0.403 | |
findIT_enrichWilcox | 0.386 | 0.009 | 0.437 | |
findIT_regionRP | 12.384 | 0.155 | 14.568 | |
getAssocPairNumber | 2.470 | 0.053 | 3.059 | |
integrate_ChIP_RNA | 4.250 | 0.072 | 5.199 | |
integrate_replicates | 0.005 | 0.002 | 0.007 | |
jaccard_findIT_TTpair | 0.220 | 0.011 | 0.281 | |
jaccard_findIT_enrichFisher | 0.466 | 0.009 | 0.580 | |
loadPeakFile | 0.132 | 0.005 | 0.156 | |
mm_geneBound | 2.489 | 0.048 | 3.110 | |
mm_geneScan | 2.594 | 0.069 | 3.375 | |
mm_nearestGene | 2.279 | 0.050 | 2.831 | |
peakGeneCor | 5.768 | 0.092 | 6.929 | |
plot_annoDistance | 3.220 | 0.047 | 3.809 | |
plot_peakGeneAlias_summary | 2.885 | 0.052 | 3.402 | |
plot_peakGeneCor | 7.291 | 0.115 | 8.850 | |
test_geneSet | 0.001 | 0.003 | 0.003 | |