| Back to Multiple platform build/check report for BioC 3.19: simplified long |
|
This page was generated on 2024-06-11 14:42 -0400 (Tue, 11 Jun 2024).
| Hostname | OS | Arch (*) | R version | Installed pkgs |
|---|---|---|---|---|
| nebbiolo1 | Linux (Ubuntu 22.04.3 LTS) | x86_64 | 4.4.0 (2024-04-24) -- "Puppy Cup" | 4757 |
| palomino3 | Windows Server 2022 Datacenter | x64 | 4.4.0 (2024-04-24 ucrt) -- "Puppy Cup" | 4491 |
| lconway | macOS 12.7.1 Monterey | x86_64 | 4.4.0 (2024-04-24) -- "Puppy Cup" | 4522 |
| kjohnson3 | macOS 13.6.5 Ventura | arm64 | 4.4.0 (2024-04-24) -- "Puppy Cup" | 4468 |
| Click on any hostname to see more info about the system (e.g. compilers) (*) as reported by 'uname -p', except on Windows and Mac OS X | ||||
| Package 723/2300 | Hostname | OS / Arch | INSTALL | BUILD | CHECK | BUILD BIN | ||||||||
| FindIT2 1.10.0 (landing page) Guandong Shang
| nebbiolo1 | Linux (Ubuntu 22.04.3 LTS) / x86_64 | OK | OK | OK | |||||||||
| palomino3 | Windows Server 2022 Datacenter / x64 | OK | OK | OK | OK | |||||||||
| lconway | macOS 12.7.1 Monterey / x86_64 | OK | OK | OK | OK | |||||||||
| kjohnson3 | macOS 13.6.5 Ventura / arm64 | OK | OK | OK | OK | |||||||||
|
To the developers/maintainers of the FindIT2 package: - Allow up to 24 hours (and sometimes 48 hours) for your latest push to git@git.bioconductor.org:packages/FindIT2.git to reflect on this report. See Troubleshooting Build Report for more information. - Use the following Renviron settings to reproduce errors and warnings. - If 'R CMD check' started to fail recently on the Linux builder(s) over a missing dependency, add the missing dependency to 'Suggests:' in your DESCRIPTION file. See Renviron.bioc for more information. |
| Package: FindIT2 |
| Version: 1.10.0 |
| Command: /Library/Frameworks/R.framework/Resources/bin/R CMD check --install=check:FindIT2.install-out.txt --library=/Library/Frameworks/R.framework/Resources/library --no-vignettes --timings FindIT2_1.10.0.tar.gz |
| StartedAt: 2024-06-09 20:23:51 -0400 (Sun, 09 Jun 2024) |
| EndedAt: 2024-06-09 20:30:07 -0400 (Sun, 09 Jun 2024) |
| EllapsedTime: 375.0 seconds |
| RetCode: 0 |
| Status: OK |
| CheckDir: FindIT2.Rcheck |
| Warnings: 0 |
##############################################################################
##############################################################################
###
### Running command:
###
### /Library/Frameworks/R.framework/Resources/bin/R CMD check --install=check:FindIT2.install-out.txt --library=/Library/Frameworks/R.framework/Resources/library --no-vignettes --timings FindIT2_1.10.0.tar.gz
###
##############################################################################
##############################################################################
* using log directory ‘/Users/biocbuild/bbs-3.19-bioc/meat/FindIT2.Rcheck’
* using R version 4.4.0 (2024-04-24)
* using platform: x86_64-apple-darwin20
* R was compiled by
Apple clang version 14.0.0 (clang-1400.0.29.202)
GNU Fortran (GCC) 12.2.0
* running under: macOS Monterey 12.7.1
* using session charset: UTF-8
* using option ‘--no-vignettes’
* checking for file ‘FindIT2/DESCRIPTION’ ... OK
* this is package ‘FindIT2’ version ‘1.10.0’
* package encoding: UTF-8
* checking package namespace information ... OK
* checking package dependencies ... OK
* checking if this is a source package ... OK
* checking if there is a namespace ... OK
* checking for hidden files and directories ... OK
* checking for portable file names ... OK
* checking for sufficient/correct file permissions ... OK
* checking whether package ‘FindIT2’ can be installed ... OK
* checking installed package size ... OK
* checking package directory ... OK
* checking ‘build’ directory ... OK
* checking DESCRIPTION meta-information ... OK
* checking top-level files ... OK
* checking for left-over files ... OK
* checking index information ... OK
* checking package subdirectories ... OK
* checking code files for non-ASCII characters ... OK
* checking R files for syntax errors ... OK
* checking whether the package can be loaded ... OK
* checking whether the package can be loaded with stated dependencies ... OK
* checking whether the package can be unloaded cleanly ... OK
* checking whether the namespace can be loaded with stated dependencies ... OK
* checking whether the namespace can be unloaded cleanly ... OK
* checking dependencies in R code ... OK
* checking S3 generic/method consistency ... OK
* checking replacement functions ... OK
* checking foreign function calls ... OK
* checking R code for possible problems ... OK
* checking Rd files ... OK
* checking Rd metadata ... OK
* checking Rd cross-references ... OK
* checking for missing documentation entries ... OK
* checking for code/documentation mismatches ... OK
* checking Rd \usage sections ... OK
* checking Rd contents ... OK
* checking for unstated dependencies in examples ... OK
* checking contents of ‘data’ directory ... OK
* checking data for non-ASCII characters ... OK
* checking data for ASCII and uncompressed saves ... OK
* checking files in ‘vignettes’ ... OK
* checking examples ... OK
Examples with CPU (user + system) or elapsed time > 5s
user system elapsed
findIT_regionRP 6.523 0.140 6.680
calcRP_coverage 4.219 0.909 5.147
* checking for unstated dependencies in ‘tests’ ... OK
* checking tests ...
Running ‘testthat.R’
OK
* checking for unstated dependencies in vignettes ... OK
* checking package vignettes ... OK
* checking running R code from vignettes ... SKIPPED
* checking re-building of vignette outputs ... SKIPPED
* checking PDF version of manual ... OK
* DONE
Status: OK
FindIT2.Rcheck/00install.out
############################################################################## ############################################################################## ### ### Running command: ### ### /Library/Frameworks/R.framework/Resources/bin/R CMD INSTALL FindIT2 ### ############################################################################## ############################################################################## * installing to library ‘/Library/Frameworks/R.framework/Versions/4.4-x86_64/Resources/library’ * installing *source* package ‘FindIT2’ ... ** using staged installation ** R ** data ** inst ** byte-compile and prepare package for lazy loading ** help *** installing help indices ** building package indices ** installing vignettes ** testing if installed package can be loaded from temporary location ** testing if installed package can be loaded from final location ** testing if installed package keeps a record of temporary installation path * DONE (FindIT2)
FindIT2.Rcheck/tests/testthat.Rout
R version 4.4.0 (2024-04-24) -- "Puppy Cup"
Copyright (C) 2024 The R Foundation for Statistical Computing
Platform: x86_64-apple-darwin20
R is free software and comes with ABSOLUTELY NO WARRANTY.
You are welcome to redistribute it under certain conditions.
Type 'license()' or 'licence()' for distribution details.
R is a collaborative project with many contributors.
Type 'contributors()' for more information and
'citation()' on how to cite R or R packages in publications.
Type 'demo()' for some demos, 'help()' for on-line help, or
'help.start()' for an HTML browser interface to help.
Type 'q()' to quit R.
> library(testthat)
> library(FindIT2)
Loading required package: GenomicRanges
Loading required package: stats4
Loading required package: BiocGenerics
Attaching package: 'BiocGenerics'
The following objects are masked from 'package:stats':
IQR, mad, sd, var, xtabs
The following objects are masked from 'package:base':
Filter, Find, Map, Position, Reduce, anyDuplicated, aperm, append,
as.data.frame, basename, cbind, colnames, dirname, do.call,
duplicated, eval, evalq, get, grep, grepl, intersect, is.unsorted,
lapply, mapply, match, mget, order, paste, pmax, pmax.int, pmin,
pmin.int, rank, rbind, rownames, sapply, setdiff, table, tapply,
union, unique, unsplit, which.max, which.min
Loading required package: S4Vectors
Attaching package: 'S4Vectors'
The following object is masked from 'package:utils':
findMatches
The following objects are masked from 'package:base':
I, expand.grid, unname
Loading required package: IRanges
Loading required package: GenomeInfoDb
> if (!requireNamespace("TxDb.Athaliana.BioMart.plantsmart28")) {
+ stop("unable to load TxDb.Athaliana.BioMart.plantsmart28")
+ }
Loading required namespace: TxDb.Athaliana.BioMart.plantsmart28
>
> test_check("FindIT2")
>> preparing gene features information... 2024-06-09 20:28:59
>> some scan range may cross Chr bound, trimming... 2024-06-09 20:29:00
>> preparing weight info... 2024-06-09 20:29:01
>> loading E50h_sampleChr5.bw info... 2024-06-09 20:29:01
------------
>> extracting and calcluating Chr5 signal... 2024-06-09 20:29:01
>> dealing with Chr5 left gene signal... 2024-06-09 20:29:04
>> norming Chr5RP accoring to the whole Chr RP... 2024-06-09 20:29:05
>> merging all Chr RP together... 2024-06-09 20:29:05
>> done 2024-06-09 20:29:05
>> checking seqlevels match... 2024-06-09 20:29:05
>> your peak_GR seqlevel:Chr5...
>> your Txdb seqlevel:Chr1 Chr2 Chr3 Chr4 Chr5 ChrM ChrC...
Good, your Chrs in peak_GR is all in Txdb
------------
annotatePeak using geneScan mode begins
>> preparing gene features information and scan region... 2024-06-09 20:29:05
>> some scan range may cross Chr bound, trimming... 2024-06-09 20:29:06
>> finding overlap peak in gene scan region... 2024-06-09 20:29:06
>> dealing with left peak not your gene scan region... 2024-06-09 20:29:06
>> merging two set peaks... 2024-06-09 20:29:06
>> calculating distance and dealing with gene strand... 2024-06-09 20:29:07
>> merging all info together ... 2024-06-09 20:29:07
>> done 2024-06-09 20:29:07
>> calculating peakCenter to TSS using peak-gene pair... 2024-06-09 20:29:07
>> pre-filling 1356 noAssoc peak gene's RP with 0... 2024-06-09 20:29:07
>> calculating RP using centerToTSS and peak score2024-06-09 20:29:07
>> merging all info together 2024-06-09 20:29:09
>> done 2024-06-09 20:29:10
>> calculating peakCenter to TSS using peak-gene pair... 2024-06-09 20:29:10
>> pre-filling 1356 noAssoc peak gene's RP with 0... 2024-06-09 20:29:11
>> calculating RP using centerToTSS and peak score2024-06-09 20:29:11
>> merging all info together 2024-06-09 20:29:14
>> done 2024-06-09 20:29:14
>> checking seqlevels match... 2024-06-09 20:29:14
>> your peak_GR seqlevel:Chr5...
>> your Txdb seqlevel:Chr1 Chr2 Chr3 Chr4 Chr5 ChrM ChrC...
Good, your Chrs in peak_GR is all in Txdb
------------
annotatePeak using geneScan mode begins
>> preparing gene features information and scan region... 2024-06-09 20:29:14
>> some scan range may cross Chr bound, trimming... 2024-06-09 20:29:15
>> finding overlap peak in gene scan region... 2024-06-09 20:29:15
>> dealing with left peak not your gene scan region... 2024-06-09 20:29:15
>> merging two set peaks... 2024-06-09 20:29:16
>> calculating distance and dealing with gene strand... 2024-06-09 20:29:16
>> merging all info together ... 2024-06-09 20:29:16
>> done 2024-06-09 20:29:16
>> calculating peakCenter to TSS using peak-gene pair... 2024-06-09 20:29:16
>> calculating RP using centerToTSS and TF hit 2024-06-09 20:29:16
>> merging all info together 2024-06-09 20:29:16
>> done 2024-06-09 20:29:16
>> calculating peakCenter to TSS using peak-gene pair... 2024-06-09 20:29:16
>> calculating RP using centerToTSS and TF hit 2024-06-09 20:29:17
>> merging all info together 2024-06-09 20:29:17
>> done 2024-06-09 20:29:17
>> checking seqlevels match... 2024-06-09 20:29:18
>> your peak_GR seqlevel:Chr5...
>> your Txdb seqlevel:Chr1 Chr2 Chr3 Chr4 Chr5 ChrM ChrC...
Good, your Chrs in peak_GR is all in Txdb
------------
annotatePeak using geneScan mode begins
>> preparing gene features information and scan region... 2024-06-09 20:29:18
>> some scan range may cross Chr bound, trimming... 2024-06-09 20:29:19
>> finding overlap peak in gene scan region... 2024-06-09 20:29:19
>> dealing with left peak not your gene scan region... 2024-06-09 20:29:19
>> merging two set peaks... 2024-06-09 20:29:19
>> calculating distance and dealing with gene strand... 2024-06-09 20:29:20
>> merging all info together ... 2024-06-09 20:29:20
>> done 2024-06-09 20:29:20
>> calculating peakCenter to TSS using peak-gene pair... 2024-06-09 20:29:20
>> pre-filling 1356 noAssoc peak gene's RP with 0... 2024-06-09 20:29:20
>> calculating RP using centerToTSS and peak score2024-06-09 20:29:20
>> merging all info together 2024-06-09 20:29:23
>> done 2024-06-09 20:29:23
>> extracting RP info from regionRP... 2024-06-09 20:29:24
>> dealing with TF_GR_databse... 2024-06-09 20:29:24
>> calculating percent and p-value... 2024-06-09 20:29:24
>> dealing withE5_0h_R1... 2024-06-09 20:29:24
>> dealing withE5_0h_R2... 2024-06-09 20:29:24
>> dealing withE5_4h_R1... 2024-06-09 20:29:24
>> dealing withE5_4h_R2... 2024-06-09 20:29:24
>> dealing withE5_8h_R1... 2024-06-09 20:29:24
>> dealing withE5_8h_R2... 2024-06-09 20:29:24
>> dealing withE5_16h_R1... 2024-06-09 20:29:24
>> dealing withE5_16h_R2... 2024-06-09 20:29:24
>> dealing withE5_24h_R1... 2024-06-09 20:29:25
>> dealing withE5_24h_R2... 2024-06-09 20:29:25
>> dealing withE5_48h_R1... 2024-06-09 20:29:25
>> dealing withE5_48h_R2... 2024-06-09 20:29:25
>> dealing withE5_48h_R3... 2024-06-09 20:29:25
>> dealing withE5_72h_R1... 2024-06-09 20:29:25
>> dealing withE5_72h_R2... 2024-06-09 20:29:25
>> dealing withE5_72h_R3... 2024-06-09 20:29:25
>> merging all info together... 2024-06-09 20:29:25
>> done 2024-06-09 20:29:25
>> preparing gene features information... 2024-06-09 20:29:25
>> some scan range may cross Chr bound, trimming... 2024-06-09 20:29:26
>> calculating p-value for each TF, which may be time consuming... 2024-06-09 20:29:26
>> merging all info together... 2024-06-09 20:29:26
>> done 2024-06-09 20:29:26
>> dealing with TF_GR_database... 2024-06-09 20:29:26
>> calculating coef and converting into z-score using INT... 2024-06-09 20:29:26
>> dealing with E5_0h_R1... 2024-06-09 20:29:26
>> dealing with E5_0h_R2... 2024-06-09 20:29:27
>> dealing with E5_4h_R1... 2024-06-09 20:29:27
>> dealing with E5_4h_R2... 2024-06-09 20:29:27
>> dealing with E5_8h_R1... 2024-06-09 20:29:27
>> dealing with E5_8h_R2... 2024-06-09 20:29:27
>> dealing with E5_16h_R1... 2024-06-09 20:29:27
>> dealing with E5_16h_R2... 2024-06-09 20:29:27
>> dealing with E5_24h_R1... 2024-06-09 20:29:27
>> dealing with E5_24h_R2... 2024-06-09 20:29:27
>> dealing with E5_48h_R1... 2024-06-09 20:29:27
>> dealing with E5_48h_R2... 2024-06-09 20:29:27
>> dealing with E5_48h_R3... 2024-06-09 20:29:28
>> dealing with E5_72h_R1... 2024-06-09 20:29:28
>> dealing with E5_72h_R2... 2024-06-09 20:29:28
>> dealing with E5_72h_R3... 2024-06-09 20:29:28
>> merging all info together... 2024-06-09 20:29:28
>> done 2024-06-09 20:29:28
>> checking seqlevels match... 2024-06-09 20:29:28
>> your peak_GR seqlevel:Chr5...
>> your Txdb seqlevel:Chr1 Chr2 Chr3 Chr4 Chr5 ChrM ChrC...
Good, your Chrs in peak_GR is all in Txdb
------------
annotatePeak using geneScan mode begins
>> preparing gene features information and scan region... 2024-06-09 20:29:28
>> some scan range may cross Chr bound, trimming... 2024-06-09 20:29:29
>> finding overlap peak in gene scan region... 2024-06-09 20:29:29
>> dealing with left peak not your gene scan region... 2024-06-09 20:29:29
>> merging two set peaks... 2024-06-09 20:29:29
>> calculating distance and dealing with gene strand... 2024-06-09 20:29:29
>> merging all info together ... 2024-06-09 20:29:29
>> done 2024-06-09 20:29:29
>> calculating peakCenter to TSS using peak-gene pair... 2024-06-09 20:29:29
>> calculating RP using centerToTSS and TF hit 2024-06-09 20:29:30
>> merging all info together 2024-06-09 20:29:30
>> done 2024-06-09 20:29:30
>> checking seqlevels match... 2024-06-09 20:29:31
>> your peak_GR seqlevel:5...
>> your Txdb seqlevel:Chr1 Chr2 Chr3 Chr4 Chr5 ChrM ChrC...
>> checking seqlevels match... 2024-06-09 20:29:31
>> your peak_GR seqlevel:Chr5 Chr6...
>> your Txdb seqlevel:Chr1 Chr2 Chr3 Chr4 Chr5 ChrM ChrC...
>> checking seqlevels match... 2024-06-09 20:29:34
>> your peak_GR seqlevel:Chr5...
>> your Txdb seqlevel:Chr1 Chr2 Chr3 Chr4 Chr5 ChrM ChrC...
Good, your Chrs in peak_GR is all in Txdb
>> checking seqlevels match... 2024-06-09 20:29:34
>> your peak_GR seqlevel:Chr5...
>> your Txdb seqlevel:Chr1 Chr2 Chr3 Chr4 Chr5 ChrM ChrC...
Good, your Chrs in peak_GR is all in Txdb
------------
annotating Peak using nearest gene mode begins
>> preparing gene features information... 2024-06-09 20:29:34
>> finding nearest gene and calculating distance... 2024-06-09 20:29:35
>> dealing with gene strand ... 2024-06-09 20:29:35
>> merging all info together ... 2024-06-09 20:29:35
>> done 2024-06-09 20:29:35
>> checking seqlevels match... 2024-06-09 20:29:35
>> your peak_GR seqlevel:Chr5...
>> your Txdb seqlevel:Chr1 Chr2 Chr3 Chr4 Chr5 ChrM ChrC...
Good, your Chrs in peak_GR is all in Txdb
>> checking seqlevels match... 2024-06-09 20:29:35
>> your peak_GR seqlevel:Chr5...
>> your Txdb seqlevel:Chr1 Chr2 Chr3 Chr4 Chr5 ChrM ChrC...
Good, your Chrs in peak_GR is all in Txdb
------------
annotating Peak using nearest gene mode begins
>> preparing gene features information... 2024-06-09 20:29:35
>> finding nearest gene and calculating distance... 2024-06-09 20:29:36
>> dealing with gene strand ... 2024-06-09 20:29:36
>> merging all info together ... 2024-06-09 20:29:36
>> done 2024-06-09 20:29:36
>> checking seqlevels match... 2024-06-09 20:29:37
>> your peak_GR seqlevel:Chr5...
>> your Txdb seqlevel:Chr1 Chr2 Chr3 Chr4 Chr5 ChrM ChrC...
Good, your Chrs in peak_GR is all in Txdb
>> checking seqlevels match... 2024-06-09 20:29:37
>> your peak_GR seqlevel:Chr5...
>> your Txdb seqlevel:Chr1 Chr2 Chr3 Chr4 Chr5 ChrM ChrC...
Good, your Chrs in peak_GR is all in Txdb
------------
annotating Peak using nearest gene mode begins
>> preparing gene features information... 2024-06-09 20:29:37
>> finding nearest gene and calculating distance... 2024-06-09 20:29:38
>> dealing with gene strand ... 2024-06-09 20:29:38
>> merging all info together ... 2024-06-09 20:29:38
>> done 2024-06-09 20:29:38
>> checking seqlevels match... 2024-06-09 20:29:39
>> your peak_GR seqlevel:Chr5...
>> your Txdb seqlevel:Chr1 Chr2 Chr3 Chr4 Chr5 ChrM ChrC...
Good, your Chrs in peak_GR is all in Txdb
>> checking seqlevels match... 2024-06-09 20:29:39
>> your peak_GR seqlevel:Chr5...
>> your Txdb seqlevel:Chr1 Chr2 Chr3 Chr4 Chr5 ChrM ChrC...
Good, your Chrs in peak_GR is all in Txdb
------------
annotating Peak using nearest gene mode begins
>> preparing gene features information... 2024-06-09 20:29:39
>> finding nearest gene and calculating distance... 2024-06-09 20:29:40
>> dealing with gene strand ... 2024-06-09 20:29:40
>> merging all info together ... 2024-06-09 20:29:40
>> done 2024-06-09 20:29:40
It seems that there 1 genes have not been annotated by nearestGene mode
>> checking seqlevels match... 2024-06-09 20:29:41
>> your peak_GR seqlevel:Chr5...
>> your Txdb seqlevel:Chr1 Chr2 Chr3 Chr4 Chr5 ChrM ChrC...
Good, your Chrs in peak_GR is all in Txdb
>> checking seqlevels match... 2024-06-09 20:29:41
>> your peak_GR seqlevel:Chr5...
>> your Txdb seqlevel:Chr1 Chr2 Chr3 Chr4 Chr5 ChrM ChrC...
Good, your Chrs in peak_GR is all in Txdb
------------
annotating Peak using nearest gene mode begins
>> preparing gene features information... 2024-06-09 20:29:41
>> finding nearest gene and calculating distance... 2024-06-09 20:29:42
>> dealing with gene strand ... 2024-06-09 20:29:42
>> merging all info together ... 2024-06-09 20:29:42
>> done 2024-06-09 20:29:42
It seems that there 1 genes have not been annotated by nearestGene mode
>> checking seqlevels match... 2024-06-09 20:29:43
>> your peak_GR seqlevel:Chr5...
>> your Txdb seqlevel:Chr1 Chr2 Chr3 Chr4 Chr5 ChrM ChrC...
Good, your Chrs in peak_GR is all in Txdb
>> checking seqlevels match... 2024-06-09 20:29:44
>> your peak_GR seqlevel:Chr5...
>> your Txdb seqlevel:Chr1 Chr2 Chr3 Chr4 Chr5 ChrM ChrC...
Good, your Chrs in peak_GR is all in Txdb
>> some scan range may cross Chr bound, trimming... 2024-06-09 20:29:45
>> checking seqlevels match... 2024-06-09 20:29:46
>> your peak_GR seqlevel:Chr5...
>> your Txdb seqlevel:Chr1 Chr2 Chr3 Chr4 Chr5 ChrM ChrC...
Good, your Chrs in peak_GR is all in Txdb
>> some scan range may cross Chr bound, trimming... 2024-06-09 20:29:46
Good, your two matrix colnames matchs
>> calculating cor and pvalue, which may be time consuming... 2024-06-09 20:29:49
>> merging all info together... 2024-06-09 20:29:49
>> done 2024-06-09 20:29:49
>> checking seqlevels match... 2024-06-09 20:29:49
>> your peak_GR seqlevel:Chr5...
>> your Txdb seqlevel:Chr1 Chr2 Chr3 Chr4 Chr5 ChrM ChrC...
Good, your Chrs in peak_GR is all in Txdb
>> using scanPromoter parameter to scan promoter for each gene... 2024-06-09 20:29:49
>> checking seqlevels match... 2024-06-09 20:29:49
>> your peak_GR seqlevel:Chr5...
>> your Txdb seqlevel:Chr1 Chr2 Chr3 Chr4 Chr5 ChrM ChrC...
Good, your Chrs in peak_GR is all in Txdb
>> some scan range may cross Chr bound, trimming... 2024-06-09 20:29:50
>> there are 85 gene have scaned promoter
>> using scanEnhancer parameter to scan Enhancer for each gene... 2024-06-09 20:29:50
>> checking seqlevels match... 2024-06-09 20:29:50
>> your peak_GR seqlevel:Chr5...
>> your Txdb seqlevel:Chr1 Chr2 Chr3 Chr4 Chr5 ChrM ChrC...
Good, your Chrs in peak_GR is all in Txdb
>> some scan range may cross Chr bound, trimming... 2024-06-09 20:29:51
>> calculating cor and pvalue, which may be time consuming... 2024-06-09 20:29:51
>> merging all info together... 2024-06-09 20:29:51
>> done 2024-06-09 20:29:52
Good, your two matrix colnames matchs
>> calculating cor and pvalue, which may be time consuming... 2024-06-09 20:29:52
>> merging all info together... 2024-06-09 20:29:52
>> done 2024-06-09 20:29:52
>> checking seqlevels match... 2024-06-09 20:29:52
>> your peak_GR seqlevel:Chr5...
>> your Txdb seqlevel:Chr1 Chr2 Chr3 Chr4 Chr5 ChrM ChrC...
Good, your Chrs in peak_GR is all in Txdb
------------
annotatePeak using geneScan mode begins
>> preparing gene features information and scan region... 2024-06-09 20:29:52
>> some scan range may cross Chr bound, trimming... 2024-06-09 20:29:53
>> finding overlap peak in gene scan region... 2024-06-09 20:29:53
>> dealing with left peak not your gene scan region... 2024-06-09 20:29:53
>> merging two set peaks... 2024-06-09 20:29:53
>> calculating distance and dealing with gene strand... 2024-06-09 20:29:53
>> merging all info together ... 2024-06-09 20:29:53
>> done 2024-06-09 20:29:53
Good, your two matrix colnames matchs
>> calculating cor and pvalue, which may be time consuming... 2024-06-09 20:29:54
>> merging all info together... 2024-06-09 20:29:54
>> done 2024-06-09 20:29:54
>> checking seqlevels match... 2024-06-09 20:29:54
>> your peak_GR seqlevel:Chr5...
>> your Txdb seqlevel:Chr1 Chr2 Chr3 Chr4 Chr5 ChrM ChrC...
Good, your Chrs in peak_GR is all in Txdb
>> using scanPromoter parameter to scan promoter for each gene... 2024-06-09 20:29:54
>> checking seqlevels match... 2024-06-09 20:29:54
>> your peak_GR seqlevel:Chr5...
>> your Txdb seqlevel:Chr1 Chr2 Chr3 Chr4 Chr5 ChrM ChrC...
Good, your Chrs in peak_GR is all in Txdb
>> some scan range may cross Chr bound, trimming... 2024-06-09 20:29:55
>> there are 85 gene have scaned promoter
>> using scanEnhancer parameter to scan Enhancer for each gene... 2024-06-09 20:29:55
>> checking seqlevels match... 2024-06-09 20:29:55
>> your peak_GR seqlevel:Chr5...
>> your Txdb seqlevel:Chr1 Chr2 Chr3 Chr4 Chr5 ChrM ChrC...
Good, your Chrs in peak_GR is all in Txdb
>> some scan range may cross Chr bound, trimming... 2024-06-09 20:29:56
>> calculating cor and pvalue, which may be time consuming... 2024-06-09 20:29:56
>> merging all info together... 2024-06-09 20:29:56
>> done 2024-06-09 20:29:56
Joining with `by = join_by(feature_id)`
Joining with `by = join_by(feature_id)`
`geom_smooth()` using formula = 'y ~ x'
Joining with `by = join_by(feature_id)`
Joining with `by = join_by(feature_id)`
`geom_smooth()` using formula = 'y ~ x'
[ FAIL 0 | WARN 0 | SKIP 0 | PASS 65 ]
>
> proc.time()
user system elapsed
68.606 2.999 71.864
FindIT2.Rcheck/FindIT2-Ex.timings
| name | user | system | elapsed | |
| TF_target_database | 0 | 0 | 0 | |
| calcRP_TFHit | 3.907 | 0.151 | 4.127 | |
| calcRP_coverage | 4.219 | 0.909 | 5.147 | |
| calcRP_region | 4.636 | 0.139 | 4.790 | |
| enhancerPromoterCor | 2.910 | 0.082 | 3.001 | |
| findIT_MARA | 0.490 | 0.011 | 0.504 | |
| findIT_TFHit | 1.125 | 0.050 | 1.177 | |
| findIT_TTPair | 0.085 | 0.006 | 0.090 | |
| findIT_enrichFisher | 0.168 | 0.004 | 0.172 | |
| findIT_enrichWilcox | 0.204 | 0.004 | 0.209 | |
| findIT_regionRP | 6.523 | 0.140 | 6.680 | |
| getAssocPairNumber | 2.141 | 0.051 | 2.197 | |
| integrate_ChIP_RNA | 2.202 | 0.068 | 2.277 | |
| integrate_replicates | 0.002 | 0.001 | 0.003 | |
| jaccard_findIT_TTpair | 0.120 | 0.007 | 0.127 | |
| jaccard_findIT_enrichFisher | 0.233 | 0.006 | 0.239 | |
| loadPeakFile | 0.073 | 0.002 | 0.074 | |
| mm_geneBound | 1.357 | 0.030 | 1.390 | |
| mm_geneScan | 1.368 | 0.057 | 1.429 | |
| mm_nearestGene | 1.183 | 0.031 | 1.218 | |
| peakGeneCor | 2.273 | 0.089 | 2.369 | |
| plot_annoDistance | 1.715 | 0.051 | 1.770 | |
| plot_peakGeneAlias_summary | 1.445 | 0.036 | 1.486 | |
| plot_peakGeneCor | 3.005 | 0.070 | 3.083 | |
| test_geneSet | 0.000 | 0.001 | 0.000 | |