| Back to Multiple platform build/check report for BioC 3.19: simplified long |
|
This page was generated on 2024-05-09 11:40:50 -0400 (Thu, 09 May 2024).
| Hostname | OS | Arch (*) | R version | Installed pkgs |
|---|---|---|---|---|
| nebbiolo1 | Linux (Ubuntu 22.04.3 LTS) | x86_64 | 4.4.0 (2024-04-24) -- "Puppy Cup" | 4748 |
| palomino3 | Windows Server 2022 Datacenter | x64 | 4.4.0 (2024-04-24 ucrt) -- "Puppy Cup" | 4484 |
| lconway | macOS 12.7.1 Monterey | x86_64 | 4.4.0 (2024-04-24) -- "Puppy Cup" | 4514 |
| kunpeng2 | Linux (openEuler 22.03 LTS-SP1) | aarch64 | 4.4.0 beta (2024-04-15 r86425) -- "Puppy Cup" | 4480 |
| Click on any hostname to see more info about the system (e.g. compilers) (*) as reported by 'uname -p', except on Windows and Mac OS X | ||||
| Package 728/2300 | Hostname | OS / Arch | INSTALL | BUILD | CHECK | BUILD BIN | ||||||||
| FLAMES 1.10.0 (landing page) Changqing Wang
| nebbiolo1 | Linux (Ubuntu 22.04.3 LTS) / x86_64 | OK | OK | OK | |||||||||
| palomino3 | Windows Server 2022 Datacenter / x64 | ... NOT SUPPORTED ... | ||||||||||||
| lconway | macOS 12.7.1 Monterey / x86_64 | OK | OK | OK | OK | |||||||||
| kunpeng2 | Linux (openEuler 22.03 LTS-SP1) / aarch64 | ERROR | ERROR | skipped | ||||||||||
| kjohnson3 | macOS 13.6.5 Ventura / arm64 | see weekly results here | ||||||||||||
|
To the developers/maintainers of the FLAMES package: - Allow up to 24 hours (and sometimes 48 hours) for your latest push to git@git.bioconductor.org:packages/FLAMES.git to reflect on this report. See Troubleshooting Build Report for more information. - Use the following Renviron settings to reproduce errors and warnings. - If 'R CMD check' started to fail recently on the Linux builder(s) over a missing dependency, add the missing dependency to 'Suggests:' in your DESCRIPTION file. See Renviron.bioc for more information. - See Martin Grigorov's blog post for how to debug Linux ARM64 related issues on a x86_64 host. |
| Package: FLAMES |
| Version: 1.10.0 |
| Command: /home/biocbuild/R/R-beta-2024-04-15_r86425/bin/R CMD build --keep-empty-dirs --no-resave-data FLAMES |
| StartedAt: 2024-05-09 00:18:32 -0000 (Thu, 09 May 2024) |
| EndedAt: 2024-05-09 00:20:45 -0000 (Thu, 09 May 2024) |
| EllapsedTime: 133.2 seconds |
| RetCode: 1 |
| Status: ERROR |
| PackageFile: None |
| PackageFileSize: NA |
##############################################################################
##############################################################################
###
### Running command:
###
### /home/biocbuild/R/R-beta-2024-04-15_r86425/bin/R CMD build --keep-empty-dirs --no-resave-data FLAMES
###
##############################################################################
##############################################################################
* checking for file ‘FLAMES/DESCRIPTION’ ... OK
* preparing ‘FLAMES’:
* checking DESCRIPTION meta-information ... OK
* cleaning src
* installing the package to build vignettes
-----------------------------------
* installing *source* package ‘FLAMES’ ...
** using non-staged installation via StagedInstall field
** libs
using C++ compiler: ‘g++ (GCC) 10.3.1’
using C++17
g++ -std=gnu++17 -I"/home/biocbuild/R/R-beta-2024-04-15_r86425/include" -DNDEBUG -pthread -D_FILE_OFFSET_BITS=64 -I'/home/biocbuild/R/R-beta-2024-04-15_r86425/site-library/Rcpp/include' -I'/home/biocbuild/R/R-beta-2024-04-15_r86425/site-library/Rhtslib/include' -I'/home/biocbuild/R/R-beta-2024-04-15_r86425/site-library/zlibbioc/include' -I'/home/biocbuild/R/R-beta-2024-04-15_r86425/site-library/testthat/include' -I/usr/local/include -fPIC -g -O2 -Wall -c RcppExports.cpp -o RcppExports.o
g++ -std=gnu++17 -I"/home/biocbuild/R/R-beta-2024-04-15_r86425/include" -DNDEBUG -pthread -D_FILE_OFFSET_BITS=64 -I'/home/biocbuild/R/R-beta-2024-04-15_r86425/site-library/Rcpp/include' -I'/home/biocbuild/R/R-beta-2024-04-15_r86425/site-library/Rhtslib/include' -I'/home/biocbuild/R/R-beta-2024-04-15_r86425/site-library/zlibbioc/include' -I'/home/biocbuild/R/R-beta-2024-04-15_r86425/site-library/testthat/include' -I/usr/local/include -fPIC -g -O2 -Wall -c RcppFunctions.cpp -o RcppFunctions.o
g++ -std=gnu++17 -I"/home/biocbuild/R/R-beta-2024-04-15_r86425/include" -DNDEBUG -pthread -D_FILE_OFFSET_BITS=64 -I'/home/biocbuild/R/R-beta-2024-04-15_r86425/site-library/Rcpp/include' -I'/home/biocbuild/R/R-beta-2024-04-15_r86425/site-library/Rhtslib/include' -I'/home/biocbuild/R/R-beta-2024-04-15_r86425/site-library/zlibbioc/include' -I'/home/biocbuild/R/R-beta-2024-04-15_r86425/site-library/testthat/include' -I/usr/local/include -fPIC -g -O2 -Wall -c classes/BamRecord.cpp -o classes/BamRecord.o
g++ -std=gnu++17 -I"/home/biocbuild/R/R-beta-2024-04-15_r86425/include" -DNDEBUG -pthread -D_FILE_OFFSET_BITS=64 -I'/home/biocbuild/R/R-beta-2024-04-15_r86425/site-library/Rcpp/include' -I'/home/biocbuild/R/R-beta-2024-04-15_r86425/site-library/Rhtslib/include' -I'/home/biocbuild/R/R-beta-2024-04-15_r86425/site-library/zlibbioc/include' -I'/home/biocbuild/R/R-beta-2024-04-15_r86425/site-library/testthat/include' -I/usr/local/include -fPIC -g -O2 -Wall -c classes/GFFRecord.cpp -o classes/GFFRecord.o
In file included from classes/GFFRecord.cpp:8:
classes/../utility/utility.h: In function ‘std::pair<std::__cxx11::basic_string<char>, std::__cxx11::basic_string<char> > parseSpace(const string&)’:
classes/../utility/utility.h:255:20: warning: comparison of integer expressions of different signedness: ‘int’ and ‘std::__cxx11::basic_string<char>::size_type’ {aka ‘long unsigned int’} [-Wsign-compare]
255 | for (int i = 0; i < s.size(); i++) {
| ~~^~~~~~~~~~
g++ -std=gnu++17 -I"/home/biocbuild/R/R-beta-2024-04-15_r86425/include" -DNDEBUG -pthread -D_FILE_OFFSET_BITS=64 -I'/home/biocbuild/R/R-beta-2024-04-15_r86425/site-library/Rcpp/include' -I'/home/biocbuild/R/R-beta-2024-04-15_r86425/site-library/Rhtslib/include' -I'/home/biocbuild/R/R-beta-2024-04-15_r86425/site-library/zlibbioc/include' -I'/home/biocbuild/R/R-beta-2024-04-15_r86425/site-library/testthat/include' -I/usr/local/include -fPIC -g -O2 -Wall -c classes/GeneAnnotationParser.cpp -o classes/GeneAnnotationParser.o
In file included from classes/GeneAnnotationParser.cpp:15:
classes/../utility/utility.h: In function ‘std::pair<std::__cxx11::basic_string<char>, std::__cxx11::basic_string<char> > parseSpace(const string&)’:
classes/../utility/utility.h:255:20: warning: comparison of integer expressions of different signedness: ‘int’ and ‘std::__cxx11::basic_string<char>::size_type’ {aka ‘long unsigned int’} [-Wsign-compare]
255 | for (int i = 0; i < s.size(); i++) {
| ~~^~~~~~~~~~
g++ -std=gnu++17 -I"/home/biocbuild/R/R-beta-2024-04-15_r86425/include" -DNDEBUG -pthread -D_FILE_OFFSET_BITS=64 -I'/home/biocbuild/R/R-beta-2024-04-15_r86425/site-library/Rcpp/include' -I'/home/biocbuild/R/R-beta-2024-04-15_r86425/site-library/Rhtslib/include' -I'/home/biocbuild/R/R-beta-2024-04-15_r86425/site-library/zlibbioc/include' -I'/home/biocbuild/R/R-beta-2024-04-15_r86425/site-library/testthat/include' -I/usr/local/include -fPIC -g -O2 -Wall -c classes/Isoforms.cpp -o classes/Isoforms.o
In file included from classes/Isoforms.cpp:16:
classes/../utility/utility.h: In function ‘std::pair<std::__cxx11::basic_string<char>, std::__cxx11::basic_string<char> > parseSpace(const string&)’:
classes/../utility/utility.h:255:20: warning: comparison of integer expressions of different signedness: ‘int’ and ‘std::__cxx11::basic_string<char>::size_type’ {aka ‘long unsigned int’} [-Wsign-compare]
255 | for (int i = 0; i < s.size(); i++) {
| ~~^~~~~~~~~~
classes/Isoforms.cpp: In member function ‘void Isoforms::update_all_splice()’:
classes/Isoforms.cpp:233:21: warning: comparison of integer expressions of different signedness: ‘std::vector<StartEndPair>::size_type’ {aka ‘long unsigned int’} and ‘int’ [-Wsign-compare]
233 | if (blocks.size() >= (int)this->Min_sup_cnt) {
| ~~~~~~~~~~~~~~^~~~~~~~~~~~~~~~~~~~~~~~~
classes/Isoforms.cpp: In member function ‘void Isoforms::filter_TSS_TES(std::ofstream&, DoubleJunctions, float)’:
classes/Isoforms.cpp:368:26: warning: comparison of integer expressions of different signedness: ‘std::unordered_map<int, int>::size_type’ {aka ‘long unsigned int’} and ‘int’ [-Wsign-compare]
368 | if ((left_counts.size() < (int)this->Min_sup_cnt) ||
| ~~~~~~~~~~~~~~~~~~~^~~~~~~~~~~~~~~~~~~~~~~~
classes/Isoforms.cpp:369:24: warning: comparison of integer expressions of different signedness: ‘std::unordered_map<int, int>::size_type’ {aka ‘long unsigned int’} and ‘int’ [-Wsign-compare]
369 | (right_counts.size() < (int)this->Min_sup_cnt)) {
| ~~~~~~~~~~~~~~~~~~~~^~~~~~~~~~~~~~~~~~~~~~~~
classes/Isoforms.cpp: In member function ‘void Isoforms::match_known_annotation(const std::unordered_map<std::__cxx11::basic_string<char>, Junctions>&, const std::unordered_map<std::__cxx11::basic_string<char>, Pos>&, const std::unordered_map<std::__cxx11::basic_string<char>, std::vector<StartEndPair> >&, GeneBlocks, std::unordered_map<std::__cxx11::basic_string<char>, std::__cxx11::basic_string<char> >)’:
classes/Isoforms.cpp:662:23: warning: comparison of integer expressions of different signedness: ‘int’ and ‘const long unsigned int’ [-Wsign-compare]
662 | for (int j = 0; j < std::min(raw_iso_key.size() - 1, junction.junctions.size()); j++) {
| ~~^~~~~~~~~~~~~~~~~~~~~~~~~~~~~~~~~~~~~~~~~~~~~~~~~~~~~~~~~~~~~
classes/Isoforms.cpp:713:22: warning: comparison of integer expressions of different signedness: ‘int’ and ‘std::vector<int>::size_type’ {aka ‘long unsigned int’} [-Wsign-compare]
713 | for (int i = 0; i < new_exons.size(); ++i) {
| ~~^~~~~~~~~~~~~~~~~~
classes/Isoforms.cpp:725:18: warning: comparisons like ‘X<=Y<=Z’ do not have their mathematical meaning [-Wparentheses]
725 | } else if (0 < i < raw_iso_key.size() - 1) { // a site from the middle somewhere
| ~~^~~
classes/Isoforms.cpp: In member function ‘std::string Isoforms::isoform_to_gff3(float)’:
classes/Isoforms.cpp:1140:22: warning: comparison of integer expressions of different signedness: ‘int’ and ‘std::vector<int>::size_type’ {aka ‘long unsigned int’} [-Wsign-compare]
1140 | for (int i = 0; i < exons.size(); i+=2) {
| ~~^~~~~~~~~~~~~~
g++ -std=gnu++17 -I"/home/biocbuild/R/R-beta-2024-04-15_r86425/include" -DNDEBUG -pthread -D_FILE_OFFSET_BITS=64 -I'/home/biocbuild/R/R-beta-2024-04-15_r86425/site-library/Rcpp/include' -I'/home/biocbuild/R/R-beta-2024-04-15_r86425/site-library/Rhtslib/include' -I'/home/biocbuild/R/R-beta-2024-04-15_r86425/site-library/zlibbioc/include' -I'/home/biocbuild/R/R-beta-2024-04-15_r86425/site-library/testthat/include' -I/usr/local/include -fPIC -g -O2 -Wall -c classes/junctions.cpp -o classes/junctions.o
In file included from classes/junctions.cpp:12:
classes/../utility/utility.h: In function ‘std::pair<std::__cxx11::basic_string<char>, std::__cxx11::basic_string<char> > parseSpace(const string&)’:
classes/../utility/utility.h:255:20: warning: comparison of integer expressions of different signedness: ‘int’ and ‘std::__cxx11::basic_string<char>::size_type’ {aka ‘long unsigned int’} [-Wsign-compare]
255 | for (int i = 0; i < s.size(); i++) {
| ~~^~~~~~~~~~
classes/junctions.cpp: In function ‘std::unordered_map<std::__cxx11::basic_string<char>, std::vector<StartEndPair> > get_gene_flat(const std::unordered_map<std::__cxx11::basic_string<char>, std::vector<std::__cxx11::basic_string<char> > >&, const std::unordered_map<std::__cxx11::basic_string<char>, std::vector<StartEndPair> >&)’:
classes/junctions.cpp:162:27: warning: comparison of integer expressions of different signedness: ‘int’ and ‘std::vector<StartEndPair>::size_type’ {aka ‘long unsigned int’} [-Wsign-compare]
162 | for (int i = 1; i < exons.size(); i++) {
| ~~^~~~~~~~~~~~~~
g++ -std=gnu++17 -I"/home/biocbuild/R/R-beta-2024-04-15_r86425/include" -DNDEBUG -pthread -D_FILE_OFFSET_BITS=64 -I'/home/biocbuild/R/R-beta-2024-04-15_r86425/site-library/Rcpp/include' -I'/home/biocbuild/R/R-beta-2024-04-15_r86425/site-library/Rhtslib/include' -I'/home/biocbuild/R/R-beta-2024-04-15_r86425/site-library/zlibbioc/include' -I'/home/biocbuild/R/R-beta-2024-04-15_r86425/site-library/testthat/include' -I/usr/local/include -fPIC -g -O2 -Wall -c main-functions/find_isoform.cpp -o main-functions/find_isoform.o
g++ -std=gnu++17 -I"/home/biocbuild/R/R-beta-2024-04-15_r86425/include" -DNDEBUG -pthread -D_FILE_OFFSET_BITS=64 -I'/home/biocbuild/R/R-beta-2024-04-15_r86425/site-library/Rcpp/include' -I'/home/biocbuild/R/R-beta-2024-04-15_r86425/site-library/Rhtslib/include' -I'/home/biocbuild/R/R-beta-2024-04-15_r86425/site-library/zlibbioc/include' -I'/home/biocbuild/R/R-beta-2024-04-15_r86425/site-library/testthat/include' -I/usr/local/include -fPIC -g -O2 -Wall -c main-functions/flexiplex.cpp -o main-functions/flexiplex.o
main-functions/flexiplex.cpp: In function ‘unsigned int edit_distance(const string&, const string&, unsigned int&, int)’:
main-functions/flexiplex.cpp:119:21: warning: comparison of integer expressions of different signedness: ‘unsigned int’ and ‘int’ [-Wsign-compare]
119 | if (min_value <= max_editd)
| ~~~~~~~~~~^~~~~~~~~~~~
main-functions/flexiplex.cpp: In function ‘Barcode get_barcode(const string&, const std::unordered_set<std::__cxx11::basic_string<char> >&, int, int, const std::vector<std::pair<std::__cxx11::basic_string<char>, std::__cxx11::basic_string<char> > >&)’:
main-functions/flexiplex.cpp:225:19: warning: comparison of integer expressions of different signedness: ‘int’ and ‘__gnu_cxx::__alloc_traits<std::allocator<long unsigned int>, long unsigned int>::value_type’ {aka ‘long unsigned int’} [-Wsign-compare]
225 | if (i_pattern >= subpattern_ends[i_subpattern]) {
main-functions/flexiplex.cpp:286:22: warning: comparison of integer expressions of different signedness: ‘unsigned int’ and ‘int’ [-Wsign-compare]
286 | if (editDistance == barcode.editd) {
| ~~~~~~~~~~~~~^~~~~~~~~~~~~~~~
main-functions/flexiplex.cpp:288:29: warning: comparison of integer expressions of different signedness: ‘unsigned int’ and ‘int’ [-Wsign-compare]
288 | } else if (editDistance < barcode.editd &&
| ~~~~~~~~~~~~~^~~~~~~~~~~~~~~
main-functions/flexiplex.cpp:289:29: warning: comparison of integer expressions of different signedness: ‘unsigned int’ and ‘int’ [-Wsign-compare]
289 | editDistance <= barcode_max_editd) { // if best so far, update
| ~~~~~~~~~~~~~^~~~~~~~~~~~~~~~~~~~
main-functions/flexiplex.cpp: In function ‘std::vector<Barcode> big_barcode_search(const string&, const std::unordered_set<std::__cxx11::basic_string<char> >&, int, int, const std::vector<std::pair<std::__cxx11::basic_string<char>, std::__cxx11::basic_string<char> > >&)’:
main-functions/flexiplex.cpp:351:29: warning: comparison of integer expressions of different signedness: ‘const int’ and ‘const size_type’ {aka ‘const long unsigned int’} [-Wsign-compare]
351 | if (barcode.flank_end == std::string::npos) {
| ~~~~~~~~~~~~~~~~~~^~~~~~~~~~~~~~~~~~~~
main-functions/flexiplex.cpp: In function ‘void print_stats(const string&, const std::vector<Barcode>&, std::ostream&)’:
main-functions/flexiplex.cpp:376:38: warning: comparison of integer expressions of different signedness: ‘const int’ and ‘const size_type’ {aka ‘const long unsigned int’} [-Wsign-compare]
376 | << (barcode.flank_end == std::string::npos ? "True" : "False")
| ~~~~~~~~~~~~~~~~~~^~~~~~~~~~~~~~~~~~~~
main-functions/flexiplex.cpp: In function ‘void print_read(const string&, const string&, const string&, const std::vector<Barcode>&, std::ofstream&, std::unordered_set<std::__cxx11::basic_string<char> >&, bool)’:
main-functions/flexiplex.cpp:401:21: warning: comparison of integer expressions of different signedness: ‘int’ and ‘std::vector<Barcode>::size_type’ {aka ‘long unsigned int’} [-Wsign-compare]
401 | for (int b = 0; b < vec_bc.size(); b++) {
| ~~^~~~~~~~~~~~~~~
main-functions/flexiplex.cpp:411:32: warning: comparison of integer expressions of different signedness: ‘const int’ and ‘const size_type’ {aka ‘const long unsigned int’} [-Wsign-compare]
411 | if (vec_bc.at(b).flank_end == std::string::npos) {
| ~~~~~~~~~~~~~~~~~~~~~~~^~~~~~~~~~~~~~~~~~~~
main-functions/flexiplex.cpp:416:23: warning: comparison of integer expressions of different signedness: ‘int’ and ‘std::vector<Barcode>::size_type’ {aka ‘long unsigned int’} [-Wsign-compare]
416 | for (int f = 0; f < vec_bc.size(); f++) {
| ~~^~~~~~~~~~~~~~~
main-functions/flexiplex.cpp: In function ‘int flexiplex_cpp(Rcpp::String, Rcpp::String, bool, int, int, Rcpp::StringVector, Rcpp::String, Rcpp::String, Rcpp::String, int)’:
main-functions/flexiplex.cpp:635:23: warning: comparison of integer expressions of different signedness: ‘int’ and ‘std::vector<std::vector<SearchResult> >::size_type’ {aka ‘long unsigned int’} [-Wsign-compare]
635 | for (int t = 0; t < sr_v.size();
| ~~^~~~~~~~~~~~~
main-functions/flexiplex.cpp:640:25: warning: comparison of integer expressions of different signedness: ‘int’ and ‘std::vector<SearchResult>::size_type’ {aka ‘long unsigned int’} [-Wsign-compare]
640 | for (int r = 0; r < sr_v[t].size(); r++) { // loop over the reads
| ~~^~~~~~~~~~~~~~~~
main-functions/flexiplex.cpp:642:27: warning: comparison of integer expressions of different signedness: ‘int’ and ‘std::vector<Barcode>::size_type’ {aka ‘long unsigned int’} [-Wsign-compare]
642 | for (int b = 0; b < sr_v[t][r].vec_bc_for.size(); b++)
| ~~^~~~~~~~~~~~~~~~~~~~~~~~~~~~~~
main-functions/flexiplex.cpp:644:27: warning: comparison of integer expressions of different signedness: ‘int’ and ‘std::vector<Barcode>::size_type’ {aka ‘long unsigned int’} [-Wsign-compare]
644 | for (int b = 0; b < sr_v[t][r].vec_bc_rev.size(); b++)
| ~~^~~~~~~~~~~~~~~~~~~~~~~~~~~~~~
g++ -std=gnu++17 -I"/home/biocbuild/R/R-beta-2024-04-15_r86425/include" -DNDEBUG -pthread -D_FILE_OFFSET_BITS=64 -I'/home/biocbuild/R/R-beta-2024-04-15_r86425/site-library/Rcpp/include' -I'/home/biocbuild/R/R-beta-2024-04-15_r86425/site-library/Rhtslib/include' -I'/home/biocbuild/R/R-beta-2024-04-15_r86425/site-library/zlibbioc/include' -I'/home/biocbuild/R/R-beta-2024-04-15_r86425/site-library/testthat/include' -I/usr/local/include -fPIC -g -O2 -Wall -c main-functions/get_transcript_seq.cpp -o main-functions/get_transcript_seq.o
main-functions/get_transcript_seq.cpp: In function ‘void write_fa(const string&, const string&, const string&, int)’:
main-functions/get_transcript_seq.cpp:87:14: warning: comparison of integer expressions of different signedness: ‘int’ and ‘std::__cxx11::basic_string<char>::size_type’ {aka ‘long unsigned int’} [-Wsign-compare]
87 | while (i < seq.size()) {
| ~~^~~~~~~~~~~~
main-functions/get_transcript_seq.cpp:88:26: warning: comparison of integer expressions of different signedness: ‘int’ and ‘std::__cxx11::basic_string<char>::size_type’ {aka ‘long unsigned int’} [-Wsign-compare]
88 | if (i + wrap_len > seq.size()) {
| ~~~~~~~~~~~~~^~~~~~~~~~~~
g++ -std=gnu++17 -I"/home/biocbuild/R/R-beta-2024-04-15_r86425/include" -DNDEBUG -pthread -D_FILE_OFFSET_BITS=64 -I'/home/biocbuild/R/R-beta-2024-04-15_r86425/site-library/Rcpp/include' -I'/home/biocbuild/R/R-beta-2024-04-15_r86425/site-library/Rhtslib/include' -I'/home/biocbuild/R/R-beta-2024-04-15_r86425/site-library/zlibbioc/include' -I'/home/biocbuild/R/R-beta-2024-04-15_r86425/site-library/testthat/include' -I/usr/local/include -fPIC -g -O2 -Wall -c main-functions/group_bam2isoform.cpp -o main-functions/group_bam2isoform.o
In file included from main-functions/group_bam2isoform.cpp:18:
main-functions/../utility/utility.h: In function ‘std::pair<std::__cxx11::basic_string<char>, std::__cxx11::basic_string<char> > parseSpace(const string&)’:
main-functions/../utility/utility.h:255:20: warning: comparison of integer expressions of different signedness: ‘int’ and ‘std::__cxx11::basic_string<char>::size_type’ {aka ‘long unsigned int’} [-Wsign-compare]
255 | for (int i = 0; i < s.size(); i++) {
| ~~^~~~~~~~~~
g++ -std=gnu++17 -I"/home/biocbuild/R/R-beta-2024-04-15_r86425/include" -DNDEBUG -pthread -D_FILE_OFFSET_BITS=64 -I'/home/biocbuild/R/R-beta-2024-04-15_r86425/site-library/Rcpp/include' -I'/home/biocbuild/R/R-beta-2024-04-15_r86425/site-library/Rhtslib/include' -I'/home/biocbuild/R/R-beta-2024-04-15_r86425/site-library/zlibbioc/include' -I'/home/biocbuild/R/R-beta-2024-04-15_r86425/site-library/testthat/include' -I/usr/local/include -fPIC -g -O2 -Wall -c main-functions/pileup_readid.cpp -o main-functions/pileup_readid.o
g++ -std=gnu++17 -I"/home/biocbuild/R/R-beta-2024-04-15_r86425/include" -DNDEBUG -pthread -D_FILE_OFFSET_BITS=64 -I'/home/biocbuild/R/R-beta-2024-04-15_r86425/site-library/Rcpp/include' -I'/home/biocbuild/R/R-beta-2024-04-15_r86425/site-library/Rhtslib/include' -I'/home/biocbuild/R/R-beta-2024-04-15_r86425/site-library/zlibbioc/include' -I'/home/biocbuild/R/R-beta-2024-04-15_r86425/site-library/testthat/include' -I/usr/local/include -fPIC -g -O2 -Wall -c tests/test-junctions.cpp -o tests/test-junctions.o
g++ -std=gnu++17 -I"/home/biocbuild/R/R-beta-2024-04-15_r86425/include" -DNDEBUG -pthread -D_FILE_OFFSET_BITS=64 -I'/home/biocbuild/R/R-beta-2024-04-15_r86425/site-library/Rcpp/include' -I'/home/biocbuild/R/R-beta-2024-04-15_r86425/site-library/Rhtslib/include' -I'/home/biocbuild/R/R-beta-2024-04-15_r86425/site-library/zlibbioc/include' -I'/home/biocbuild/R/R-beta-2024-04-15_r86425/site-library/testthat/include' -I/usr/local/include -fPIC -g -O2 -Wall -c tests/test-parsing.cpp -o tests/test-parsing.o
g++ -std=gnu++17 -I"/home/biocbuild/R/R-beta-2024-04-15_r86425/include" -DNDEBUG -pthread -D_FILE_OFFSET_BITS=64 -I'/home/biocbuild/R/R-beta-2024-04-15_r86425/site-library/Rcpp/include' -I'/home/biocbuild/R/R-beta-2024-04-15_r86425/site-library/Rhtslib/include' -I'/home/biocbuild/R/R-beta-2024-04-15_r86425/site-library/zlibbioc/include' -I'/home/biocbuild/R/R-beta-2024-04-15_r86425/site-library/testthat/include' -I/usr/local/include -fPIC -g -O2 -Wall -c utility/cigars.cpp -o utility/cigars.o
g++ -std=gnu++17 -I"/home/biocbuild/R/R-beta-2024-04-15_r86425/include" -DNDEBUG -pthread -D_FILE_OFFSET_BITS=64 -I'/home/biocbuild/R/R-beta-2024-04-15_r86425/site-library/Rcpp/include' -I'/home/biocbuild/R/R-beta-2024-04-15_r86425/site-library/Rhtslib/include' -I'/home/biocbuild/R/R-beta-2024-04-15_r86425/site-library/zlibbioc/include' -I'/home/biocbuild/R/R-beta-2024-04-15_r86425/site-library/testthat/include' -I/usr/local/include -fPIC -g -O2 -Wall -c utility/edit_dist.cpp -o utility/edit_dist.o
g++ -std=gnu++17 -I"/home/biocbuild/R/R-beta-2024-04-15_r86425/include" -DNDEBUG -pthread -D_FILE_OFFSET_BITS=64 -I'/home/biocbuild/R/R-beta-2024-04-15_r86425/site-library/Rcpp/include' -I'/home/biocbuild/R/R-beta-2024-04-15_r86425/site-library/Rhtslib/include' -I'/home/biocbuild/R/R-beta-2024-04-15_r86425/site-library/zlibbioc/include' -I'/home/biocbuild/R/R-beta-2024-04-15_r86425/site-library/testthat/include' -I/usr/local/include -fPIC -g -O2 -Wall -c utility/fastq_utils.cpp -o utility/fastq_utils.o
g++ -std=gnu++17 -I"/home/biocbuild/R/R-beta-2024-04-15_r86425/include" -DNDEBUG -pthread -D_FILE_OFFSET_BITS=64 -I'/home/biocbuild/R/R-beta-2024-04-15_r86425/site-library/Rcpp/include' -I'/home/biocbuild/R/R-beta-2024-04-15_r86425/site-library/Rhtslib/include' -I'/home/biocbuild/R/R-beta-2024-04-15_r86425/site-library/zlibbioc/include' -I'/home/biocbuild/R/R-beta-2024-04-15_r86425/site-library/testthat/include' -I/usr/local/include -fPIC -g -O2 -Wall -c utility/edlib-1.2.7/edlib.cpp -o utility/edlib-1.2.7/edlib.o
g++ -std=gnu++17 -I"/home/biocbuild/R/R-beta-2024-04-15_r86425/include" -DNDEBUG -pthread -D_FILE_OFFSET_BITS=64 -I'/home/biocbuild/R/R-beta-2024-04-15_r86425/site-library/Rcpp/include' -I'/home/biocbuild/R/R-beta-2024-04-15_r86425/site-library/Rhtslib/include' -I'/home/biocbuild/R/R-beta-2024-04-15_r86425/site-library/zlibbioc/include' -I'/home/biocbuild/R/R-beta-2024-04-15_r86425/site-library/testthat/include' -I/usr/local/include -fPIC -g -O2 -Wall -c utility/ssw/ssw_cpp.cpp -o utility/ssw/ssw_cpp.o
In file included from utility/ssw/ssw_cpp.cpp:6:
utility/ssw/ssw.h:19:10: fatal error: sse2neon.h: No such file or directory
19 | #include "sse2neon.h"
| ^~~~~~~~~~~~
compilation terminated.
make: *** [/home/biocbuild/R/R-beta-2024-04-15_r86425/etc/Makeconf:204: utility/ssw/ssw_cpp.o] Error 1
ERROR: compilation failed for package ‘FLAMES’
* removing ‘/home/biocbuild/tmp/RtmpwAkJdx/Rinst3e75757e7df358/FLAMES’
-----------------------------------
ERROR: package installation failed