| Back to Multiple platform build/check report for BioC 3.19: simplified long |
|
This page was generated on 2024-10-18 20:42 -0400 (Fri, 18 Oct 2024).
| Hostname | OS | Arch (*) | R version | Installed pkgs |
|---|---|---|---|---|
| nebbiolo1 | Linux (Ubuntu 22.04.3 LTS) | x86_64 | 4.4.1 (2024-06-14) -- "Race for Your Life" | 4763 |
| palomino7 | Windows Server 2022 Datacenter | x64 | 4.4.1 (2024-06-14 ucrt) -- "Race for Your Life" | 4500 |
| merida1 | macOS 12.7.5 Monterey | x86_64 | 4.4.1 (2024-06-14) -- "Race for Your Life" | 4530 |
| kjohnson1 | macOS 13.6.6 Ventura | arm64 | 4.4.1 (2024-06-14) -- "Race for Your Life" | 4480 |
| Click on any hostname to see more info about the system (e.g. compilers) (*) as reported by 'uname -p', except on Windows and Mac OS X | ||||
| Package 650/2300 | Hostname | OS / Arch | INSTALL | BUILD | CHECK | BUILD BIN | ||||||||
| EnrichedHeatmap 1.34.0 (landing page) Zuguang Gu
| nebbiolo1 | Linux (Ubuntu 22.04.3 LTS) / x86_64 | OK | OK | OK | |||||||||
| palomino7 | Windows Server 2022 Datacenter / x64 | OK | OK | OK | OK | |||||||||
| merida1 | macOS 12.7.5 Monterey / x86_64 | OK | OK | OK | OK | |||||||||
| kjohnson1 | macOS 13.6.6 Ventura / arm64 | OK | OK | OK | OK | |||||||||
|
To the developers/maintainers of the EnrichedHeatmap package: - Allow up to 24 hours (and sometimes 48 hours) for your latest push to git@git.bioconductor.org:packages/EnrichedHeatmap.git to reflect on this report. See Troubleshooting Build Report for more information. - Use the following Renviron settings to reproduce errors and warnings. - If 'R CMD check' started to fail recently on the Linux builder(s) over a missing dependency, add the missing dependency to 'Suggests:' in your DESCRIPTION file. See Renviron.bioc for more information. |
| Package: EnrichedHeatmap |
| Version: 1.34.0 |
| Command: /Library/Frameworks/R.framework/Resources/bin/R CMD check --install=check:EnrichedHeatmap.install-out.txt --library=/Library/Frameworks/R.framework/Resources/library --no-vignettes --timings EnrichedHeatmap_1.34.0.tar.gz |
| StartedAt: 2024-10-17 20:41:46 -0400 (Thu, 17 Oct 2024) |
| EndedAt: 2024-10-17 20:44:09 -0400 (Thu, 17 Oct 2024) |
| EllapsedTime: 143.1 seconds |
| RetCode: 0 |
| Status: OK |
| CheckDir: EnrichedHeatmap.Rcheck |
| Warnings: 0 |
##############################################################################
##############################################################################
###
### Running command:
###
### /Library/Frameworks/R.framework/Resources/bin/R CMD check --install=check:EnrichedHeatmap.install-out.txt --library=/Library/Frameworks/R.framework/Resources/library --no-vignettes --timings EnrichedHeatmap_1.34.0.tar.gz
###
##############################################################################
##############################################################################
* using log directory ‘/Users/biocbuild/bbs-3.19-bioc/meat/EnrichedHeatmap.Rcheck’
* using R version 4.4.1 (2024-06-14)
* using platform: aarch64-apple-darwin20
* R was compiled by
Apple clang version 14.0.0 (clang-1400.0.29.202)
GNU Fortran (GCC) 12.2.0
* running under: macOS Ventura 13.6.6
* using session charset: UTF-8
* using option ‘--no-vignettes’
* checking for file ‘EnrichedHeatmap/DESCRIPTION’ ... OK
* checking extension type ... Package
* this is package ‘EnrichedHeatmap’ version ‘1.34.0’
* checking package namespace information ... OK
* checking package dependencies ... OK
* checking if this is a source package ... OK
* checking if there is a namespace ... OK
* checking for hidden files and directories ... OK
* checking for portable file names ... OK
* checking for sufficient/correct file permissions ... OK
* checking whether package ‘EnrichedHeatmap’ can be installed ... OK
* used C++ compiler: ‘Apple clang version 15.0.0 (clang-1500.0.40.1)’
* used SDK: ‘MacOSX11.3.sdk’
* checking installed package size ... OK
* checking package directory ... OK
* checking ‘build’ directory ... OK
* checking DESCRIPTION meta-information ... OK
* checking top-level files ... OK
* checking for left-over files ... OK
* checking index information ... OK
* checking package subdirectories ... OK
* checking code files for non-ASCII characters ... OK
* checking R files for syntax errors ... OK
* checking whether the package can be loaded ... OK
* checking whether the package can be loaded with stated dependencies ... OK
* checking whether the package can be unloaded cleanly ... OK
* checking whether the namespace can be loaded with stated dependencies ... OK
* checking whether the namespace can be unloaded cleanly ... OK
* checking whether startup messages can be suppressed ... OK
* checking dependencies in R code ... OK
* checking S3 generic/method consistency ... OK
* checking replacement functions ... OK
* checking foreign function calls ... OK
* checking R code for possible problems ... OK
* checking Rd files ... OK
* checking Rd metadata ... OK
* checking Rd cross-references ... OK
* checking for missing documentation entries ... OK
* checking for code/documentation mismatches ... OK
* checking Rd \usage sections ... OK
* checking Rd contents ... OK
* checking for unstated dependencies in examples ... OK
* checking line endings in C/C++/Fortran sources/headers ... OK
* checking compiled code ... NOTE
Note: information on .o files is not available
* checking files in ‘vignettes’ ... OK
* checking examples ... OK
Examples with CPU (user + system) or elapsed time > 5s
user system elapsed
EnrichedHeatmap 9.035 0.295 9.419
* checking for unstated dependencies in ‘tests’ ... OK
* checking tests ...
Running ‘test-all.R’
OK
* checking for unstated dependencies in vignettes ... OK
* checking package vignettes ... OK
* checking running R code from vignettes ... SKIPPED
* checking re-building of vignette outputs ... SKIPPED
* checking PDF version of manual ... OK
* DONE
Status: 1 NOTE
See
‘/Users/biocbuild/bbs-3.19-bioc/meat/EnrichedHeatmap.Rcheck/00check.log’
for details.
EnrichedHeatmap.Rcheck/00install.out
############################################################################## ############################################################################## ### ### Running command: ### ### /Library/Frameworks/R.framework/Resources/bin/R CMD INSTALL EnrichedHeatmap ### ############################################################################## ############################################################################## * installing to library ‘/Library/Frameworks/R.framework/Versions/4.4-arm64/Resources/library’ * installing *source* package ‘EnrichedHeatmap’ ... ** using staged installation ** libs using C++ compiler: ‘Apple clang version 15.0.0 (clang-1500.0.40.1)’ using SDK: ‘MacOSX11.3.sdk’ clang++ -arch arm64 -std=gnu++17 -I"/Library/Frameworks/R.framework/Resources/include" -DNDEBUG -I'/Library/Frameworks/R.framework/Versions/4.4-arm64/Resources/library/Rcpp/include' -I/opt/R/arm64/include -fPIC -falign-functions=64 -Wall -g -O2 -c RcppExports.cpp -o RcppExports.o clang++ -arch arm64 -std=gnu++17 -I"/Library/Frameworks/R.framework/Resources/include" -DNDEBUG -I'/Library/Frameworks/R.framework/Versions/4.4-arm64/Resources/library/Rcpp/include' -I/opt/R/arm64/include -fPIC -falign-functions=64 -Wall -g -O2 -c dist_by_closeness.cpp -o dist_by_closeness.o clang++ -arch arm64 -std=gnu++17 -dynamiclib -Wl,-headerpad_max_install_names -undefined dynamic_lookup -L/Library/Frameworks/R.framework/Resources/lib -L/opt/R/arm64/lib -o EnrichedHeatmap.so RcppExports.o dist_by_closeness.o -F/Library/Frameworks/R.framework/.. -framework R -Wl,-framework -Wl,CoreFoundation installing to /Library/Frameworks/R.framework/Versions/4.4-arm64/Resources/library/00LOCK-EnrichedHeatmap/00new/EnrichedHeatmap/libs ** R ** inst ** byte-compile and prepare package for lazy loading ** help *** installing help indices ** building package indices ** installing vignettes ** testing if installed package can be loaded from temporary location ** checking absolute paths in shared objects and dynamic libraries ** testing if installed package can be loaded from final location ** testing if installed package keeps a record of temporary installation path * DONE (EnrichedHeatmap)
EnrichedHeatmap.Rcheck/tests/test-all.Rout
R version 4.4.1 (2024-06-14) -- "Race for Your Life"
Copyright (C) 2024 The R Foundation for Statistical Computing
Platform: aarch64-apple-darwin20
R is free software and comes with ABSOLUTELY NO WARRANTY.
You are welcome to redistribute it under certain conditions.
Type 'license()' or 'licence()' for distribution details.
R is a collaborative project with many contributors.
Type 'contributors()' for more information and
'citation()' on how to cite R or R packages in publications.
Type 'demo()' for some demos, 'help()' for on-line help, or
'help.start()' for an HTML browser interface to help.
Type 'q()' to quit R.
> library(testthat)
> suppressWarnings(suppressPackageStartupMessages(library(EnrichedHeatmap)))
>
> test_check("EnrichedHeatmap")
[ FAIL 0 | WARN 6 | SKIP 0 | PASS 19 ]
[ FAIL 0 | WARN 6 | SKIP 0 | PASS 19 ]
>
> proc.time()
user system elapsed
13.958 0.353 14.656
EnrichedHeatmap.Rcheck/EnrichedHeatmap-Ex.timings
| name | user | system | elapsed | |
| EnrichedHeatmap | 9.035 | 0.295 | 9.419 | |
| Extract.normalizedMatrix | 0 | 0 | 0 | |
| anno_enriched | 3.308 | 0.200 | 3.535 | |
| as.normalizedMatrix | 0 | 0 | 0 | |
| copyAttr | 0.476 | 0.008 | 0.484 | |
| default_smooth_fun | 0 | 0 | 0 | |
| discretize | 0 | 0 | 0 | |
| dist_by_closeness | 0.003 | 0.000 | 0.003 | |
| enriched_score | 0 | 0 | 0 | |
| extract_anno_enriched | 0 | 0 | 0 | |
| failed_rows | 0.000 | 0.000 | 0.001 | |
| getSignalsFromList | 0 | 0 | 0 | |
| makeWindows | 0.225 | 0.007 | 0.232 | |
| normalizeToMatrix | 4.134 | 0.023 | 4.200 | |
| print.normalizedMatrix | 0 | 0 | 0 | |
| rbind.normalizedMatrix | 0.000 | 0.000 | 0.001 | |