| Back to Multiple platform build/check report for BioC 3.19: simplified long | 
 | 
This page was generated on 2024-06-11 14:42 -0400 (Tue, 11 Jun 2024).
| Hostname | OS | Arch (*) | R version | Installed pkgs | 
|---|---|---|---|---|
| nebbiolo1 | Linux (Ubuntu 22.04.3 LTS) | x86_64 | 4.4.0 (2024-04-24) -- "Puppy Cup" | 4757 | 
| palomino3 | Windows Server 2022 Datacenter | x64 | 4.4.0 (2024-04-24 ucrt) -- "Puppy Cup" | 4491 | 
| lconway | macOS 12.7.1 Monterey | x86_64 | 4.4.0 (2024-04-24) -- "Puppy Cup" | 4522 | 
| kjohnson3 | macOS 13.6.5 Ventura | arm64 | 4.4.0 (2024-04-24) -- "Puppy Cup" | 4468 | 
| Click on any hostname to see more info about the system (e.g. compilers) (*) as reported by 'uname -p', except on Windows and Mac OS X | ||||
| Package 630/2300 | Hostname | OS / Arch | INSTALL | BUILD | CHECK | BUILD BIN | ||||||||
| EBSeq 2.2.0  (landing page) Xiuyu Ma 
 | nebbiolo1 | Linux (Ubuntu 22.04.3 LTS) / x86_64 | OK | OK | OK |  | ||||||||
| palomino3 | Windows Server 2022 Datacenter / x64 | OK | OK | OK | OK |  | ||||||||
| lconway | macOS 12.7.1 Monterey / x86_64 | OK | OK | WARNINGS | OK |  | ||||||||
| kjohnson3 | macOS 13.6.5 Ventura / arm64 | OK | OK | WARNINGS | OK |  | ||||||||
| To the developers/maintainers of the EBSeq package: - Allow up to 24 hours (and sometimes 48 hours) for your latest push to git@git.bioconductor.org:packages/EBSeq.git to reflect on this report. See Troubleshooting Build Report for more information. - Use the following Renviron settings to reproduce errors and warnings. - If 'R CMD check' started to fail recently on the Linux builder(s) over a missing dependency, add the missing dependency to 'Suggests:' in your DESCRIPTION file. See Renviron.bioc for more information. | 
| Package: EBSeq | 
| Version: 2.2.0 | 
| Command: /Library/Frameworks/R.framework/Resources/bin/R CMD INSTALL EBSeq | 
| StartedAt: 2024-06-09 15:27:23 -0400 (Sun, 09 Jun 2024) | 
| EndedAt: 2024-06-09 15:27:58 -0400 (Sun, 09 Jun 2024) | 
| EllapsedTime: 34.5 seconds | 
| RetCode: 0 | 
| Status: OK | 
##############################################################################
##############################################################################
###
### Running command:
###
###   /Library/Frameworks/R.framework/Resources/bin/R CMD INSTALL EBSeq
###
##############################################################################
##############################################################################
* installing to library ‘/Library/Frameworks/R.framework/Versions/4.4-x86_64/Resources/library’
* installing *source* package ‘EBSeq’ ...
** using staged installation
** libs
using C++ compiler: ‘Apple clang version 14.0.0 (clang-1400.0.29.202)’
using C++11
using SDK: ‘MacOSX11.3.sdk’
clang++ -arch x86_64 -std=gnu++11 -I"/Library/Frameworks/R.framework/Resources/include" -DNDEBUG  -I'/Library/Frameworks/R.framework/Versions/4.4-x86_64/Resources/library/Rcpp/include' -I'/Library/Frameworks/R.framework/Versions/4.4-x86_64/Resources/library/RcppEigen/include' -I'/Library/Frameworks/R.framework/Versions/4.4-x86_64/Resources/library/BH/include' -I/opt/R/x86_64/include    -fPIC  -falign-functions=64 -Wall -g -O2   -c Rexport.cpp -o Rexport.o
In file included from Rexport.cpp:11:
In file included from ./negativeBinomial.hpp:5:
In file included from ./agglomerativeClustering.hpp:9:
In file included from /Library/Frameworks/R.framework/Versions/4.4-x86_64/Resources/library/BH/include/boost/math/special_functions/gamma.hpp:17:
In file included from /Library/Frameworks/R.framework/Versions/4.4-x86_64/Resources/library/BH/include/boost/math/tools/series.hpp:16:
/Library/Frameworks/R.framework/Versions/4.4-x86_64/Resources/library/BH/include/boost/math/tools/config.hpp:23:6: warning: "The minimum language standard to use Boost.Math will be C++14 starting in July 2023 (Boost 1.82 release)" [-W#warnings]
#    warning "The minimum language standard to use Boost.Math will be C++14 starting in July 2023 (Boost 1.82 release)"
     ^
In file included from Rexport.cpp:11:
./negativeBinomial.hpp:139:26: warning: variable 'maxholder' set but not used [-Wunused-but-set-variable]
                    auto maxholder = add.maxCoeff(&maxRow, &maxCol);
                         ^
2 warnings generated.
clang++ -arch x86_64 -std=gnu++11 -dynamiclib -Wl,-headerpad_max_install_names -undefined dynamic_lookup -L/Library/Frameworks/R.framework/Resources/lib -L/opt/R/x86_64/lib -o EBSeq.so Rexport.o -F/Library/Frameworks/R.framework/.. -framework R -Wl,-framework -Wl,CoreFoundation
installing to /Library/Frameworks/R.framework/Versions/4.4-x86_64/Resources/library/00LOCK-EBSeq/00new/EBSeq/libs
** R
** data
** demo
** inst
** byte-compile and prepare package for lazy loading
** help
*** installing help indices
** building package indices
** installing vignettes
** testing if installed package can be loaded from temporary location
** checking absolute paths in shared objects and dynamic libraries
** testing if installed package can be loaded from final location
** testing if installed package keeps a record of temporary installation path
* DONE (EBSeq)