| Back to Multiple platform build/check report for BioC 3.19: simplified long |
|
This page was generated on 2024-06-28 17:41 -0400 (Fri, 28 Jun 2024).
| Hostname | OS | Arch (*) | R version | Installed pkgs |
|---|---|---|---|---|
| nebbiolo1 | Linux (Ubuntu 22.04.3 LTS) | x86_64 | 4.4.0 (2024-04-24) -- "Puppy Cup" | 4760 |
| palomino3 | Windows Server 2022 Datacenter | x64 | 4.4.0 (2024-04-24 ucrt) -- "Puppy Cup" | 4494 |
| merida1 | macOS 12.7.4 Monterey | x86_64 | 4.4.0 (2024-04-24) -- "Puppy Cup" | 4508 |
| kjohnson1 | macOS 13.6.6 Ventura | arm64 | 4.4.0 (2024-04-24) -- "Puppy Cup" | 4466 |
| palomino7 | Windows Server 2022 Datacenter | x64 | 4.4.1 (2024-06-14 ucrt) -- "Race for Your Life" | 4362 |
| Click on any hostname to see more info about the system (e.g. compilers) (*) as reported by 'uname -p', except on Windows and Mac OS X | ||||
| Package 528/2300 | Hostname | OS / Arch | INSTALL | BUILD | CHECK | BUILD BIN | ||||||||
| DeepPINCS 1.12.0 (landing page) Dongmin Jung
| nebbiolo1 | Linux (Ubuntu 22.04.3 LTS) / x86_64 | OK | OK | OK | |||||||||
| palomino3 | Windows Server 2022 Datacenter / x64 | OK | OK | OK | OK | |||||||||
| merida1 | macOS 12.7.4 Monterey / x86_64 | OK | OK | OK | OK | |||||||||
| kjohnson1 | macOS 13.6.6 Ventura / arm64 | OK | OK | OK | OK | |||||||||
| palomino7 | Windows Server 2022 Datacenter / x64 | OK | ERROR | skipped | skipped | |||||||||
|
To the developers/maintainers of the DeepPINCS package: - Allow up to 24 hours (and sometimes 48 hours) for your latest push to git@git.bioconductor.org:packages/DeepPINCS.git to reflect on this report. See Troubleshooting Build Report for more information. - Use the following Renviron settings to reproduce errors and warnings. - If 'R CMD check' started to fail recently on the Linux builder(s) over a missing dependency, add the missing dependency to 'Suggests:' in your DESCRIPTION file. See Renviron.bioc for more information. |
| Package: DeepPINCS |
| Version: 1.12.0 |
| Command: F:\biocbuild\bbs-3.19-bioc\R\bin\R.exe CMD check --no-multiarch --install=check:DeepPINCS.install-out.txt --library=F:\biocbuild\bbs-3.19-bioc\R\library --no-vignettes --timings DeepPINCS_1.12.0.tar.gz |
| StartedAt: 2024-06-27 00:48:14 -0400 (Thu, 27 Jun 2024) |
| EndedAt: 2024-06-27 00:53:03 -0400 (Thu, 27 Jun 2024) |
| EllapsedTime: 288.2 seconds |
| RetCode: 0 |
| Status: OK |
| CheckDir: DeepPINCS.Rcheck |
| Warnings: 0 |
##############################################################################
##############################################################################
###
### Running command:
###
### F:\biocbuild\bbs-3.19-bioc\R\bin\R.exe CMD check --no-multiarch --install=check:DeepPINCS.install-out.txt --library=F:\biocbuild\bbs-3.19-bioc\R\library --no-vignettes --timings DeepPINCS_1.12.0.tar.gz
###
##############################################################################
##############################################################################
* using log directory 'F:/biocbuild/bbs-3.19-bioc/meat/DeepPINCS.Rcheck'
* using R version 4.4.0 (2024-04-24 ucrt)
* using platform: x86_64-w64-mingw32
* R was compiled by
gcc.exe (GCC) 13.2.0
GNU Fortran (GCC) 13.2.0
* running under: Windows Server 2022 x64 (build 20348)
* using session charset: UTF-8
* using option '--no-vignettes'
* checking for file 'DeepPINCS/DESCRIPTION' ... OK
* checking extension type ... Package
* this is package 'DeepPINCS' version '1.12.0'
* checking package namespace information ... OK
* checking package dependencies ... OK
* checking if this is a source package ... OK
* checking if there is a namespace ... OK
* checking for hidden files and directories ... OK
* checking for portable file names ... OK
* checking whether package 'DeepPINCS' can be installed ... OK
* checking installed package size ... OK
* checking package directory ... OK
* checking 'build' directory ... OK
* checking DESCRIPTION meta-information ... OK
* checking top-level files ... OK
* checking for left-over files ... OK
* checking index information ... OK
* checking package subdirectories ... OK
* checking code files for non-ASCII characters ... OK
* checking R files for syntax errors ... OK
* checking whether the package can be loaded ... OK
* checking whether the package can be loaded with stated dependencies ... OK
* checking whether the package can be unloaded cleanly ... OK
* checking whether the namespace can be loaded with stated dependencies ... OK
* checking whether the namespace can be unloaded cleanly ... OK
* checking dependencies in R code ... OK
* checking S3 generic/method consistency ... OK
* checking replacement functions ... OK
* checking foreign function calls ... OK
* checking R code for possible problems ... NOTE
fit_cpi: no visible binding for global variable 'compound'
fit_cpi: no visible binding for global variable 'compound_args'
fit_cpi: no visible binding for global variable 'protein'
fit_cpi: no visible binding for global variable 'protein_args'
fit_cpi: no visible binding for global variable 'max_atoms'
gcn_in_out : initialize: no visible global function definition for
'super'
gcn_in_out : call: no visible binding for global variable 'self'
gcn_in_out : <anonymous>: no visible binding for global variable 'self'
gcn_in_out: no visible binding for global variable 'temp_units'
multiple_sampling_generator : <anonymous>: no visible binding for
global variable 'batch_start'
Undefined global functions or variables:
batch_start compound compound_args max_atoms protein protein_args
self super temp_units
* checking Rd files ... OK
* checking Rd metadata ... OK
* checking Rd cross-references ... OK
* checking for missing documentation entries ... OK
* checking for code/documentation mismatches ... OK
* checking Rd \usage sections ... OK
* checking Rd contents ... OK
* checking for unstated dependencies in examples ... OK
* checking contents of 'data' directory ... OK
* checking data for non-ASCII characters ... OK
* checking LazyData ... OK
* checking data for ASCII and uncompressed saves ... OK
* checking files in 'vignettes' ... OK
* checking examples ... OK
Examples with CPU (user + system) or elapsed time > 5s
user system elapsed
cpi_model 20.31 5.53 63.61
metric_f1_score 4.47 0.83 3.87
* checking for unstated dependencies in 'tests' ... OK
* checking tests ...
Running 'testthat.R'
OK
* checking for unstated dependencies in vignettes ... OK
* checking package vignettes ... OK
* checking running R code from vignettes ... SKIPPED
* checking re-building of vignette outputs ... SKIPPED
* checking PDF version of manual ... OK
* DONE
Status: 1 NOTE
See
'F:/biocbuild/bbs-3.19-bioc/meat/DeepPINCS.Rcheck/00check.log'
for details.
DeepPINCS.Rcheck/00install.out
############################################################################## ############################################################################## ### ### Running command: ### ### F:\biocbuild\bbs-3.19-bioc\R\bin\R.exe CMD INSTALL DeepPINCS ### ############################################################################## ############################################################################## * installing to library 'F:/biocbuild/bbs-3.19-bioc/R/library' * installing *source* package 'DeepPINCS' ... ** using staged installation ** R ** data *** moving datasets to lazyload DB ** byte-compile and prepare package for lazy loading ** help *** installing help indices ** building package indices ** installing vignettes ** testing if installed package can be loaded from temporary location ** testing if installed package can be loaded from final location ** testing if installed package keeps a record of temporary installation path * DONE (DeepPINCS)
DeepPINCS.Rcheck/tests/testthat.Rout
R version 4.4.0 (2024-04-24 ucrt) -- "Puppy Cup"
Copyright (C) 2024 The R Foundation for Statistical Computing
Platform: x86_64-w64-mingw32/x64
R is free software and comes with ABSOLUTELY NO WARRANTY.
You are welcome to redistribute it under certain conditions.
Type 'license()' or 'licence()' for distribution details.
R is a collaborative project with many contributors.
Type 'contributors()' for more information and
'citation()' on how to cite R or R packages in publications.
Type 'demo()' for some demos, 'help()' for on-line help, or
'help.start()' for an HTML browser interface to help.
Type 'q()' to quit R.
> library(testthat)
> library(DeepPINCS)
Loading required package: keras
>
> test_check("DeepPINCS")
2024-06-27 00:51:23.855311: I tensorflow/core/platform/cpu_feature_guard.cc:182] This TensorFlow binary is optimized to use available CPU instructions in performance-critical operations.
To enable the following instructions: SSE SSE2 SSE3 SSE4.1 SSE4.2 AVX AVX2 AVX512F FMA, in other operations, rebuild TensorFlow with the appropriate compiler flags.
1/7 [===>..........................] - ETA: 13s - loss: 0.6918 - accuracy: 0.5000
7/7 [==============================] - ETA: 0s - loss: 0.6893 - accuracy: 0.5700
7/7 [==============================] - 3s 91ms/step - loss: 0.6893 - accuracy: 0.5700 - val_loss: 0.6881 - val_accuracy: 0.5500
1/7 [===>..........................] - ETA: 11s - loss: 0.7095 - accuracy: 0.5625
6/7 [========================>.....] - ETA: 0s - loss: 0.7063 - accuracy: 0.4583
7/7 [==============================] - 2s 76ms/step - loss: 0.7055 - accuracy: 0.4700 - val_loss: 0.6921 - val_accuracy: 0.5000
1/7 [===>..........................] - ETA: 15s - loss: 0.6936 - accuracy: 0.5625
6/7 [========================>.....] - ETA: 0s - loss: 0.6881 - accuracy: 0.5729
7/7 [==============================] - 3s 91ms/step - loss: 0.6878 - accuracy: 0.5700 - val_loss: 0.6895 - val_accuracy: 0.5300
1/1 [==============================] - ETA: 0s
1/1 [==============================] - 0s 266ms/step
[ FAIL 0 | WARN 1 | SKIP 0 | PASS 11 ]
[ FAIL 0 | WARN 1 | SKIP 0 | PASS 11 ]
>
> proc.time()
user system elapsed
95.45 12.98 104.01
DeepPINCS.Rcheck/DeepPINCS-Ex.timings
| name | user | system | elapsed | |
| cpi_model | 20.31 | 5.53 | 63.61 | |
| encoder_in_out | 0.17 | 0.00 | 0.17 | |
| get_canonical_smiles | 0.02 | 0.00 | 0.02 | |
| get_fingerprint | 0.47 | 0.08 | 0.34 | |
| get_graph_structure_node_feature | 0.06 | 0.01 | 0.08 | |
| get_seq_encode_pad | 0.00 | 0.02 | 0.02 | |
| metric_concordance_index | 3.59 | 0.51 | 3.97 | |
| metric_f1_score | 4.47 | 0.83 | 3.87 | |
| multiple_sampling_generator | 0 | 0 | 0 | |
| seq_check | 0 | 0 | 0 | |
| seq_preprocessing | 0.01 | 0.02 | 0.03 | |