| Back to Multiple platform build/check report for BioC 3.19: simplified long |
|
This page was generated on 2024-06-11 14:43 -0400 (Tue, 11 Jun 2024).
| Hostname | OS | Arch (*) | R version | Installed pkgs |
|---|---|---|---|---|
| nebbiolo1 | Linux (Ubuntu 22.04.3 LTS) | x86_64 | 4.4.0 (2024-04-24) -- "Puppy Cup" | 4757 |
| palomino3 | Windows Server 2022 Datacenter | x64 | 4.4.0 (2024-04-24 ucrt) -- "Puppy Cup" | 4491 |
| lconway | macOS 12.7.1 Monterey | x86_64 | 4.4.0 (2024-04-24) -- "Puppy Cup" | 4522 |
| kjohnson3 | macOS 13.6.5 Ventura | arm64 | 4.4.0 (2024-04-24) -- "Puppy Cup" | 4468 |
| Click on any hostname to see more info about the system (e.g. compilers) (*) as reported by 'uname -p', except on Windows and Mac OS X | ||||
| Package 500/2300 | Hostname | OS / Arch | INSTALL | BUILD | CHECK | BUILD BIN | ||||||||
| CytoPipeline 1.4.0 (landing page) Philippe Hauchamps
| nebbiolo1 | Linux (Ubuntu 22.04.3 LTS) / x86_64 | OK | OK | OK | |||||||||
| palomino3 | Windows Server 2022 Datacenter / x64 | OK | OK | OK | OK | |||||||||
| lconway | macOS 12.7.1 Monterey / x86_64 | OK | OK | OK | OK | |||||||||
| kjohnson3 | macOS 13.6.5 Ventura / arm64 | OK | OK | OK | OK | |||||||||
|
To the developers/maintainers of the CytoPipeline package: - Allow up to 24 hours (and sometimes 48 hours) for your latest push to git@git.bioconductor.org:packages/CytoPipeline.git to reflect on this report. See Troubleshooting Build Report for more information. - Use the following Renviron settings to reproduce errors and warnings. - If 'R CMD check' started to fail recently on the Linux builder(s) over a missing dependency, add the missing dependency to 'Suggests:' in your DESCRIPTION file. See Renviron.bioc for more information. |
| Package: CytoPipeline |
| Version: 1.4.0 |
| Command: /Library/Frameworks/R.framework/Resources/bin/R CMD check --install=check:CytoPipeline.install-out.txt --library=/Library/Frameworks/R.framework/Resources/library --no-vignettes --timings CytoPipeline_1.4.0.tar.gz |
| StartedAt: 2024-06-10 12:44:56 -0400 (Mon, 10 Jun 2024) |
| EndedAt: 2024-06-10 12:53:56 -0400 (Mon, 10 Jun 2024) |
| EllapsedTime: 540.0 seconds |
| RetCode: 0 |
| Status: OK |
| CheckDir: CytoPipeline.Rcheck |
| Warnings: 0 |
##############################################################################
##############################################################################
###
### Running command:
###
### /Library/Frameworks/R.framework/Resources/bin/R CMD check --install=check:CytoPipeline.install-out.txt --library=/Library/Frameworks/R.framework/Resources/library --no-vignettes --timings CytoPipeline_1.4.0.tar.gz
###
##############################################################################
##############################################################################
* using log directory ‘/Users/biocbuild/bbs-3.19-bioc/meat/CytoPipeline.Rcheck’
* using R version 4.4.0 (2024-04-24)
* using platform: aarch64-apple-darwin20
* R was compiled by
Apple clang version 14.0.0 (clang-1400.0.29.202)
GNU Fortran (GCC) 12.2.0
* running under: macOS Ventura 13.6.5
* using session charset: UTF-8
* using option ‘--no-vignettes’
* checking for file ‘CytoPipeline/DESCRIPTION’ ... OK
* this is package ‘CytoPipeline’ version ‘1.4.0’
* package encoding: UTF-8
* checking package namespace information ... OK
* checking package dependencies ... OK
* checking if this is a source package ... OK
* checking if there is a namespace ... OK
* checking for hidden files and directories ... OK
* checking for portable file names ... OK
* checking for sufficient/correct file permissions ... OK
* checking whether package ‘CytoPipeline’ can be installed ... OK
* checking installed package size ... OK
* checking package directory ... OK
* checking ‘build’ directory ... OK
* checking DESCRIPTION meta-information ... OK
* checking top-level files ... NOTE
File
LICENSE
is not mentioned in the DESCRIPTION file.
* checking for left-over files ... OK
* checking index information ... OK
* checking package subdirectories ... OK
* checking code files for non-ASCII characters ... OK
* checking R files for syntax errors ... OK
* checking whether the package can be loaded ... OK
* checking whether the package can be loaded with stated dependencies ... OK
* checking whether the package can be unloaded cleanly ... OK
* checking whether the namespace can be loaded with stated dependencies ... OK
* checking whether the namespace can be unloaded cleanly ... OK
* checking dependencies in R code ... OK
* checking S3 generic/method consistency ... OK
* checking replacement functions ... OK
* checking foreign function calls ... OK
* checking R code for possible problems ... OK
* checking Rd files ... OK
* checking Rd metadata ... OK
* checking Rd cross-references ... OK
* checking for missing documentation entries ... OK
* checking for code/documentation mismatches ... OK
* checking Rd \usage sections ... OK
* checking Rd contents ... OK
* checking for unstated dependencies in examples ... OK
* checking contents of ‘data’ directory ... OK
* checking data for non-ASCII characters ... OK
* checking data for ASCII and uncompressed saves ... OK
* checking files in ‘vignettes’ ... OK
* checking examples ... OK
Examples with CPU (user + system) or elapsed time > 5s
user system elapsed
execute 34.183 2.708 56.457
interactingWithCytoPipelineCache 20.373 1.430 33.266
inspectCytoPipelineObjects 12.955 0.921 22.214
qualityControlFlowAI 5.880 0.222 9.769
ggplotEvents 4.898 0.131 7.489
* checking for unstated dependencies in ‘tests’ ... OK
* checking tests ...
Running ‘testthat.R’
OK
* checking for unstated dependencies in vignettes ... OK
* checking package vignettes ... OK
* checking running R code from vignettes ... SKIPPED
* checking re-building of vignette outputs ... SKIPPED
* checking PDF version of manual ... OK
* DONE
Status: 1 NOTE
See
‘/Users/biocbuild/bbs-3.19-bioc/meat/CytoPipeline.Rcheck/00check.log’
for details.
CytoPipeline.Rcheck/00install.out
############################################################################## ############################################################################## ### ### Running command: ### ### /Library/Frameworks/R.framework/Resources/bin/R CMD INSTALL CytoPipeline ### ############################################################################## ############################################################################## * installing to library ‘/Library/Frameworks/R.framework/Versions/4.4-arm64/Resources/library’ * installing *source* package ‘CytoPipeline’ ... ** using staged installation ** R ** data ** inst ** byte-compile and prepare package for lazy loading ** help *** installing help indices ** building package indices ** installing vignettes ** testing if installed package can be loaded from temporary location ** testing if installed package can be loaded from final location ** testing if installed package keeps a record of temporary installation path * DONE (CytoPipeline)
CytoPipeline.Rcheck/tests/testthat.Rout
R version 4.4.0 (2024-04-24) -- "Puppy Cup"
Copyright (C) 2024 The R Foundation for Statistical Computing
Platform: aarch64-apple-darwin20
R is free software and comes with ABSOLUTELY NO WARRANTY.
You are welcome to redistribute it under certain conditions.
Type 'license()' or 'licence()' for distribution details.
R is a collaborative project with many contributors.
Type 'contributors()' for more information and
'citation()' on how to cite R or R packages in publications.
Type 'demo()' for some demos, 'help()' for on-line help, or
'help.start()' for an HTML browser interface to help.
Type 'q()' to quit R.
> # CytoPipeline - Copyright (C) <2022-2024>
> # <Université catholique de Louvain (UCLouvain), Belgique>
> #
> # Description and complete License: see LICENSE file.
> #
> # This program (CytoPipeline) is free software:
> # you can redistribute it and/or modify it under the terms of the GNU General
> # Public License as published by the Free Software Foundation,
> # either version 3 of the License, or (at your option) any later version.
> #
> # This program is distributed in the hope that it will be useful,
> # but WITHOUT ANY WARRANTY; without even the implied warranty of
> # MERCHANTABILITY or FITNESS FOR A PARTICULAR PURPOSE. See the
> # GNU General Public License for more details (<http://www.gnu.org/licenses/>).
>
> library(testthat)
> library(CytoPipeline)
>
> # launch unit tests
> test_check("CytoPipeline")
Pipeline object for flow cytometry experiment: OMIP021_PeacoQC
No sample file
No pheno data
Scale transformations evaluation queue has no processing step
Flow frames pre-processing evaluation queue has no processing step
Pipeline object for flow cytometry experiment: OMIP021_PeacoQC
Sample files: 2 sample file(s)
No pheno data
Scale transformations evaluation queue has no processing step
Flow frames pre-processing evaluation queue has no processing step
#####################################################
### running SCALE TRANSFORMATION processing steps ###
#####################################################
Proceeding with step 1 [scale_transform_read] ...
#####################################################
### NOW PRE-PROCESSING FILE /Library/Frameworks/R.framework/Versions/4.4-arm64/Resources/library/CytoPipeline/extdata/Donor1.fcs...
#####################################################
#####################################################
### NOW PRE-PROCESSING FILE /Library/Frameworks/R.framework/Versions/4.4-arm64/Resources/library/CytoPipeline/extdata/Donor2.fcs...
#####################################################
Proceeding with phenoData ...
#####################################################
### running SCALE TRANSFORMATION processing steps ###
#####################################################
Proceeding with step 1 [flowframe_read] ...
#####################################################
### NOW PRE-PROCESSING FILE /Library/Frameworks/R.framework/Versions/4.4-arm64/Resources/library/CytoPipeline/extdata/Donor1.fcs...
#####################################################
#####################################################
### NOW PRE-PROCESSING FILE /Library/Frameworks/R.framework/Versions/4.4-arm64/Resources/library/CytoPipeline/extdata/Donor2.fcs...
#####################################################
Proceeding with phenoData: found in cache => updating it!
#####################################################
### running SCALE TRANSFORMATION processing steps ###
#####################################################
Proceeding with step 1 [flowframe_read]: found in cache!
#####################################################
### NOW PRE-PROCESSING FILE /Library/Frameworks/R.framework/Versions/4.4-arm64/Resources/library/CytoPipeline/extdata/Donor1.fcs...
#####################################################
#####################################################
### NOW PRE-PROCESSING FILE /Library/Frameworks/R.framework/Versions/4.4-arm64/Resources/library/CytoPipeline/extdata/Donor2.fcs...
#####################################################
#####################################################
### running SCALE TRANSFORMATION processing steps ###
#####################################################
Proceeding with step 1 [flowframe_read] ...
Proceeding with step 2 [remove_margins] ...
Removing margins from file : Donor1.fcs
Removing margins from file : Donor2.fcs
Proceeding with step 3 [compensate] ...
Compensating file : Donor1.fcs
Compensating file : Donor2.fcs
Proceeding with step 4 [flowframe_aggregate] ...
Proceeding with step 5 [scale_transform_estimate] ...
#####################################################
### NOW PRE-PROCESSING FILE /Library/Frameworks/R.framework/Versions/4.4-arm64/Resources/library/CytoPipeline/extdata/Donor1.fcs...
#####################################################
Proceeding with step 1 [flowframe_read] ...
Proceeding with step 2 [remove_margins] ...
Removing margins from file : Donor1.fcs
Proceeding with step 3 [compensate] ...
Compensating file : Donor1.fcs
Proceeding with step 4 [remove_doublets] ...
Proceeding with step 5 [remove_debris] ...
Proceeding with step 6 [remove_dead_cells] ...
Proceeding with step 7 [perform_QC] ...
Applying PeacoQC method...
Starting quality control analysis for Donor1.fcs
Calculating peaks
|
| | 0%
|
|++ | 5%
|
|+++++ | 10%
|
|++++++++ | 15%
|
|++++++++++ | 20%
|
|++++++++++++ | 25%
|
|+++++++++++++++ | 30%
|
|++++++++++++++++++ | 35%
|
|++++++++++++++++++++ | 40%
|
|++++++++++++++++++++++ | 45%
|
|+++++++++++++++++++++++++ | 50%
|
|++++++++++++++++++++++++++++ | 55%
|
|++++++++++++++++++++++++++++++ | 60%
|
|++++++++++++++++++++++++++++++++ | 65%
|
|+++++++++++++++++++++++++++++++++++ | 70%
|
|++++++++++++++++++++++++++++++++++++++ | 75%
|
|++++++++++++++++++++++++++++++++++++++++ | 80%
|
|++++++++++++++++++++++++++++++++++++++++++ | 85%
|
|+++++++++++++++++++++++++++++++++++++++++++++ | 90%
|
|++++++++++++++++++++++++++++++++++++++++++++++++ | 95%
|
|++++++++++++++++++++++++++++++++++++++++++++++++++| 100%
MAD analysis removed 30.75% of the measurements
The algorithm removed 30.75% of the measurements
Proceeding with step 8 [transform] ...
#####################################################
### NOW PRE-PROCESSING FILE /Library/Frameworks/R.framework/Versions/4.4-arm64/Resources/library/CytoPipeline/extdata/Donor2.fcs...
#####################################################
Proceeding with step 1 [flowframe_read] ...
Proceeding with step 2 [remove_margins] ...
Removing margins from file : Donor2.fcs
Proceeding with step 3 [compensate] ...
Compensating file : Donor2.fcs
Proceeding with step 4 [remove_doublets] ...
Proceeding with step 5 [remove_debris] ...
Proceeding with step 6 [remove_dead_cells] ...
Proceeding with step 7 [perform_QC] ...
Applying PeacoQC method...
Starting quality control analysis for Donor2.fcs
Calculating peaks
|
| | 0%
|
|++ | 5%
|
|+++++ | 10%
|
|++++++++ | 15%
|
|++++++++++ | 20%
|
|++++++++++++ | 25%
|
|+++++++++++++++ | 30%
|
|++++++++++++++++++ | 35%
|
|++++++++++++++++++++ | 40%
|
|++++++++++++++++++++++ | 45%
|
|+++++++++++++++++++++++++ | 50%
|
|++++++++++++++++++++++++++++ | 55%
|
|++++++++++++++++++++++++++++++ | 60%
|
|++++++++++++++++++++++++++++++++ | 65%
|
|+++++++++++++++++++++++++++++++++++ | 70%
|
|++++++++++++++++++++++++++++++++++++++ | 75%
|
|++++++++++++++++++++++++++++++++++++++++ | 80%
|
|++++++++++++++++++++++++++++++++++++++++++ | 85%
|
|+++++++++++++++++++++++++++++++++++++++++++++ | 90%
|
|++++++++++++++++++++++++++++++++++++++++++++++++ | 95%
|
|++++++++++++++++++++++++++++++++++++++++++++++++++| 100%
MAD analysis removed 24.38% of the measurements
The algorithm removed 24.38% of the measurements
Proceeding with step 8 [transform] ...
#####################################################
### running SCALE TRANSFORMATION processing steps ###
#####################################################
Proceeding with step 1 [flowframe_read]: found in cache!
Proceeding with step 2 [remove_margins]: found in cache!
Proceeding with step 3 [compensate]: found in cache!
Proceeding with step 4 [flowframe_aggregate]: found in cache!
Proceeding with step 5 [scale_transform_estimate]: found in cache!
#####################################################
### NOW PRE-PROCESSING FILE /Library/Frameworks/R.framework/Versions/4.4-arm64/Resources/library/CytoPipeline/extdata/Donor1.fcs...
#####################################################
Proceeding with step 1 [flowframe_read]: found in cache!
Proceeding with step 2 [remove_margins]: found in cache!
Proceeding with step 3 [compensate]: found in cache!
Proceeding with step 4 [remove_doublets]: found in cache!
Proceeding with step 5 [remove_debris]: found in cache!
Proceeding with step 6 [remove_dead_cells]: found in cache!
Proceeding with step 7 [perform_QC]: found in cache!
Proceeding with step 8 [transform]: found in cache!
#####################################################
### NOW PRE-PROCESSING FILE /Library/Frameworks/R.framework/Versions/4.4-arm64/Resources/library/CytoPipeline/extdata/Donor2.fcs...
#####################################################
Proceeding with step 1 [flowframe_read]: found in cache!
Proceeding with step 2 [remove_margins]: found in cache!
Proceeding with step 3 [compensate]: found in cache!
Proceeding with step 4 [remove_doublets]: found in cache!
Proceeding with step 5 [remove_debris]: found in cache!
Proceeding with step 6 [remove_dead_cells]: found in cache!
Proceeding with step 7 [perform_QC]: found in cache!
Proceeding with step 8 [transform]: found in cache!
#####################################################
### running SCALE TRANSFORMATION processing steps ###
#####################################################
Proceeding with step 1 [flowframe_read] ...
Proceeding with step 2 [remove_margins] ...
Removing margins from file : Donor1.fcs
Removing margins from file : Donor2.fcs
Proceeding with step 3 [compensate] ...
Compensating file : Donor1.fcs
Compensating file : Donor2.fcs
Proceeding with step 4 [flowframe_aggregate] ...
Proceeding with step 5 [scale_transform_estimate] ...
#####################################################
### NOW PRE-PROCESSING FILE /Library/Frameworks/R.framework/Versions/4.4-arm64/Resources/library/CytoPipeline/extdata/Donor1.fcs...
#####################################################
Proceeding with step 1 [flowframe_read] ...
Proceeding with step 2 [remove_margins] ...
Removing margins from file : Donor1.fcs
Proceeding with step 3 [compensate] ...
Compensating file : Donor1.fcs
Proceeding with step 4 [remove_doublets] ...
Proceeding with step 5 [remove_debris] ...
Proceeding with step 6 [remove_dead_cells] ...
Proceeding with step 7 [perform_QC] ...
Applying PeacoQC method...
Starting quality control analysis for Donor1.fcs
Calculating peaks
|
| | 0%
|
|++ | 5%
|
|+++++ | 10%
|
|++++++++ | 15%
|
|++++++++++ | 20%
|
|++++++++++++ | 25%
|
|+++++++++++++++ | 30%
|
|++++++++++++++++++ | 35%
|
|++++++++++++++++++++ | 40%
|
|++++++++++++++++++++++ | 45%
|
|+++++++++++++++++++++++++ | 50%
|
|++++++++++++++++++++++++++++ | 55%
|
|++++++++++++++++++++++++++++++ | 60%
|
|++++++++++++++++++++++++++++++++ | 65%
|
|+++++++++++++++++++++++++++++++++++ | 70%
|
|++++++++++++++++++++++++++++++++++++++ | 75%
|
|++++++++++++++++++++++++++++++++++++++++ | 80%
|
|++++++++++++++++++++++++++++++++++++++++++ | 85%
|
|+++++++++++++++++++++++++++++++++++++++++++++ | 90%
|
|++++++++++++++++++++++++++++++++++++++++++++++++ | 95%
|
|++++++++++++++++++++++++++++++++++++++++++++++++++| 100%
MAD analysis removed 30.75% of the measurements
The algorithm removed 30.75% of the measurements
Proceeding with step 8 [transform] ...
#####################################################
### NOW PRE-PROCESSING FILE /Library/Frameworks/R.framework/Versions/4.4-arm64/Resources/library/CytoPipeline/extdata/Donor2.fcs...
#####################################################
Proceeding with step 1 [flowframe_read] ...
Proceeding with step 2 [remove_margins] ...
Removing margins from file : Donor2.fcs
Proceeding with step 3 [compensate] ...
Compensating file : Donor2.fcs
Proceeding with step 4 [remove_doublets] ...
Proceeding with step 5 [remove_debris] ...
Proceeding with step 6 [remove_dead_cells] ...
Proceeding with step 7 [perform_QC] ...
Applying PeacoQC method...
Starting quality control analysis for Donor2.fcs
Calculating peaks
|
| | 0%
|
|++ | 5%
|
|+++++ | 10%
|
|++++++++ | 15%
|
|++++++++++ | 20%
|
|++++++++++++ | 25%
|
|+++++++++++++++ | 30%
|
|++++++++++++++++++ | 35%
|
|++++++++++++++++++++ | 40%
|
|++++++++++++++++++++++ | 45%
|
|+++++++++++++++++++++++++ | 50%
|
|++++++++++++++++++++++++++++ | 55%
|
|++++++++++++++++++++++++++++++ | 60%
|
|++++++++++++++++++++++++++++++++ | 65%
|
|+++++++++++++++++++++++++++++++++++ | 70%
|
|++++++++++++++++++++++++++++++++++++++ | 75%
|
|++++++++++++++++++++++++++++++++++++++++ | 80%
|
|++++++++++++++++++++++++++++++++++++++++++ | 85%
|
|+++++++++++++++++++++++++++++++++++++++++++++ | 90%
|
|++++++++++++++++++++++++++++++++++++++++++++++++ | 95%
|
|++++++++++++++++++++++++++++++++++++++++++++++++++| 100%
MAD analysis removed 24.38% of the measurements
The algorithm removed 24.38% of the measurements
Proceeding with step 8 [transform] ...
#####################################################
### running SCALE TRANSFORMATION processing steps ###
#####################################################
Proceeding with step 1 [flowframe_read] ...
Proceeding with step 2 [remove_margins] ...
Removing margins from file : Donor1.fcs
Removing margins from file : Donor2.fcs
Proceeding with step 3 [compensate] ...
Compensating file : Donor1.fcs
Compensating file : Donor2.fcs
Proceeding with step 4 [flowframe_aggregate] ...
Proceeding with step 5 [scale_transform_estimate] ...
#####################################################
### NOW PRE-PROCESSING FILE /Library/Frameworks/R.framework/Versions/4.4-arm64/Resources/library/CytoPipeline/extdata/Donor1.fcs...
#####################################################
Proceeding with step 1 [flowframe_read] ...
Proceeding with step 2 [remove_margins] ...
Removing margins from file : Donor1.fcs
Proceeding with step 3 [compensate] ...
Compensating file : Donor1.fcs
Proceeding with step 4 [remove_doublets] ...
Proceeding with step 5 [remove_debris] ...
Proceeding with step 6 [remove_dead_cells] ...
Proceeding with step 7 [perform_QC] ...
Applying PeacoQC method...
Starting quality control analysis for Donor1.fcs
Calculating peaks
|
| | 0%
|
|++ | 5%
|
|+++++ | 10%
|
|++++++++ | 15%
|
|++++++++++ | 20%
|
|++++++++++++ | 25%
|
|+++++++++++++++ | 30%
|
|++++++++++++++++++ | 35%
|
|++++++++++++++++++++ | 40%
|
|++++++++++++++++++++++ | 45%
|
|+++++++++++++++++++++++++ | 50%
|
|++++++++++++++++++++++++++++ | 55%
|
|++++++++++++++++++++++++++++++ | 60%
|
|++++++++++++++++++++++++++++++++ | 65%
|
|+++++++++++++++++++++++++++++++++++ | 70%
|
|++++++++++++++++++++++++++++++++++++++ | 75%
|
|++++++++++++++++++++++++++++++++++++++++ | 80%
|
|++++++++++++++++++++++++++++++++++++++++++ | 85%
|
|+++++++++++++++++++++++++++++++++++++++++++++ | 90%
|
|++++++++++++++++++++++++++++++++++++++++++++++++ | 95%
|
|++++++++++++++++++++++++++++++++++++++++++++++++++| 100%
MAD analysis removed 30.75% of the measurements
The algorithm removed 30.75% of the measurements
Proceeding with step 8 [transform] ...
#####################################################
### NOW PRE-PROCESSING FILE /Library/Frameworks/R.framework/Versions/4.4-arm64/Resources/library/CytoPipeline/extdata/Donor2.fcs...
#####################################################
Proceeding with step 1 [flowframe_read] ...
Proceeding with step 2 [remove_margins] ...
Removing margins from file : Donor2.fcs
Proceeding with step 3 [compensate] ...
Compensating file : Donor2.fcs
Proceeding with step 4 [remove_doublets] ...
Proceeding with step 5 [remove_debris] ...
Proceeding with step 6 [remove_dead_cells] ...
Proceeding with step 7 [perform_QC] ...
Applying PeacoQC method...
Starting quality control analysis for Donor2.fcs
Calculating peaks
|
| | 0%
|
|++ | 5%
|
|+++++ | 10%
|
|++++++++ | 15%
|
|++++++++++ | 20%
|
|++++++++++++ | 25%
|
|+++++++++++++++ | 30%
|
|++++++++++++++++++ | 35%
|
|++++++++++++++++++++ | 40%
|
|++++++++++++++++++++++ | 45%
|
|+++++++++++++++++++++++++ | 50%
|
|++++++++++++++++++++++++++++ | 55%
|
|++++++++++++++++++++++++++++++ | 60%
|
|++++++++++++++++++++++++++++++++ | 65%
|
|+++++++++++++++++++++++++++++++++++ | 70%
|
|++++++++++++++++++++++++++++++++++++++ | 75%
|
|++++++++++++++++++++++++++++++++++++++++ | 80%
|
|++++++++++++++++++++++++++++++++++++++++++ | 85%
|
|+++++++++++++++++++++++++++++++++++++++++++++ | 90%
|
|++++++++++++++++++++++++++++++++++++++++++++++++ | 95%
|
|++++++++++++++++++++++++++++++++++++++++++++++++++| 100%
MAD analysis removed 24.38% of the measurements
The algorithm removed 24.38% of the measurements
Proceeding with step 8 [transform] ...
#####################################################
### running SCALE TRANSFORMATION processing steps ###
#####################################################
Proceeding with step 1 [flowframe_read] ...
Proceeding with step 2 [remove_margins] ...
Removing margins from file : Donor1.fcs
Removing margins from file : Donor2.fcs
Proceeding with step 3 [compensate] ...
Compensating file : Donor1.fcs
Compensating file : Donor2.fcs
Proceeding with step 4 [flowframe_aggregate] ...
Proceeding with step 5 [scale_transform_estimate] ...
|
| | 0%
|
|=================================== | 50%
|
|======================================================================| 100%
#####################################################
### running SCALE TRANSFORMATION processing steps ###
#####################################################
Proceeding with step 1 [flowframe_read]: found in cache!
Proceeding with step 2 [remove_margins]: found in cache!
Proceeding with step 3 [compensate]: found in cache!
Proceeding with step 4 [flowframe_aggregate]: found in cache!
Proceeding with step 5 [scale_transform_estimate]: found in cache!
#####################################################
### NOW PRE-PROCESSING FILE Donor1.fcs...
#####################################################
Proceeding with step 1 [flowframe_read]: found in cache!
Proceeding with step 2 [remove_margins]: found in cache!
Proceeding with step 3 [compensate]: found in cache!
Proceeding with step 4 [remove_doublets]: found in cache!
Proceeding with step 5 [remove_debris]: found in cache!
Proceeding with step 6 [remove_dead_cells]: found in cache!
Proceeding with step 7 [perform_QC]: found in cache!
Proceeding with step 8 [transform]: found in cache!
#####################################################
### NOW PRE-PROCESSING FILE Donor2.fcs...
#####################################################
Proceeding with step 1 [flowframe_read]: found in cache!
Proceeding with step 2 [remove_margins]: found in cache!
Proceeding with step 3 [compensate]: found in cache!
Proceeding with step 4 [remove_doublets]: found in cache!
Proceeding with step 5 [remove_debris]: found in cache!
Proceeding with step 6 [remove_dead_cells]: found in cache!
Proceeding with step 7 [perform_QC]: found in cache!
Proceeding with step 8 [transform]: found in cache!
#####################################################
### running SCALE TRANSFORMATION processing steps ###
#####################################################
Proceeding with step 1 [flowframe_read] ...
#####################################################
### NOW PRE-PROCESSING FILE /Library/Frameworks/R.framework/Versions/4.4-arm64/Resources/library/CytoPipeline/extdata/Donor1.fcs...
#####################################################
#####################################################
### NOW PRE-PROCESSING FILE /Library/Frameworks/R.framework/Versions/4.4-arm64/Resources/library/CytoPipeline/extdata/Donor2.fcs...
#####################################################
#####################################################
### running SCALE TRANSFORMATION processing steps ###
#####################################################
Proceeding with step 1 [flowframe_read]: found in cache!
#####################################################
### NOW PRE-PROCESSING FILE /Library/Frameworks/R.framework/Versions/4.4-arm64/Resources/library/CytoPipeline/extdata/Donor1.fcs...
#####################################################
Proceeding with step 1 [flowframe_read] ...
#####################################################
### NOW PRE-PROCESSING FILE /Library/Frameworks/R.framework/Versions/4.4-arm64/Resources/library/CytoPipeline/extdata/Donor2.fcs...
#####################################################
Proceeding with step 1 [flowframe_read] ...
#####################################################
### running SCALE TRANSFORMATION processing steps ###
#####################################################
Proceeding with step 1 [flowframe_read]: found in cache!
#####################################################
### NOW PRE-PROCESSING FILE /Library/Frameworks/R.framework/Versions/4.4-arm64/Resources/library/CytoPipeline/extdata/Donor1.fcs...
#####################################################
Proceeding with step 1 [flowframe_read]: found in cache!
Proceeding with step 2 [remove_margins] ...
Removing margins from file : Donor1.fcs
#####################################################
### NOW PRE-PROCESSING FILE /Library/Frameworks/R.framework/Versions/4.4-arm64/Resources/library/CytoPipeline/extdata/Donor2.fcs...
#####################################################
Proceeding with step 1 [flowframe_read]: found in cache!
Proceeding with step 2 [remove_margins] ...
Removing margins from file : Donor2.fcs
#####################################################
### running SCALE TRANSFORMATION processing steps ###
#####################################################
Proceeding with step 1 [flowframe_read] ...
#####################################################
### NOW PRE-PROCESSING FILE /Library/Frameworks/R.framework/Versions/4.4-arm64/Resources/library/CytoPipeline/extdata/Donor2.fcs...
#####################################################
#####################################################
### running SCALE TRANSFORMATION processing steps ###
#####################################################
Proceeding with step 1 [flowframe_read]: found in cache!
#####################################################
### NOW PRE-PROCESSING FILE /Library/Frameworks/R.framework/Versions/4.4-arm64/Resources/library/CytoPipeline/extdata/Donor2.fcs...
#####################################################
Proceeding with step 1 [flowframe_read] ...
#####################################################
### running SCALE TRANSFORMATION processing steps ###
#####################################################
Proceeding with step 1 [flowframe_read]: found in cache!
#####################################################
### NOW PRE-PROCESSING FILE /Library/Frameworks/R.framework/Versions/4.4-arm64/Resources/library/CytoPipeline/extdata/Donor2.fcs...
#####################################################
Proceeding with step 1 [flowframe_read]: found in cache!
Proceeding with step 2 [remove_margins] ...
Removing margins from file : Donor2.fcs
no sample file passed as argument => defaulting to first sample file
#####################################################
### running SCALE TRANSFORMATION processing steps ###
#####################################################
Proceeding with step 1 [flowframe_read]: found in cache!
#####################################################
### NOW PRE-PROCESSING FILE /Library/Frameworks/R.framework/Versions/4.4-arm64/Resources/library/CytoPipeline/extdata/Donor1.fcs...
#####################################################
Proceeding with step 1 [flowframe_read] ...
Proceeding with step 2 [remove_margins] ...
Removing margins from file : Donor1.fcs
#####################################################
### NOW PRE-PROCESSING FILE /Library/Frameworks/R.framework/Versions/4.4-arm64/Resources/library/CytoPipeline/extdata/Donor2.fcs...
#####################################################
Proceeding with step 1 [flowframe_read]: found in cache!
Proceeding with step 2 [remove_margins]: found in cache!
no sample file passed as argument => defaulting to first sample file
Object of class "CytoProcessingStep"
Name: summing step
Function: user-provided function
Compensating file : Donor1.fcs
Compensating file : Donor1.fcs
Removing margins from file : Donor1.fcs
Removing margins from file : Donor1.fcs
Removing margins from file : Donor1.fcs
Removing margins from file : Donor1.fcs
Compensating file : Donor1.fcs
Compensating file : Donor1.fcs
Compensating file : Donor2.fcs
Compensating file : Donor1.fcs
Compensating file : Donor1.fcs
Compensating file : Donor1.fcs
Applying PeacoQC method...
Starting quality control analysis for Donor1.fcs
Calculating peaks
|
| | 0%
|
|++ | 5%
|
|+++++ | 10%
|
|++++++++ | 15%
|
|++++++++++ | 20%
|
|++++++++++++ | 25%
|
|+++++++++++++++ | 30%
|
|++++++++++++++++++ | 35%
|
|++++++++++++++++++++ | 40%
|
|++++++++++++++++++++++ | 45%
|
|+++++++++++++++++++++++++ | 50%
|
|++++++++++++++++++++++++++++ | 55%
|
|++++++++++++++++++++++++++++++ | 60%
|
|++++++++++++++++++++++++++++++++ | 65%
|
|+++++++++++++++++++++++++++++++++++ | 70%
|
|++++++++++++++++++++++++++++++++++++++ | 75%
|
|++++++++++++++++++++++++++++++++++++++++ | 80%
|
|++++++++++++++++++++++++++++++++++++++++++ | 85%
|
|+++++++++++++++++++++++++++++++++++++++++++++ | 90%
|
|++++++++++++++++++++++++++++++++++++++++++++++++ | 95%
|
|++++++++++++++++++++++++++++++++++++++++++++++++++| 100%
Applying flowAI method...
Quality control for the file: Donor1
0% of anomalous cells detected in the flow rate check.
0% of anomalous cells detected in signal acquisition check.
3% of anomalous cells detected in the dynamic range check.
Compensating file : Donor1.fcs
Compensating file : Donor2.fcs
[ FAIL 0 | WARN 0 | SKIP 3 | PASS 253 ]
══ Skipped tests (3) ═══════════════════════════════════════════════════════════
• On CRAN (3): 'test-gating.R:42:5', 'test-ggplots.R:185:5',
'test-ggplots.R:310:5'
[ FAIL 0 | WARN 0 | SKIP 3 | PASS 253 ]
Deleting unused snapshots:
• gating/singletsgate-default-channels-with-fixed-nmad.svg
• gating/singletsgate-selected-channels.svg
• gating/singletsgates-one-after-the-other-fig1.svg
• gating/singletsgates-one-after-the-other-fig2.svg
• ggplots/ggplotevents-2d-x-linear-y-logicle.svg
• ggplots/ggplotevents-2d-x-logicle-y-linear.svg
• ggplots/ggplotevents-2d-x-logicle-y-logicle-bins.svg
• ggplots/ggplotevents-2d-x-logicle-y-logicle-by-markers.svg
• ggplots/ggplotevents-2d-x-logicle-y-logicle-translist-not-run.svg
• ggplots/ggplotevents-2d-x-logicle-y-logicle-translist-run.svg
• ggplots/ggplotfilterevents-2d-5000-points.svg
• ggplots/ggplotfilterevents-2d-all-points-interactive.svg
• ggplots/ggplotfilterevents-2d-infinite-nb-of-points.svg
• ggplots/ggplotfilterevents-2d-small-size.svg
• ggplots/ggplotfilterevents-2d-translist-not-run.svg
• ggplots/ggplotfilterevents-2d-translist-run.svg
>
> proc.time()
user system elapsed
101.570 6.986 194.669
CytoPipeline.Rcheck/CytoPipeline-Ex.timings
| name | user | system | elapsed | |
| CytoPipelineClass | 0.037 | 0.008 | 0.074 | |
| CytoProcessingStep | 0.004 | 0.001 | 0.009 | |
| aggregateAndSample | 0.270 | 0.014 | 0.453 | |
| appendCellID | 0.171 | 0.006 | 0.294 | |
| applyScaleTransforms | 0.292 | 0.013 | 0.495 | |
| areFluoCols | 0.165 | 0.006 | 0.269 | |
| areSignalCols | 0.165 | 0.008 | 0.265 | |
| compensateFromMatrix | 1.858 | 0.073 | 2.971 | |
| computeScatterChannelsLinearScale | 0.262 | 0.011 | 0.399 | |
| estimateScaleTransforms | 0.253 | 0.008 | 0.396 | |
| execute | 34.183 | 2.708 | 56.457 | |
| exportCytoPipeline | 0.039 | 0.003 | 0.068 | |
| findTimeChannel | 0.168 | 0.006 | 0.281 | |
| getAcquiredCompensationMatrix | 0.078 | 0.004 | 0.111 | |
| getChannelNamesFromMarkers | 0.168 | 0.007 | 0.250 | |
| getFCSFileName | 0.167 | 0.006 | 0.281 | |
| getTransfoParams | 0.169 | 0.007 | 0.274 | |
| ggplotEvents | 4.898 | 0.131 | 7.489 | |
| ggplotFilterEvents | 0.739 | 0.030 | 1.107 | |
| ggplotFlowRate | 1.073 | 0.030 | 1.670 | |
| handlingProcessingSteps | 0.007 | 0.002 | 0.016 | |
| inspectCytoPipelineObjects | 12.955 | 0.921 | 22.214 | |
| interactingWithCytoPipelineCache | 20.373 | 1.430 | 33.266 | |
| qualityControlFlowAI | 5.880 | 0.222 | 9.769 | |
| qualityControlPeacoQC | 0.748 | 0.034 | 1.239 | |
| readRDSObject | 0.290 | 0.009 | 0.468 | |
| readSampleFiles | 0.135 | 0.007 | 0.216 | |
| removeChannels | 0.147 | 0.007 | 0.242 | |
| removeDeadCellsManualGate | 0.125 | 0.006 | 0.202 | |
| removeDebrisManualGate | 0.126 | 0.006 | 0.220 | |
| removeDoubletsCytoPipeline | 0.132 | 0.006 | 0.219 | |
| removeMarginsPeacoQC | 0.272 | 0.016 | 0.453 | |
| resetCellIDs | 0.164 | 0.008 | 0.282 | |
| runCompensation | 0.197 | 0.009 | 0.347 | |
| singletsGate | 1.008 | 0.045 | 1.677 | |
| subsample | 0.171 | 0.005 | 0.290 | |
| updateMarkerName | 0.140 | 0.006 | 0.211 | |
| writeFlowFrame | 0.203 | 0.015 | 0.269 | |