| Back to Multiple platform build/check report for BioC 3.19: simplified long |
|
This page was generated on 2024-10-18 20:39 -0400 (Fri, 18 Oct 2024).
| Hostname | OS | Arch (*) | R version | Installed pkgs |
|---|---|---|---|---|
| nebbiolo1 | Linux (Ubuntu 22.04.3 LTS) | x86_64 | 4.4.1 (2024-06-14) -- "Race for Your Life" | 4763 |
| palomino7 | Windows Server 2022 Datacenter | x64 | 4.4.1 (2024-06-14 ucrt) -- "Race for Your Life" | 4500 |
| merida1 | macOS 12.7.5 Monterey | x86_64 | 4.4.1 (2024-06-14) -- "Race for Your Life" | 4530 |
| kjohnson1 | macOS 13.6.6 Ventura | arm64 | 4.4.1 (2024-06-14) -- "Race for Your Life" | 4480 |
| Click on any hostname to see more info about the system (e.g. compilers) (*) as reported by 'uname -p', except on Windows and Mac OS X | ||||
| Package 420/2300 | Hostname | OS / Arch | INSTALL | BUILD | CHECK | BUILD BIN | ||||||||
| CompoundDb 1.8.0 (landing page) Johannes Rainer
| nebbiolo1 | Linux (Ubuntu 22.04.3 LTS) / x86_64 | OK | OK | OK | |||||||||
| palomino7 | Windows Server 2022 Datacenter / x64 | OK | OK | OK | OK | |||||||||
| merida1 | macOS 12.7.5 Monterey / x86_64 | OK | OK | OK | OK | |||||||||
| kjohnson1 | macOS 13.6.6 Ventura / arm64 | OK | OK | OK | OK | |||||||||
|
To the developers/maintainers of the CompoundDb package: - Allow up to 24 hours (and sometimes 48 hours) for your latest push to git@git.bioconductor.org:packages/CompoundDb.git to reflect on this report. See Troubleshooting Build Report for more information. - Use the following Renviron settings to reproduce errors and warnings. - If 'R CMD check' started to fail recently on the Linux builder(s) over a missing dependency, add the missing dependency to 'Suggests:' in your DESCRIPTION file. See Renviron.bioc for more information. |
| Package: CompoundDb |
| Version: 1.8.0 |
| Command: E:\biocbuild\bbs-3.19-bioc\R\bin\R.exe CMD check --no-multiarch --install=check:CompoundDb.install-out.txt --library=E:\biocbuild\bbs-3.19-bioc\R\library --no-vignettes --timings CompoundDb_1.8.0.tar.gz |
| StartedAt: 2024-10-17 00:16:18 -0400 (Thu, 17 Oct 2024) |
| EndedAt: 2024-10-17 00:19:06 -0400 (Thu, 17 Oct 2024) |
| EllapsedTime: 167.6 seconds |
| RetCode: 0 |
| Status: OK |
| CheckDir: CompoundDb.Rcheck |
| Warnings: 0 |
##############################################################################
##############################################################################
###
### Running command:
###
### E:\biocbuild\bbs-3.19-bioc\R\bin\R.exe CMD check --no-multiarch --install=check:CompoundDb.install-out.txt --library=E:\biocbuild\bbs-3.19-bioc\R\library --no-vignettes --timings CompoundDb_1.8.0.tar.gz
###
##############################################################################
##############################################################################
* using log directory 'E:/biocbuild/bbs-3.19-bioc/meat/CompoundDb.Rcheck'
* using R version 4.4.1 (2024-06-14 ucrt)
* using platform: x86_64-w64-mingw32
* R was compiled by
gcc.exe (GCC) 13.2.0
GNU Fortran (GCC) 13.2.0
* running under: Windows Server 2022 x64 (build 20348)
* using session charset: UTF-8
* using option '--no-vignettes'
* checking for file 'CompoundDb/DESCRIPTION' ... OK
* checking extension type ... Package
* this is package 'CompoundDb' version '1.8.0'
* checking package namespace information ... OK
* checking package dependencies ... OK
* checking if this is a source package ... OK
* checking if there is a namespace ... OK
* checking for hidden files and directories ... OK
* checking for portable file names ... OK
* checking whether package 'CompoundDb' can be installed ... OK
* checking installed package size ... OK
* checking package directory ... OK
* checking 'build' directory ... OK
* checking DESCRIPTION meta-information ... OK
* checking top-level files ... OK
* checking for left-over files ... OK
* checking index information ... OK
* checking package subdirectories ... OK
* checking code files for non-ASCII characters ... OK
* checking R files for syntax errors ... OK
* checking whether the package can be loaded ... OK
* checking whether the package can be loaded with stated dependencies ... OK
* checking whether the package can be unloaded cleanly ... OK
* checking whether the namespace can be loaded with stated dependencies ... OK
* checking whether the namespace can be unloaded cleanly ... OK
* checking dependencies in R code ... OK
* checking S3 generic/method consistency ... OK
* checking replacement functions ... OK
* checking foreign function calls ... OK
* checking R code for possible problems ... OK
* checking Rd files ... OK
* checking Rd metadata ... OK
* checking Rd cross-references ... OK
* checking for missing documentation entries ... OK
* checking for code/documentation mismatches ... OK
* checking Rd \usage sections ... OK
* checking Rd contents ... OK
* checking for unstated dependencies in examples ... OK
* checking files in 'vignettes' ... OK
* checking examples ... OK
* checking for unstated dependencies in 'tests' ... OK
* checking tests ...
Running 'testthat.R'
OK
* checking for unstated dependencies in vignettes ... OK
* checking package vignettes ... OK
* checking running R code from vignettes ... SKIPPED
* checking re-building of vignette outputs ... SKIPPED
* checking PDF version of manual ... OK
* DONE
Status: OK
CompoundDb.Rcheck/00install.out
############################################################################## ############################################################################## ### ### Running command: ### ### E:\biocbuild\bbs-3.19-bioc\R\bin\R.exe CMD INSTALL CompoundDb ### ############################################################################## ############################################################################## * installing to library 'E:/biocbuild/bbs-3.19-bioc/R/library' * installing *source* package 'CompoundDb' ... ** using staged installation ** R ** inst ** byte-compile and prepare package for lazy loading Creating a new generic function for 'mass2mz' in package 'CompoundDb' ** help *** installing help indices *** copying figures ** building package indices ** installing vignettes ** testing if installed package can be loaded from temporary location ** testing if installed package can be loaded from final location ** testing if installed package keeps a record of temporary installation path * DONE (CompoundDb)
CompoundDb.Rcheck/tests/testthat.Rout
R version 4.4.1 (2024-06-14 ucrt) -- "Race for Your Life"
Copyright (C) 2024 The R Foundation for Statistical Computing
Platform: x86_64-w64-mingw32/x64
R is free software and comes with ABSOLUTELY NO WARRANTY.
You are welcome to redistribute it under certain conditions.
Type 'license()' or 'licence()' for distribution details.
R is a collaborative project with many contributors.
Type 'contributors()' for more information and
'citation()' on how to cite R or R packages in publications.
Type 'demo()' for some demos, 'help()' for on-line help, or
'help.start()' for an HTML browser interface to help.
Type 'q()' to quit R.
> library("testthat")
> library("CompoundDb")
Loading required package: AnnotationFilter
Attaching package: 'AnnotationFilter'
The following object is masked from 'package:testthat':
not
Loading required package: S4Vectors
Loading required package: stats4
Loading required package: BiocGenerics
Attaching package: 'BiocGenerics'
The following objects are masked from 'package:stats':
IQR, mad, sd, var, xtabs
The following objects are masked from 'package:base':
Filter, Find, Map, Position, Reduce, anyDuplicated, aperm, append,
as.data.frame, basename, cbind, colnames, dirname, do.call,
duplicated, eval, evalq, get, grep, grepl, intersect, is.unsorted,
lapply, mapply, match, mget, order, paste, pmax, pmax.int, pmin,
pmin.int, rank, rbind, rownames, sapply, setdiff, table, tapply,
union, unique, unsplit, which.max, which.min
Attaching package: 'S4Vectors'
The following object is masked from 'package:utils':
findMatches
The following objects are masked from 'package:base':
I, expand.grid, unname
> library(RSQLite)
>
> hmdb <- system.file("sdf/HMDB_sub.sdf.gz", package = "CompoundDb")
> cmps <- compound_tbl_sdf(hmdb)
> metad <- data.frame(name = c("source", "url", "source_version",
+ "source_date", "organism"),
+ value = c("HMDB_test", "http://www.hmdb.ca",
+ "v4", "2017-08-27", "Hsapiens"))
> db_file <- createCompDb(cmps, metadata = metad, path = tempdir())
> cmp_db <- CompDb(db_file)
>
> dr <- system.file("xml/", package = "CompoundDb")
> msms_spctra <- msms_spectra_hmdb(dr)
Going to process 4 xml files.
Postprocessing data ... OK
> ## spl_ <- as(msms_spctra, "Spectra")
>
> metad2 <- data.frame(name = c("source", "url", "source_version",
+ "source_date", "organism"),
+ value = c("HMDB_spctra", "http://www.hmdb.ca",
+ "v4", "2017-08-27", "Hsapiens"))
> db_spctra_file <- createCompDb(cmps, metadata = metad2, path = tempdir(),
+ msms_spectra = msms_spctra)
> cmp_spctra_db <- CompDb(db_spctra_file)
>
> cdb <- CompDb(system.file("sql/CompDb.MassBank.sql", package = "CompoundDb"))
>
> ions <- data.frame(compound_id = paste0("HMDB000000",
+ c("1", "1", "2", "2", "5")),
+ ion_adduct = c("A", "B", "B", "C", "D"),
+ ion_mz = c(100, 110, 150, 170, 200),
+ ion_rt = c(50, 60, 100, 110, 90))
> ion_db <- IonDb(paste0(tempdir(), "/ion_db.db"), cmp_db, ions)
>
> ion_spctra_db <- IonDb(paste0(tempdir(), "/ion_spctra_db.db"),
+ cmp_spctra_db, ions)
>
> test_check("CompoundDb")
MsBackendCompDb with 0 spectra
MsBackendCompDb with 4 spectra
msLevel precursorMz polarity
<integer> <numeric> <integer>
1 NA NA 1
2 NA NA 1
3 NA NA 1
4 NA NA 0
... 32 more variables/columns.
Use 'spectraVariables' to list all of them.
data source: HMDB_spctra
version: v4
organism: Hsapiens
Creating package in E:\biocbuild\bbs-3.19-bioc\tmpdir\RtmpI9rrJf/CompDb.Hsapiens.ChEBI.unknown
[ FAIL 0 | WARN 13 | SKIP 1 | PASS 660 ]
══ Skipped tests (1) ═══════════════════════════════════════════════════════════
• empty test (1): 'test_MsBackendCompDb.R:165:1'
[ FAIL 0 | WARN 13 | SKIP 1 | PASS 660 ]
Warning message:
call dbDisconnect() when finished working with a connection
>
> library(Spectra)
Loading required package: BiocParallel
Loading required package: ProtGenerics
Attaching package: 'ProtGenerics'
The following object is masked from 'package:stats':
smooth
> be <- backendInitialize(MsBackendCompDb(), cmp_spctra_db)
> test_suite <- system.file("test_backends", "test_MsBackend",
+ package = "Spectra")
> test_dir(test_suite, stop_on_failure = TRUE)
✔ | F W S OK | Context
⠏ | 0 | peaks_variables
✔ | 4 | peaks_variables
⠏ | 0 | spectra_subsetting
⠸ | 14 | spectra_subsetting
⠦ | 17 | spectra_subsetting
⠧ | 18 | spectra_subsetting
⠇ | 19 | spectra_subsetting
⠏ | 20 | spectra_subsetting
⠹ | 23 | spectra_subsetting
⠼ | 25 | spectra_subsetting
⠋ | 31 | spectra_subsetting
✔ | 1 36 | spectra_subsetting [1.1s]
⠏ | 0 | spectra_variables
⠴ | 6 | spectra_variables
⠴ | 16 | spectra_variables
⠇ | 29 | spectra_variables
⠋ | 41 | spectra_variables
⠸ | 54 | spectra_variables
✔ | 64 | spectra_variables
══ Results ═════════════════════════════════════════════════════════════════════
Duration: 1.9 s
── Skipped tests (1) ───────────────────────────────────────────────────────────
• empty test (1): 'test_spectra_subsetting.R:90:1'
[ FAIL 0 | WARN 0 | SKIP 1 | PASS 104 ]
>
> proc.time()
user system elapsed
21.51 1.98 23.26
CompoundDb.Rcheck/CompoundDb-Ex.timings
| name | user | system | elapsed | |
| CompDb | 0.79 | 0.07 | 0.86 | |
| Filter-classes | 0.02 | 0.00 | 0.02 | |
| IonDb | 0.19 | 0.04 | 0.25 | |
| MsBackendCompDb | 0.11 | 0.01 | 0.13 | |
| compound_tbl_lipidblast | 0.03 | 0.00 | 0.03 | |
| compound_tbl_sdf | 0.11 | 0.02 | 0.12 | |
| createCompDb | 0.33 | 0.03 | 0.36 | |
| expandMzIntensity | 0.03 | 0.00 | 0.03 | |
| import_mona_sdf | 0.01 | 0.00 | 0.02 | |
| msms_spectra_hmdb | 0.04 | 0.01 | 0.05 | |
| msms_spectra_mona | 0.06 | 0.00 | 0.06 | |