Back to Multiple platform build/check report for BioC 3.19: simplified long |
|
This page was generated on 2023-11-14 11:36:18 -0500 (Tue, 14 Nov 2023).
Hostname | OS | Arch (*) | R version | Installed pkgs |
---|---|---|---|---|
nebbiolo1 | Linux (Ubuntu 22.04.2 LTS) | x86_64 | R Under development (unstable) (2023-10-22 r85388) -- "Unsuffered Consequences" | 4604 |
palomino3 | Windows Server 2022 Datacenter | x64 | R Under development (unstable) (2023-10-23 r85389 ucrt) -- "Unsuffered Consequences" | 4358 |
merida1 | macOS 12.7.1 Monterey | x86_64 | R Under development (unstable) (2023-10-31 r85450) -- "Unsuffered Consequences" | 4353 |
kunpeng2 | Linux (openEuler 22.03 LTS-SP1) | aarch64 | R Under development (unstable) (2023-11-01 r85459) -- "Unsuffered Consequences" | 4237 |
Click on any hostname to see more info about the system (e.g. compilers) (*) as reported by 'uname -p', except on Windows and Mac OS X |
Package 435/2221 | Hostname | OS / Arch | INSTALL | BUILD | CHECK | BUILD BIN | ||||||||
CoSIA 1.3.0 (landing page) Amanda D. Clark
| nebbiolo1 | Linux (Ubuntu 22.04.2 LTS) / x86_64 | OK | OK | OK | |||||||||
palomino3 | Windows Server 2022 Datacenter / x64 | OK | OK | OK | OK | |||||||||
merida1 | macOS 12.7.1 Monterey / x86_64 | OK | OK | OK | OK | |||||||||
kunpeng2 | Linux (openEuler 22.03 LTS-SP1) / aarch64 | OK | TIMEOUT | skipped | ||||||||||
To the developers/maintainers of the CoSIA package: - Allow up to 24 hours (and sometimes 48 hours) for your latest push to git@git.bioconductor.org:packages/CoSIA.git to reflect on this report. See Troubleshooting Build Report for more information. - Use the following Renviron settings to reproduce errors and warnings. - If 'R CMD check' started to fail recently on the Linux builder(s) over a missing dependency, add the missing dependency to 'Suggests:' in your DESCRIPTION file. See Renviron.bioc for more information. |
Package: CoSIA |
Version: 1.3.0 |
Command: F:\biocbuild\bbs-3.19-bioc\R\bin\R.exe CMD check --no-multiarch --install=check:CoSIA.install-out.txt --library=F:\biocbuild\bbs-3.19-bioc\R\library --no-vignettes --timings CoSIA_1.3.0.tar.gz |
StartedAt: 2023-11-14 01:36:06 -0500 (Tue, 14 Nov 2023) |
EndedAt: 2023-11-14 01:53:47 -0500 (Tue, 14 Nov 2023) |
EllapsedTime: 1061.1 seconds |
RetCode: 0 |
Status: OK |
CheckDir: CoSIA.Rcheck |
Warnings: 0 |
############################################################################## ############################################################################## ### ### Running command: ### ### F:\biocbuild\bbs-3.19-bioc\R\bin\R.exe CMD check --no-multiarch --install=check:CoSIA.install-out.txt --library=F:\biocbuild\bbs-3.19-bioc\R\library --no-vignettes --timings CoSIA_1.3.0.tar.gz ### ############################################################################## ############################################################################## * using log directory 'F:/biocbuild/bbs-3.19-bioc/meat/CoSIA.Rcheck' * using R Under development (unstable) (2023-10-23 r85389 ucrt) * using platform: x86_64-w64-mingw32 * R was compiled by gcc.exe (GCC) 12.3.0 GNU Fortran (GCC) 12.3.0 * running under: Windows Server 2022 x64 (build 20348) * using session charset: UTF-8 * using option '--no-vignettes' * checking for file 'CoSIA/DESCRIPTION' ... OK * checking extension type ... Package * this is package 'CoSIA' version '1.3.0' * package encoding: UTF-8 * checking package namespace information ... OK * checking package dependencies ... OK * checking if this is a source package ... OK * checking if there is a namespace ... OK * checking for hidden files and directories ... OK * checking for portable file names ... OK * checking whether package 'CoSIA' can be installed ... OK * checking installed package size ... OK * checking package directory ... OK * checking 'build' directory ... OK * checking DESCRIPTION meta-information ... OK * checking top-level files ... OK * checking for left-over files ... OK * checking index information ... OK * checking package subdirectories ... OK * checking R files for non-ASCII characters ... OK * checking R files for syntax errors ... OK * checking whether the package can be loaded ... OK * checking whether the package can be loaded with stated dependencies ... OK * checking whether the package can be unloaded cleanly ... OK * checking whether the namespace can be loaded with stated dependencies ... OK * checking whether the namespace can be unloaded cleanly ... OK * checking dependencies in R code ... OK * checking S3 generic/method consistency ... OK * checking replacement functions ... OK * checking foreign function calls ... OK * checking R code for possible problems ... OK * checking Rd files ... OK * checking Rd metadata ... OK * checking Rd cross-references ... OK * checking for missing documentation entries ... OK * checking for code/documentation mismatches ... OK * checking Rd \usage sections ... OK * checking Rd contents ... OK * checking for unstated dependencies in examples ... OK * checking files in 'vignettes' ... OK * checking examples ... OK Examples with CPU (user + system) or elapsed time > 5s user system elapsed plotCVGEx-CoSIAn-method 135.23 11.38 582.47 plotCVGEx 75.18 3.53 78.81 plotDSGEx-CoSIAn-method 40.21 2.94 42.95 getGEx-CoSIAn-method 30.67 3.44 60.53 getTissues 28.63 1.29 55.35 plotDSGEx 19.52 1.00 20.61 plotTissueGEx 16.20 0.99 17.27 plotSpeciesGEx 16.28 0.90 17.25 plotTissueGEx-CoSIAn-method 15.27 0.67 16.12 plotSpeciesGEx-CoSIAn-method 14.91 0.94 17.14 getGExMetrics-CoSIAn-method 7.97 0.42 8.45 getGExMetrics 7.79 0.44 9.20 getGEx 5.53 0.39 6.07 * checking for unstated dependencies in vignettes ... OK * checking package vignettes in 'inst/doc' ... OK * checking running R code from vignettes ... SKIPPED * checking re-building of vignette outputs ... SKIPPED * checking PDF version of manual ... OK * DONE Status: OK
CoSIA.Rcheck/00install.out
############################################################################## ############################################################################## ### ### Running command: ### ### F:\biocbuild\bbs-3.19-bioc\R\bin\R.exe CMD INSTALL CoSIA ### ############################################################################## ############################################################################## * installing to library 'F:/biocbuild/bbs-3.19-bioc/R/library' * installing *source* package 'CoSIA' ... ** using staged installation ** R ** inst ** byte-compile and prepare package for lazy loading ** help *** installing help indices ** building package indices ** installing vignettes ** testing if installed package can be loaded from temporary location ** testing if installed package can be loaded from final location ** testing if installed package keeps a record of temporary installation path * DONE (CoSIA)
CoSIA.Rcheck/CoSIA-Ex.timings
name | user | system | elapsed | |
CoSIA-constructor | 0 | 0 | 0 | |
getConversion-CoSIAn-method | 4.27 | 0.21 | 4.84 | |
getConversion | 2.80 | 0.06 | 2.86 | |
getGEx-CoSIAn-method | 30.67 | 3.44 | 60.53 | |
getGEx | 5.53 | 0.39 | 6.07 | |
getGExMetrics-CoSIAn-method | 7.97 | 0.42 | 8.45 | |
getGExMetrics | 7.79 | 0.44 | 9.20 | |
getTissues | 28.63 | 1.29 | 55.35 | |
plotCVGEx-CoSIAn-method | 135.23 | 11.38 | 582.47 | |
plotCVGEx | 75.18 | 3.53 | 78.81 | |
plotDSGEx-CoSIAn-method | 40.21 | 2.94 | 42.95 | |
plotDSGEx | 19.52 | 1.00 | 20.61 | |
plotSpeciesGEx-CoSIAn-method | 14.91 | 0.94 | 17.14 | |
plotSpeciesGEx | 16.28 | 0.90 | 17.25 | |
plotTissueGEx-CoSIAn-method | 15.27 | 0.67 | 16.12 | |
plotTissueGEx | 16.20 | 0.99 | 17.27 | |
viewCoSIAn-CoSIAn-method | 0 | 0 | 0 | |
viewCoSIAn | 0 | 0 | 0 | |