| Back to Multiple platform build/check report for BioC 3.19: simplified long |
|
This page was generated on 2024-10-18 20:40 -0400 (Fri, 18 Oct 2024).
| Hostname | OS | Arch (*) | R version | Installed pkgs |
|---|---|---|---|---|
| nebbiolo1 | Linux (Ubuntu 22.04.3 LTS) | x86_64 | 4.4.1 (2024-06-14) -- "Race for Your Life" | 4763 |
| palomino7 | Windows Server 2022 Datacenter | x64 | 4.4.1 (2024-06-14 ucrt) -- "Race for Your Life" | 4500 |
| merida1 | macOS 12.7.5 Monterey | x86_64 | 4.4.1 (2024-06-14) -- "Race for Your Life" | 4530 |
| kjohnson1 | macOS 13.6.6 Ventura | arm64 | 4.4.1 (2024-06-14) -- "Race for Your Life" | 4480 |
| Click on any hostname to see more info about the system (e.g. compilers) (*) as reported by 'uname -p', except on Windows and Mac OS X | ||||
| Package 359/2300 | Hostname | OS / Arch | INSTALL | BUILD | CHECK | BUILD BIN | ||||||||
| ClassifyR 3.8.5 (landing page) Dario Strbenac
| nebbiolo1 | Linux (Ubuntu 22.04.3 LTS) / x86_64 | OK | OK | OK | |||||||||
| palomino7 | Windows Server 2022 Datacenter / x64 | OK | OK | OK | OK | |||||||||
| merida1 | macOS 12.7.5 Monterey / x86_64 | OK | OK | WARNINGS | OK | |||||||||
| kjohnson1 | macOS 13.6.6 Ventura / arm64 | OK | OK | WARNINGS | OK | |||||||||
|
To the developers/maintainers of the ClassifyR package: - Allow up to 24 hours (and sometimes 48 hours) for your latest push to git@git.bioconductor.org:packages/ClassifyR.git to reflect on this report. See Troubleshooting Build Report for more information. - Use the following Renviron settings to reproduce errors and warnings. - If 'R CMD check' started to fail recently on the Linux builder(s) over a missing dependency, add the missing dependency to 'Suggests:' in your DESCRIPTION file. See Renviron.bioc for more information. |
| Package: ClassifyR |
| Version: 3.8.5 |
| Command: /Library/Frameworks/R.framework/Resources/bin/R CMD INSTALL ClassifyR |
| StartedAt: 2024-10-16 16:47:42 -0400 (Wed, 16 Oct 2024) |
| EndedAt: 2024-10-16 16:49:02 -0400 (Wed, 16 Oct 2024) |
| EllapsedTime: 80.5 seconds |
| RetCode: 0 |
| Status: OK |
##############################################################################
##############################################################################
###
### Running command:
###
### /Library/Frameworks/R.framework/Resources/bin/R CMD INSTALL ClassifyR
###
##############################################################################
##############################################################################
* installing to library ‘/Library/Frameworks/R.framework/Versions/4.4-x86_64/Resources/library’
* installing *source* package ‘ClassifyR’ ...
** using staged installation
** libs
using C++ compiler: ‘Apple clang version 14.0.0 (clang-1400.0.29.202)’
using C++11
using SDK: ‘MacOSX11.3.sdk’
clang++ -arch x86_64 -std=gnu++11 -I"/Library/Frameworks/R.framework/Resources/include" -DNDEBUG -I/opt/R/x86_64/include -fPIC -falign-functions=64 -Wall -g -O2 -c coxformatrices.cpp -o coxformatrices.o
coxformatrices.cpp:23:16: warning: unused variable 'sclback2' [-Wunused-variable]
double sclback2=*sctest2;
^
coxformatrices.cpp:24:16: warning: unused variable 'sclback3' [-Wunused-variable]
double sclback3=*sctest3;
^
coxformatrices.cpp:81:9: warning: suggest braces around initialization of subobject [-Wmissing-braces]
NULL
^~~~
{ }
/Library/Developer/CommandLineTools/usr/lib/clang/14.0.0/include/stddef.h:84:18: note: expanded from macro 'NULL'
# define NULL __null
^~~~~~
coxformatrices.cpp:528:5: warning: 'register' storage class specifier is deprecated and incompatible with C++17 [-Wdeprecated-register]
register int i,j;
^~~~~~~~~
coxformatrices.cpp:528:5: warning: 'register' storage class specifier is deprecated and incompatible with C++17 [-Wdeprecated-register]
register int i,j;
^~~~~~~~~
coxformatrices.cpp:529:5: warning: 'register' storage class specifier is deprecated and incompatible with C++17 [-Wdeprecated-register]
register double temp;
^~~~~~~~~
coxformatrices.cpp:569:5: warning: 'register' storage class specifier is deprecated and incompatible with C++17 [-Wdeprecated-register]
register double temp;
^~~~~~~~~
coxformatrices.cpp:570:5: warning: 'register' storage class specifier is deprecated and incompatible with C++17 [-Wdeprecated-register]
register int i,j,k;
^~~~~~~~~
coxformatrices.cpp:570:5: warning: 'register' storage class specifier is deprecated and incompatible with C++17 [-Wdeprecated-register]
register int i,j,k;
^~~~~~~~~
coxformatrices.cpp:570:5: warning: 'register' storage class specifier is deprecated and incompatible with C++17 [-Wdeprecated-register]
register int i,j,k;
^~~~~~~~~
coxformatrices.cpp:656:5: warning: 'register' storage class specifier is deprecated and incompatible with C++17 [-Wdeprecated-register]
register int i;
^~~~~~~~~
coxformatrices.cpp:657:5: warning: 'register' storage class specifier is deprecated and incompatible with C++17 [-Wdeprecated-register]
register double **pointer;
^~~~~~~~~
12 warnings generated.
clang++ -arch x86_64 -std=gnu++11 -dynamiclib -Wl,-headerpad_max_install_names -undefined dynamic_lookup -L/Library/Frameworks/R.framework/Resources/lib -L/opt/R/x86_64/lib -o ClassifyR.so coxformatrices.o -F/Library/Frameworks/R.framework/.. -framework R -Wl,-framework -Wl,CoreFoundation
installing to /Library/Frameworks/R.framework/Versions/4.4-x86_64/Resources/library/00LOCK-ClassifyR/00new/ClassifyR/libs
** R
** data
** inst
** byte-compile and prepare package for lazy loading
in method for ‘ROCplot’ with signature ‘"ClassifyResult"’: no definition for class “ClassifyResult”
** help
*** installing help indices
*** copying figures
** building package indices
** installing vignettes
** testing if installed package can be loaded from temporary location
** checking absolute paths in shared objects and dynamic libraries
** testing if installed package can be loaded from final location
** testing if installed package keeps a record of temporary installation path
* DONE (ClassifyR)