| Back to Multiple platform build/check report for BioC 3.19: simplified long |
|
This page was generated on 2024-10-18 20:40 -0400 (Fri, 18 Oct 2024).
| Hostname | OS | Arch (*) | R version | Installed pkgs |
|---|---|---|---|---|
| nebbiolo1 | Linux (Ubuntu 22.04.3 LTS) | x86_64 | 4.4.1 (2024-06-14) -- "Race for Your Life" | 4763 |
| palomino7 | Windows Server 2022 Datacenter | x64 | 4.4.1 (2024-06-14 ucrt) -- "Race for Your Life" | 4500 |
| merida1 | macOS 12.7.5 Monterey | x86_64 | 4.4.1 (2024-06-14) -- "Race for Your Life" | 4530 |
| kjohnson1 | macOS 13.6.6 Ventura | arm64 | 4.4.1 (2024-06-14) -- "Race for Your Life" | 4480 |
| Click on any hostname to see more info about the system (e.g. compilers) (*) as reported by 'uname -p', except on Windows and Mac OS X | ||||
| Package 327/2300 | Hostname | OS / Arch | INSTALL | BUILD | CHECK | BUILD BIN | ||||||||
| ChemmineOB 1.42.0 (landing page) Thomas Girke
| nebbiolo1 | Linux (Ubuntu 22.04.3 LTS) / x86_64 | OK | OK | WARNINGS | |||||||||
| palomino7 | Windows Server 2022 Datacenter / x64 | OK | OK | WARNINGS | OK | |||||||||
| merida1 | macOS 12.7.5 Monterey / x86_64 | ERROR | ERROR | skipped | skipped | |||||||||
| kjohnson1 | macOS 13.6.6 Ventura / arm64 | ERROR | ERROR | skipped | skipped | |||||||||
|
To the developers/maintainers of the ChemmineOB package: - Allow up to 24 hours (and sometimes 48 hours) for your latest push to git@git.bioconductor.org:packages/ChemmineOB.git to reflect on this report. See Troubleshooting Build Report for more information. - Use the following Renviron settings to reproduce errors and warnings. - If 'R CMD check' started to fail recently on the Linux builder(s) over a missing dependency, add the missing dependency to 'Suggests:' in your DESCRIPTION file. See Renviron.bioc for more information. |
| Package: ChemmineOB |
| Version: 1.42.0 |
| Command: /Library/Frameworks/R.framework/Resources/bin/R CMD build --keep-empty-dirs --no-resave-data ChemmineOB |
| StartedAt: 2024-10-16 17:52:29 -0400 (Wed, 16 Oct 2024) |
| EndedAt: 2024-10-16 17:54:47 -0400 (Wed, 16 Oct 2024) |
| EllapsedTime: 137.5 seconds |
| RetCode: 1 |
| Status: ERROR |
| PackageFile: None |
| PackageFileSize: NA |
##############################################################################
##############################################################################
###
### Running command:
###
### /Library/Frameworks/R.framework/Resources/bin/R CMD build --keep-empty-dirs --no-resave-data ChemmineOB
###
##############################################################################
##############################################################################
* checking for file ‘ChemmineOB/DESCRIPTION’ ... OK
* preparing ‘ChemmineOB’:
* checking DESCRIPTION meta-information ... OK
* cleaning src
* running ‘cleanup’
* installing the package to build vignettes
-----------------------------------
* installing *source* package ‘ChemmineOB’ ...
** using staged installation
checking for pkg-config... /opt/R/x86_64/bin/pkg-config
checking pkg-config is at least version 0.9.0... yes
checking for OPENBABEL... no
checking for OPENBABEL... no
checking for gcc... clang -arch x86_64
checking whether the C compiler works... yes
checking for C compiler default output file name... a.out
checking for suffix of executables...
checking whether we are cross compiling... no
checking for suffix of object files... o
checking whether we are using the GNU C compiler... yes
checking whether clang -arch x86_64 accepts -g... yes
checking for clang -arch x86_64 option to accept ISO C89... none needed
checking how to run the C preprocessor... clang -arch x86_64 -E
configure: creating ./config.status
config.status: creating src/Makevars
** libs
using C++ compiler: ‘Apple clang version 14.0.0 (clang-1400.0.29.202)’
using SDK: ‘MacOSX11.3.sdk’
clang++ -arch x86_64 -std=gnu++17 -I"/Library/Frameworks/R.framework/Resources/include" -DNDEBUG -I/usr/include/openbabel3 -I/usr/include/eigen3 -DUSE_BOOST -DHAVE_EIGEN -I/usr/local/include/eigen3 -I/usr/local/include/openbabel3 -I'/Library/Frameworks/R.framework/Versions/4.4-x86_64/Resources/library/BH/include' -I'/Library/Frameworks/R.framework/Versions/4.4-x86_64/Resources/library/Rcpp/include' -I'/Library/Frameworks/R.framework/Versions/4.4-x86_64/Resources/library/zlibbioc/include' -I/opt/R/x86_64/include -fPIC -falign-functions=64 -Wall -g -O2 -c ChemmineOB.cpp -o ChemmineOB.o
In file included from ChemmineOB.cpp:1576:
/usr/local/include/openbabel3/openbabel/griddata.h:74:12: warning: 'OpenBabel::OBGridData::GetValue' hides overloaded virtual function [-Woverloaded-virtual]
double GetValue(int i, int j, int k) const;
^
/usr/local/include/openbabel3/openbabel/base.h:228:32: note: hidden overloaded virtual function 'OpenBabel::OBGenericData::GetValue' declared here: different number of parameters (0 vs 3)
virtual const std::string &GetValue() const
^
In file included from ChemmineOB.cpp:1576:
/usr/local/include/openbabel3/openbabel/griddata.h:76:12: warning: 'OpenBabel::OBGridData::GetValue' hides overloaded virtual function [-Woverloaded-virtual]
double GetValue (vector3 pos) const;
^
/usr/local/include/openbabel3/openbabel/base.h:228:32: note: hidden overloaded virtual function 'OpenBabel::OBGenericData::GetValue' declared here: different number of parameters (0 vs 1)
virtual const std::string &GetValue() const
^
In file included from ChemmineOB.cpp:1582:
/usr/local/include/openbabel3/openbabel/reaction.h:99:15: warning: 'OpenBabel::OBReaction::GetTitle' hides overloaded virtual function [-Woverloaded-virtual]
std::string GetTitle() const { return _title; }
^
/usr/local/include/openbabel3/openbabel/base.h:286:28: note: hidden overloaded virtual function 'OpenBabel::OBBase::GetTitle' declared here: different number of parameters (1 vs 0)
virtual const char *GetTitle(bool UNUSED(replaceNewlines) = true) const { return "";}
^
In file included from ChemmineOB.cpp:1582:
/usr/local/include/openbabel3/openbabel/reaction.h:101:8: warning: 'OpenBabel::OBReaction::SetTitle' hides overloaded virtual function [-Woverloaded-virtual]
void SetTitle(const std::string& title) { _title=title; }
^
/usr/local/include/openbabel3/openbabel/base.h:287:21: note: hidden overloaded virtual function 'OpenBabel::OBBase::SetTitle' declared here: type mismatch at 1st parameter ('const char *' vs 'const std::string &' (aka 'const basic_string<char, char_traits<char>, allocator<char>> &'))
virtual void SetTitle(const char *) {}
^
ChemmineOB.cpp:4160:7: warning: unused variable 'ecode' [-Wunused-variable]
int ecode = 0; arg1 = (std::ios_base::event) swigarg_arg1; arg2 = (std::ios_base *) &swigarg_arg2; arg3 = (int) swigarg_arg3;
^
5 warnings generated.
clang++ -arch x86_64 -std=gnu++17 -I"/Library/Frameworks/R.framework/Resources/include" -DNDEBUG -I/usr/include/openbabel3 -I/usr/include/eigen3 -DUSE_BOOST -DHAVE_EIGEN -I/usr/local/include/eigen3 -I/usr/local/include/openbabel3 -I'/Library/Frameworks/R.framework/Versions/4.4-x86_64/Resources/library/BH/include' -I'/Library/Frameworks/R.framework/Versions/4.4-x86_64/Resources/library/Rcpp/include' -I'/Library/Frameworks/R.framework/Versions/4.4-x86_64/Resources/library/zlibbioc/include' -I/opt/R/x86_64/include -fPIC -falign-functions=64 -Wall -g -O2 -c canonical.cpp -o canonical.o
clang++ -arch x86_64 -std=gnu++17 -dynamiclib -Wl,-headerpad_max_install_names -undefined dynamic_lookup -L/Library/Frameworks/R.framework/Resources/lib -L/opt/R/x86_64/lib -o ChemmineOB.so ChemmineOB.o canonical.o -L/usr/local/lib/openbabel3 -lopenbabel -F/Library/Frameworks/R.framework/.. -framework R -Wl,-framework -Wl,CoreFoundation
ld: warning: directory not found for option '-L/usr/local/lib/openbabel3'
ld: library not found for -lopenbabel
clang: error: linker command failed with exit code 1 (use -v to see invocation)
make: *** [ChemmineOB.so] Error 1
ERROR: compilation failed for package ‘ChemmineOB’
* removing ‘/private/tmp/RtmpFknFMe/Rinst7e6b50077b07/ChemmineOB’
-----------------------------------
ERROR: package installation failed