Back to Multiple platform build/check report for BioC 3.19:   simplified   long
AB[C]DEFGHIJKLMNOPQRSTUVWXYZ

This page was generated on 2024-10-18 20:38 -0400 (Fri, 18 Oct 2024).

HostnameOSArch (*)R versionInstalled pkgs
nebbiolo1Linux (Ubuntu 22.04.3 LTS)x86_644.4.1 (2024-06-14) -- "Race for Your Life" 4763
palomino7Windows Server 2022 Datacenterx644.4.1 (2024-06-14 ucrt) -- "Race for Your Life" 4500
merida1macOS 12.7.5 Montereyx86_644.4.1 (2024-06-14) -- "Race for Your Life" 4530
kjohnson1macOS 13.6.6 Venturaarm644.4.1 (2024-06-14) -- "Race for Your Life" 4480
Click on any hostname to see more info about the system (e.g. compilers)      (*) as reported by 'uname -p', except on Windows and Mac OS X

Package 337/2300HostnameOS / ArchINSTALLBUILDCHECKBUILD BIN
ChIPpeakAnno 3.38.1  (landing page)
Jianhong Ou
Snapshot Date: 2024-10-16 14:00 -0400 (Wed, 16 Oct 2024)
git_url: https://git.bioconductor.org/packages/ChIPpeakAnno
git_branch: RELEASE_3_19
git_last_commit: 6b07376
git_last_commit_date: 2024-07-03 13:41:54 -0400 (Wed, 03 Jul 2024)
nebbiolo1Linux (Ubuntu 22.04.3 LTS) / x86_64  OK    OK    OK  UNNEEDED, same version is already published
palomino7Windows Server 2022 Datacenter / x64  OK    OK    OK    OK  UNNEEDED, same version is already published
merida1macOS 12.7.5 Monterey / x86_64  OK    TIMEOUT  skippedskipped
kjohnson1macOS 13.6.6 Ventura / arm64  OK    OK    OK    OK  UNNEEDED, same version is already published


CHECK results for ChIPpeakAnno on nebbiolo1

To the developers/maintainers of the ChIPpeakAnno package:
- Allow up to 24 hours (and sometimes 48 hours) for your latest push to git@git.bioconductor.org:packages/ChIPpeakAnno.git to reflect on this report. See Troubleshooting Build Report for more information.
- Use the following Renviron settings to reproduce errors and warnings.
- If 'R CMD check' started to fail recently on the Linux builder(s) over a missing dependency, add the missing dependency to 'Suggests:' in your DESCRIPTION file. See Renviron.bioc for more information.

raw results


Summary

Package: ChIPpeakAnno
Version: 3.38.1
Command: /home/biocbuild/bbs-3.19-bioc/R/bin/R CMD check --install=check:ChIPpeakAnno.install-out.txt --library=/home/biocbuild/bbs-3.19-bioc/R/site-library --timings ChIPpeakAnno_3.38.1.tar.gz
StartedAt: 2024-10-16 22:42:09 -0400 (Wed, 16 Oct 2024)
EndedAt: 2024-10-16 23:08:18 -0400 (Wed, 16 Oct 2024)
EllapsedTime: 1569.4 seconds
RetCode: 0
Status:   OK  
CheckDir: ChIPpeakAnno.Rcheck
Warnings: 0

Command output

##############################################################################
##############################################################################
###
### Running command:
###
###   /home/biocbuild/bbs-3.19-bioc/R/bin/R CMD check --install=check:ChIPpeakAnno.install-out.txt --library=/home/biocbuild/bbs-3.19-bioc/R/site-library --timings ChIPpeakAnno_3.38.1.tar.gz
###
##############################################################################
##############################################################################


* using log directory ‘/home/biocbuild/bbs-3.19-bioc/meat/ChIPpeakAnno.Rcheck’
* using R version 4.4.1 (2024-06-14)
* using platform: x86_64-pc-linux-gnu
* R was compiled by
    gcc (Ubuntu 11.4.0-1ubuntu1~22.04) 11.4.0
    GNU Fortran (Ubuntu 11.4.0-1ubuntu1~22.04) 11.4.0
* running under: Ubuntu 22.04.5 LTS
* using session charset: UTF-8
* checking for file ‘ChIPpeakAnno/DESCRIPTION’ ... OK
* checking extension type ... Package
* this is package ‘ChIPpeakAnno’ version ‘3.38.1’
* package encoding: UTF-8
* checking package namespace information ... OK
* checking package dependencies ... OK
* checking if this is a source package ... OK
* checking if there is a namespace ... OK
* checking for hidden files and directories ... OK
* checking for portable file names ... OK
* checking for sufficient/correct file permissions ... OK
* checking whether package ‘ChIPpeakAnno’ can be installed ... OK
* checking installed package size ... NOTE
  installed size is 19.1Mb
  sub-directories of 1Mb or more:
    data     12.6Mb
    extdata   5.2Mb
* checking package directory ... OK
* checking ‘build’ directory ... OK
* checking DESCRIPTION meta-information ... OK
* checking top-level files ... OK
* checking for left-over files ... OK
* checking index information ... OK
* checking package subdirectories ... OK
* checking code files for non-ASCII characters ... OK
* checking R files for syntax errors ... OK
* checking whether the package can be loaded ... OK
* checking whether the package can be loaded with stated dependencies ... OK
* checking whether the package can be unloaded cleanly ... OK
* checking whether the namespace can be loaded with stated dependencies ... OK
* checking whether the namespace can be unloaded cleanly ... OK
* checking loading without being on the library search path ... OK
* checking dependencies in R code ... OK
* checking S3 generic/method consistency ... OK
* checking replacement functions ... OK
* checking foreign function calls ... OK
* checking R code for possible problems ... OK
* checking Rd files ... NOTE
checkRd: (-1) summarizePatternInPeaks.Rd:63: Lost braces; missing escapes or markup?
    63 | {shuffle_sequences}}
       | ^
checkRd: (-1) summarizePatternInPeaks.Rd:69: Lost braces; missing escapes or markup?
    69 |  \item{"patternNum"}: {number of matched pattern}
       |                       ^
checkRd: (-1) summarizePatternInPeaks.Rd:70-71: Lost braces
    70 |  \item{"totalNumPatternWithSameLen"}:  {total number of pattern with the 
       |                                        ^
checkRd: (-1) summarizePatternInPeaks.Rd:72: Lost braces; missing escapes or markup?
    72 |  \item{"expectedRate"}:  {expected rate of pattern for 'binom.test' method}
       |                          ^
checkRd: (-1) summarizePatternInPeaks.Rd:73: Lost braces; missing escapes or markup?
    73 |  \item{"patternRate"}:  {real rate of pattern for 'permutation.test' method}
       |                         ^
checkRd: (-1) summarizePatternInPeaks.Rd:74: Lost braces; missing escapes or markup?
    74 |  \item{"pValueBinomTest"}:  {p value of bimom test for 'binom.test' method}
       |                             ^
checkRd: (-1) summarizePatternInPeaks.Rd:75-76: Lost braces
    75 |  \item{"cutOffPermutationTest"}:  {cut off of permutation test for 
       |                                   ^
checkRd: (-1) summarizePatternInPeaks.Rd:82: Lost braces; missing escapes or markup?
    82 |  \item{"motifChr"}: {Chromosome of motif}
       |                     ^
checkRd: (-1) summarizePatternInPeaks.Rd:83: Lost braces; missing escapes or markup?
    83 |  \item{"motifStartInChr"}:  {motif start position in chromosome}
       |                             ^
checkRd: (-1) summarizePatternInPeaks.Rd:84: Lost braces; missing escapes or markup?
    84 |  \item{"motifEndInChr"}:  {motif end position in chromosome}
       |                           ^
checkRd: (-1) summarizePatternInPeaks.Rd:85: Lost braces; missing escapes or markup?
    85 |  \item{"motifName"}:  {motif name}
       |                       ^
checkRd: (-1) summarizePatternInPeaks.Rd:86: Lost braces; missing escapes or markup?
    86 |  \item{"motifPattern"}:  {motif pattern}
       |                          ^
checkRd: (-1) summarizePatternInPeaks.Rd:87: Lost braces; missing escapes or markup?
    87 |  \item{"motifStartInPeak"}:  {motif start position in peak}
       |                              ^
checkRd: (-1) summarizePatternInPeaks.Rd:88: Lost braces; missing escapes or markup?
    88 |  \item{"motifEndInPeak"}: {motif end position in peak}
       |                           ^
checkRd: (-1) summarizePatternInPeaks.Rd:89: Lost braces; missing escapes or markup?
    89 |  \item{"motifFound"}:  {specific motif Found in peak}
       |                        ^
checkRd: (-1) summarizePatternInPeaks.Rd:90-91: Lost braces
    90 |  \item{"motifFoundStrand"}:  {strand of specific motif Found in peak, "-" 
       |                              ^
checkRd: (-1) summarizePatternInPeaks.Rd:92: Lost braces; missing escapes or markup?
    92 |  \item{"peakChr"}:  {Chromosome of peak}
       |                     ^
checkRd: (-1) summarizePatternInPeaks.Rd:93: Lost braces; missing escapes or markup?
    93 |  \item{"peakStart"}:  {peak start position}
       |                       ^
checkRd: (-1) summarizePatternInPeaks.Rd:94: Lost braces; missing escapes or markup?
    94 |  \item{"peakEnd"}:  {peak end position}
       |                     ^
checkRd: (-1) summarizePatternInPeaks.Rd:95: Lost braces; missing escapes or markup?
    95 |  \item{"peakWidth"}:  {peak width}
       |                       ^
checkRd: (-1) summarizePatternInPeaks.Rd:96: Lost braces; missing escapes or markup?
    96 |  \item{"peakStrand"}:  {peak strand}
       |                        ^
* checking Rd metadata ... OK
* checking Rd cross-references ... OK
* checking for missing documentation entries ... OK
* checking for code/documentation mismatches ... OK
* checking Rd \usage sections ... OK
* checking Rd contents ... OK
* checking for unstated dependencies in examples ... OK
* checking contents of ‘data’ directory ... OK
* checking data for non-ASCII characters ... OK
* checking LazyData ... OK
* checking data for ASCII and uncompressed saves ... OK
* checking files in ‘vignettes’ ... OK
* checking examples ... OK
Examples with CPU (user + system) or elapsed time > 5s
                           user system elapsed
findEnhancers            21.643  0.352  21.996
findMotifsInPromoterSeqs 12.908  0.352  13.260
annotatePeakInBatch      12.010  0.635  12.646
summarizeOverlapsByBins   5.568  0.443   5.732
annoPeaks                 3.016  0.323  11.996
* checking for unstated dependencies in ‘tests’ ... OK
* checking tests ...
  Running ‘runTests.R’
 OK
* checking for unstated dependencies in vignettes ... OK
* checking package vignettes ... OK
* checking re-building of vignette outputs ... OK
* checking PDF version of manual ... OK
* DONE

Status: 2 NOTEs
See
  ‘/home/biocbuild/bbs-3.19-bioc/meat/ChIPpeakAnno.Rcheck/00check.log’
for details.


Installation output

ChIPpeakAnno.Rcheck/00install.out

##############################################################################
##############################################################################
###
### Running command:
###
###   /home/biocbuild/bbs-3.19-bioc/R/bin/R CMD INSTALL ChIPpeakAnno
###
##############################################################################
##############################################################################


* installing to library ‘/home/biocbuild/bbs-3.19-bioc/R/site-library’
* installing *source* package ‘ChIPpeakAnno’ ...
** using staged installation
** R
** data
*** moving datasets to lazyload DB
** inst
** byte-compile and prepare package for lazy loading
** help
*** installing help indices
** building package indices
** installing vignettes
** testing if installed package can be loaded from temporary location
** testing if installed package can be loaded from final location
** testing if installed package keeps a record of temporary installation path
* DONE (ChIPpeakAnno)

Tests output

ChIPpeakAnno.Rcheck/tests/runTests.Rout


R version 4.4.1 (2024-06-14) -- "Race for Your Life"
Copyright (C) 2024 The R Foundation for Statistical Computing
Platform: x86_64-pc-linux-gnu

R is free software and comes with ABSOLUTELY NO WARRANTY.
You are welcome to redistribute it under certain conditions.
Type 'license()' or 'licence()' for distribution details.

R is a collaborative project with many contributors.
Type 'contributors()' for more information and
'citation()' on how to cite R or R packages in publications.

Type 'demo()' for some demos, 'help()' for on-line help, or
'help.start()' for an HTML browser interface to help.
Type 'q()' to quit R.

> require("ChIPpeakAnno") || stop("unable to load Package:ChIPpeakAnno")
Loading required package: ChIPpeakAnno
Loading required package: IRanges
Loading required package: BiocGenerics

Attaching package: 'BiocGenerics'

The following objects are masked from 'package:stats':

    IQR, mad, sd, var, xtabs

The following objects are masked from 'package:base':

    Filter, Find, Map, Position, Reduce, anyDuplicated, aperm, append,
    as.data.frame, basename, cbind, colnames, dirname, do.call,
    duplicated, eval, evalq, get, grep, grepl, intersect, is.unsorted,
    lapply, mapply, match, mget, order, paste, pmax, pmax.int, pmin,
    pmin.int, rank, rbind, rownames, sapply, setdiff, table, tapply,
    union, unique, unsplit, which.max, which.min

Loading required package: S4Vectors
Loading required package: stats4

Attaching package: 'S4Vectors'

The following object is masked from 'package:utils':

    findMatches

The following objects are masked from 'package:base':

    I, expand.grid, unname

Loading required package: GenomicRanges
Loading required package: GenomeInfoDb
[1] TRUE
> require("BSgenome.Drerio.UCSC.danRer7") || stop("unable to load Package:BSgenome.Drerio.UCSC.danRer7")
Loading required package: BSgenome.Drerio.UCSC.danRer7
Loading required package: BSgenome
Loading required package: Biostrings
Loading required package: XVector

Attaching package: 'Biostrings'

The following object is masked from 'package:base':

    strsplit

Loading required package: BiocIO
Loading required package: rtracklayer

Attaching package: 'rtracklayer'

The following object is masked from 'package:BiocIO':

    FileForFormat

[1] TRUE
> require("BSgenome.Hsapiens.UCSC.hg19") || stop("unable to load Package:BSgenome.Hsapiens.UCSC.hg19")
Loading required package: BSgenome.Hsapiens.UCSC.hg19
[1] TRUE
> require("org.Hs.eg.db") || stop("unable to load Package:org.Hs.eg.db")
Loading required package: org.Hs.eg.db
Loading required package: AnnotationDbi
Loading required package: Biobase
Welcome to Bioconductor

    Vignettes contain introductory material; view with
    'browseVignettes()'. To cite Bioconductor, see
    'citation("Biobase")', and for packages 'citation("pkgname")'.


[1] TRUE
> require("org.Ce.eg.db") || stop("unable to load Package:org.Ce.eg.db")
Loading required package: org.Ce.eg.db

[1] TRUE
> require("BSgenome.Celegans.UCSC.ce10") || stop("unable to load Package:BSgenome.Celegans.UCSC.ce10")
Loading required package: BSgenome.Celegans.UCSC.ce10
[1] TRUE
> require("EnsDb.Hsapiens.v79") || stop("unable to load Package:EnsDb.Hsapiens.v79")
Loading required package: EnsDb.Hsapiens.v79
Loading required package: ensembldb
Loading required package: GenomicFeatures
Loading required package: AnnotationFilter

Attaching package: 'ensembldb'

The following object is masked from 'package:stats':

    filter

[1] TRUE
> require("TxDb.Hsapiens.UCSC.hg38.knownGene") || stop("unable to load TxDb.Hsapiens.UCSC.hg38.knownGene")
Loading required package: TxDb.Hsapiens.UCSC.hg38.knownGene
[1] TRUE
> require("biomaRt") || stop("unable to load biomaRt")
Loading required package: biomaRt
[1] TRUE
> require("reactome.db") || stop("unable to load reactome.db")
Loading required package: reactome.db
[1] TRUE
> require("testthat") || stop("unable to load testthat")
Loading required package: testthat

Attaching package: 'testthat'

The following object is masked from 'package:AnnotationFilter':

    not

[1] TRUE
> test_check("ChIPpeakAnno")
INFO [2024-10-16 22:52:10] $cat.cex
INFO [2024-10-16 22:52:10] [1] 1
INFO [2024-10-16 22:52:10] 
INFO [2024-10-16 22:52:10] $cat.col
INFO [2024-10-16 22:52:10] [1] "black"
INFO [2024-10-16 22:52:10] 
INFO [2024-10-16 22:52:10] $cat.fontface
INFO [2024-10-16 22:52:10] [1] "plain"
INFO [2024-10-16 22:52:10] 
INFO [2024-10-16 22:52:10] $cat.fontfamily
INFO [2024-10-16 22:52:10] [1] "serif"
INFO [2024-10-16 22:52:10] 
INFO [2024-10-16 22:52:10] $x
INFO [2024-10-16 22:52:10] $x$TF1
INFO [2024-10-16 22:52:10] [1] 3 4 5
INFO [2024-10-16 22:52:10] 
INFO [2024-10-16 22:52:10] $x$TF2
INFO [2024-10-16 22:52:10] [1] 1 2 3 4 5
INFO [2024-10-16 22:52:10] 
INFO [2024-10-16 22:52:10] 
INFO [2024-10-16 22:52:10] $disable.logging
INFO [2024-10-16 22:52:10] [1] TRUE
INFO [2024-10-16 22:52:10] 
INFO [2024-10-16 22:52:10] $filename
INFO [2024-10-16 22:52:10] NULL
INFO [2024-10-16 22:52:10] 
INFO [2024-10-16 22:52:10] $cat.cex
INFO [2024-10-16 22:52:10] [1] 1
INFO [2024-10-16 22:52:10] 
INFO [2024-10-16 22:52:10] $cat.col
INFO [2024-10-16 22:52:10] [1] "black"
INFO [2024-10-16 22:52:10] 
INFO [2024-10-16 22:52:10] $cat.fontface
INFO [2024-10-16 22:52:10] [1] "plain"
INFO [2024-10-16 22:52:10] 
INFO [2024-10-16 22:52:10] $cat.fontfamily
INFO [2024-10-16 22:52:10] [1] "serif"
INFO [2024-10-16 22:52:10] 
INFO [2024-10-16 22:52:10] $x
INFO [2024-10-16 22:52:10] $x$TF1
INFO [2024-10-16 22:52:10] [1] 3 4 5
INFO [2024-10-16 22:52:10] 
INFO [2024-10-16 22:52:10] $x$TF2
INFO [2024-10-16 22:52:10] [1] 1 2 4 5
INFO [2024-10-16 22:52:10] 
INFO [2024-10-16 22:52:10] $x$TF3
INFO [2024-10-16 22:52:10] [1] 3 4 5
INFO [2024-10-16 22:52:10] 
INFO [2024-10-16 22:52:10] $x$TF4
INFO [2024-10-16 22:52:10] [1] 1 2 4 5
INFO [2024-10-16 22:52:10] 
INFO [2024-10-16 22:52:10] 
INFO [2024-10-16 22:52:10] $disable.logging
INFO [2024-10-16 22:52:10] [1] TRUE
INFO [2024-10-16 22:52:10] 
INFO [2024-10-16 22:52:10] $filename
INFO [2024-10-16 22:52:10] NULL
INFO [2024-10-16 22:52:10] 
INFO [2024-10-16 22:52:10] $scaled
INFO [2024-10-16 22:52:10] [1] FALSE
INFO [2024-10-16 22:52:10] 
INFO [2024-10-16 22:52:10] $euler.d
INFO [2024-10-16 22:52:10] [1] FALSE
INFO [2024-10-16 22:52:10] 
INFO [2024-10-16 22:52:10] $cat.cex
INFO [2024-10-16 22:52:10] [1] 1
INFO [2024-10-16 22:52:10] 
INFO [2024-10-16 22:52:10] $cat.col
INFO [2024-10-16 22:52:10] [1] "black"
INFO [2024-10-16 22:52:10] 
INFO [2024-10-16 22:52:10] $cat.fontface
INFO [2024-10-16 22:52:10] [1] "plain"
INFO [2024-10-16 22:52:10] 
INFO [2024-10-16 22:52:10] $cat.fontfamily
INFO [2024-10-16 22:52:10] [1] "serif"
INFO [2024-10-16 22:52:10] 
INFO [2024-10-16 22:52:10] $x
INFO [2024-10-16 22:52:10] $x$TF1
INFO [2024-10-16 22:52:10] [1] 1 2 3
INFO [2024-10-16 22:52:10] 
INFO [2024-10-16 22:52:10] $x$TF2
INFO [2024-10-16 22:52:10] [1] 1 2 3
INFO [2024-10-16 22:52:10] 
INFO [2024-10-16 22:52:10] 
INFO [2024-10-16 22:52:10] $disable.logging
INFO [2024-10-16 22:52:10] [1] TRUE
INFO [2024-10-16 22:52:10] 
INFO [2024-10-16 22:52:10] $filename
INFO [2024-10-16 22:52:10] NULL
INFO [2024-10-16 22:52:10] 
INFO [2024-10-16 22:52:11] $scaled
INFO [2024-10-16 22:52:11] [1] FALSE
INFO [2024-10-16 22:52:11] 
INFO [2024-10-16 22:52:11] $euler.d
INFO [2024-10-16 22:52:11] [1] FALSE
INFO [2024-10-16 22:52:11] 
INFO [2024-10-16 22:52:11] $cat.cex
INFO [2024-10-16 22:52:11] [1] 1
INFO [2024-10-16 22:52:11] 
INFO [2024-10-16 22:52:11] $cat.col
INFO [2024-10-16 22:52:11] [1] "black"
INFO [2024-10-16 22:52:11] 
INFO [2024-10-16 22:52:11] $cat.fontface
INFO [2024-10-16 22:52:11] [1] "plain"
INFO [2024-10-16 22:52:11] 
INFO [2024-10-16 22:52:11] $cat.fontfamily
INFO [2024-10-16 22:52:11] [1] "serif"
INFO [2024-10-16 22:52:11] 
INFO [2024-10-16 22:52:11] $x
INFO [2024-10-16 22:52:11] $x$TF1
INFO [2024-10-16 22:52:11] [1] 4 5 6
INFO [2024-10-16 22:52:11] 
INFO [2024-10-16 22:52:11] $x$TF2
INFO [2024-10-16 22:52:11] [1] 1 2 3
INFO [2024-10-16 22:52:11] 
INFO [2024-10-16 22:52:11] 
INFO [2024-10-16 22:52:11] $disable.logging
INFO [2024-10-16 22:52:11] [1] TRUE
INFO [2024-10-16 22:52:11] 
INFO [2024-10-16 22:52:11] $filename
INFO [2024-10-16 22:52:11] NULL
INFO [2024-10-16 22:52:11] 
INFO [2024-10-16 22:52:11] $scaled
INFO [2024-10-16 22:52:11] [1] FALSE
INFO [2024-10-16 22:52:11] 
INFO [2024-10-16 22:52:11] $euler.d
INFO [2024-10-16 22:52:11] [1] FALSE
INFO [2024-10-16 22:52:11] 
INFO [2024-10-16 22:52:11] $cat.cex
INFO [2024-10-16 22:52:11] [1] 1
INFO [2024-10-16 22:52:11] 
INFO [2024-10-16 22:52:11] $cat.col
INFO [2024-10-16 22:52:11] [1] "black"
INFO [2024-10-16 22:52:11] 
INFO [2024-10-16 22:52:11] $cat.fontface
INFO [2024-10-16 22:52:11] [1] "plain"
INFO [2024-10-16 22:52:11] 
INFO [2024-10-16 22:52:11] $cat.fontfamily
INFO [2024-10-16 22:52:11] [1] "serif"
INFO [2024-10-16 22:52:11] 
INFO [2024-10-16 22:52:11] $x
INFO [2024-10-16 22:52:11] $x$TF1
INFO [2024-10-16 22:52:11] [1] 4 5 6
INFO [2024-10-16 22:52:11] 
INFO [2024-10-16 22:52:11] $x$TF2
INFO [2024-10-16 22:52:11] [1] 1 2 3
INFO [2024-10-16 22:52:11] 
INFO [2024-10-16 22:52:11] 
INFO [2024-10-16 22:52:11] $disable.logging
INFO [2024-10-16 22:52:11] [1] TRUE
INFO [2024-10-16 22:52:11] 
INFO [2024-10-16 22:52:11] $filename
INFO [2024-10-16 22:52:11] NULL
INFO [2024-10-16 22:52:11] 
INFO [2024-10-16 22:52:11] $scaled
INFO [2024-10-16 22:52:11] [1] FALSE
INFO [2024-10-16 22:52:11] 
INFO [2024-10-16 22:52:11] $euler.d
INFO [2024-10-16 22:52:11] [1] FALSE
INFO [2024-10-16 22:52:11] 
INFO [2024-10-16 22:52:11] $cat.cex
INFO [2024-10-16 22:52:11] [1] 1
INFO [2024-10-16 22:52:11] 
INFO [2024-10-16 22:52:11] $cat.col
INFO [2024-10-16 22:52:11] [1] "black"
INFO [2024-10-16 22:52:11] 
INFO [2024-10-16 22:52:11] $cat.fontface
INFO [2024-10-16 22:52:11] [1] "plain"
INFO [2024-10-16 22:52:11] 
INFO [2024-10-16 22:52:11] $cat.fontfamily
INFO [2024-10-16 22:52:11] [1] "serif"
INFO [2024-10-16 22:52:11] 
INFO [2024-10-16 22:52:11] $x
INFO [2024-10-16 22:52:11] $x$TF1
INFO [2024-10-16 22:52:11] [1] 4 5 6
INFO [2024-10-16 22:52:11] 
INFO [2024-10-16 22:52:11] $x$TF2
INFO [2024-10-16 22:52:11] [1] 1 2 3
INFO [2024-10-16 22:52:11] 
INFO [2024-10-16 22:52:11] $x$TF3
INFO [2024-10-16 22:52:11] [1] 2 3 6
INFO [2024-10-16 22:52:11] 
INFO [2024-10-16 22:52:11] 
INFO [2024-10-16 22:52:11] $disable.logging
INFO [2024-10-16 22:52:11] [1] TRUE
INFO [2024-10-16 22:52:11] 
INFO [2024-10-16 22:52:11] $filename
INFO [2024-10-16 22:52:11] NULL
INFO [2024-10-16 22:52:11] 
INFO [2024-10-16 22:52:11] $scaled
INFO [2024-10-16 22:52:11] [1] FALSE
INFO [2024-10-16 22:52:11] 
INFO [2024-10-16 22:52:11] $euler.d
INFO [2024-10-16 22:52:11] [1] FALSE
INFO [2024-10-16 22:52:11] 
INFO [2024-10-16 22:52:11] $cat.cex
INFO [2024-10-16 22:52:11] [1] 1
INFO [2024-10-16 22:52:11] 
INFO [2024-10-16 22:52:11] $cat.col
INFO [2024-10-16 22:52:11] [1] "black"
INFO [2024-10-16 22:52:11] 
INFO [2024-10-16 22:52:11] $cat.fontface
INFO [2024-10-16 22:52:11] [1] "plain"
INFO [2024-10-16 22:52:11] 
INFO [2024-10-16 22:52:11] $cat.fontfamily
INFO [2024-10-16 22:52:11] [1] "serif"
INFO [2024-10-16 22:52:11] 
INFO [2024-10-16 22:52:11] $x
INFO [2024-10-16 22:52:11] $x$TF1
INFO [2024-10-16 22:52:11] [1] 3 4 5
INFO [2024-10-16 22:52:11] 
INFO [2024-10-16 22:52:11] $x$TF2
INFO [2024-10-16 22:52:11] [1] 1 2 5
INFO [2024-10-16 22:52:11] 
INFO [2024-10-16 22:52:11] $x$TF3
INFO [2024-10-16 22:52:11] [1] 1 2 5
INFO [2024-10-16 22:52:11] 
INFO [2024-10-16 22:52:11] 
INFO [2024-10-16 22:52:11] $disable.logging
INFO [2024-10-16 22:52:11] [1] TRUE
INFO [2024-10-16 22:52:11] 
INFO [2024-10-16 22:52:11] $filename
INFO [2024-10-16 22:52:11] NULL
INFO [2024-10-16 22:52:11] 
INFO [2024-10-16 22:52:12] $scaled
INFO [2024-10-16 22:52:12] [1] FALSE
INFO [2024-10-16 22:52:12] 
INFO [2024-10-16 22:52:12] $euler.d
INFO [2024-10-16 22:52:12] [1] FALSE
INFO [2024-10-16 22:52:12] 
INFO [2024-10-16 22:52:12] $cat.cex
INFO [2024-10-16 22:52:12] [1] 1
INFO [2024-10-16 22:52:12] 
INFO [2024-10-16 22:52:12] $cat.col
INFO [2024-10-16 22:52:12] [1] "black"
INFO [2024-10-16 22:52:12] 
INFO [2024-10-16 22:52:12] $cat.fontface
INFO [2024-10-16 22:52:12] [1] "plain"
INFO [2024-10-16 22:52:12] 
INFO [2024-10-16 22:52:12] $cat.fontfamily
INFO [2024-10-16 22:52:12] [1] "serif"
INFO [2024-10-16 22:52:12] 
INFO [2024-10-16 22:52:12] $x
INFO [2024-10-16 22:52:12] $x$TF1
INFO [2024-10-16 22:52:12] [1] 3 4 5
INFO [2024-10-16 22:52:12] 
INFO [2024-10-16 22:52:12] $x$TF2
INFO [2024-10-16 22:52:12] [1] 1 2 5
INFO [2024-10-16 22:52:12] 
INFO [2024-10-16 22:52:12] $x$TF3
INFO [2024-10-16 22:52:12] [1] 1 2 5
INFO [2024-10-16 22:52:12] 
INFO [2024-10-16 22:52:12] $x$TF4
INFO [2024-10-16 22:52:12] [1] 1 2 5
INFO [2024-10-16 22:52:12] 
INFO [2024-10-16 22:52:12] 
INFO [2024-10-16 22:52:12] $disable.logging
INFO [2024-10-16 22:52:12] [1] TRUE
INFO [2024-10-16 22:52:12] 
INFO [2024-10-16 22:52:12] $filename
INFO [2024-10-16 22:52:12] NULL
INFO [2024-10-16 22:52:12] 
[ FAIL 0 | WARN 3 | SKIP 6 | PASS 320 ]

══ Skipped tests (6) ═══════════════════════════════════════════════════════════
• empty test (6): 'test_binOverGene.R:1:1', 'test_binOverRegions.R:1:1',
  'test_enrichmentPlot.R:1:1', 'test_getAnnotation.R:1:1',
  'test_reCenterPeaks.R:1:1', 'test_write2FASTA.R:1:1'

[ FAIL 0 | WARN 3 | SKIP 6 | PASS 320 ]
> 
> proc.time()
   user  system elapsed 
158.779   5.661 178.423 

Example timings

ChIPpeakAnno.Rcheck/ChIPpeakAnno-Ex.timings

nameusersystemelapsed
ChIPpeakAnno-package000
ExonPlusUtr.human.GRCh373.4360.2153.651
HOT.spots0.1400.0040.145
IDRfilter0.0010.0000.000
Peaks.Ste12.Replicate10.0520.0000.052
Peaks.Ste12.Replicate20.0120.0000.013
Peaks.Ste12.Replicate30.0070.0040.012
TSS.human.GRCh370.1640.0040.169
TSS.human.GRCh380.1350.0000.135
TSS.human.NCBI360.1040.0030.108
TSS.mouse.GRCm380.1020.0090.110
TSS.mouse.NCBIM370.0890.0070.096
TSS.rat.RGSC3.40.0840.0010.084
TSS.rat.Rnor_5.00.0690.0040.072
TSS.zebrafish.Zv80.0660.0070.074
TSS.zebrafish.Zv90.0850.0040.089
addAncestors1.0160.0511.068
addGeneIDs0.8180.0670.887
addMetadata1.0350.0641.099
annoGR000
annoPeaks 3.016 0.32311.996
annotatePeakInBatch12.010 0.63512.646
annotatedPeak0.0630.0000.064
assignChromosomeRegion0.0010.0000.001
bdp0.0010.0000.000
binOverFeature0.6170.0160.633
binOverGene0.0010.0000.000
binOverRegions0.0010.0000.000
condenseMatrixByColnames0.010.000.01
convert2EntrezID0.3840.0080.392
countPatternInSeqs0.1570.0000.157
cumulativePercentage0.0010.0000.000
downstreams0.0240.0000.024
egOrgMap0.0000.0000.001
enrichedGO0.0000.0030.003
enrichmentPlot0.4970.0070.504
estFragmentLength0.0000.0000.001
estLibSize0.0000.0000.001
featureAlignedDistribution0.2200.0030.225
featureAlignedExtendSignal0.0010.0000.001
featureAlignedHeatmap0.3290.0010.328
featureAlignedSignal0.1940.0550.249
findEnhancers21.643 0.35221.996
findMotifsInPromoterSeqs12.908 0.35213.260
findOverlappingPeaks0.0010.0000.001
findOverlapsOfPeaks1.7760.0081.783
genomicElementDistribution0.0020.0000.001
genomicElementUpSetR0.0010.0000.000
getAllPeakSequence0.5510.0170.568
getAnnotation0.0010.0000.001
getEnrichedGO0.0030.0080.011
getEnrichedPATH0.0010.0000.001
getGO0.0010.0000.001
getGeneSeq0.0010.0000.001
getUniqueGOidCount0.0010.0000.001
getVennCounts0.0010.0000.001
hyperGtest0.0010.0000.001
makeVennDiagram0.0020.0000.002
mergePlusMinusPeaks0.0010.0000.000
metagenePlot1.9450.0632.010
myPeakList0.0150.0000.015
oligoFrequency0.0880.0080.096
oligoSummary000
peakPermTest0.0020.0000.002
peaks10.0040.0030.007
peaks20.0070.0010.007
peaks30.0070.0000.007
peaksNearBDP000
pie10.0050.0000.005
plotBinOverRegions0.0010.0000.001
preparePool0.0010.0000.001
reCenterPeaks0.0230.0000.023
summarizeOverlapsByBins5.5680.4435.732
summarizePatternInPeaks1.2610.1521.414
tileCount0.0880.0680.313
tileGRanges0.2340.2620.039
toGRanges0.0740.0040.078
translatePattern0.0010.0000.000
wgEncodeTfbsV30.2140.0160.230
write2FASTA0.0140.0000.015
xget0.1160.0040.119