Back to Multiple platform build/check report for BioC 3.19:   simplified   long
A[B]CDEFGHIJKLMNOPQRSTUVWXYZ

This page was generated on 2024-10-18 20:39 -0400 (Fri, 18 Oct 2024).

HostnameOSArch (*)R versionInstalled pkgs
nebbiolo1Linux (Ubuntu 22.04.3 LTS)x86_644.4.1 (2024-06-14) -- "Race for Your Life" 4763
palomino7Windows Server 2022 Datacenterx644.4.1 (2024-06-14 ucrt) -- "Race for Your Life" 4500
merida1macOS 12.7.5 Montereyx86_644.4.1 (2024-06-14) -- "Race for Your Life" 4530
kjohnson1macOS 13.6.6 Venturaarm644.4.1 (2024-06-14) -- "Race for Your Life" 4480
Click on any hostname to see more info about the system (e.g. compilers)      (*) as reported by 'uname -p', except on Windows and Mac OS X

Package 189/2300HostnameOS / ArchINSTALLBUILDCHECKBUILD BIN
BiocPkgTools 1.22.0  (landing page)
Sean Davis
Snapshot Date: 2024-10-16 14:00 -0400 (Wed, 16 Oct 2024)
git_url: https://git.bioconductor.org/packages/BiocPkgTools
git_branch: RELEASE_3_19
git_last_commit: 551f1bd
git_last_commit_date: 2024-04-30 11:09:06 -0400 (Tue, 30 Apr 2024)
nebbiolo1Linux (Ubuntu 22.04.3 LTS) / x86_64  OK    OK    OK  UNNEEDED, same version is already published
palomino7Windows Server 2022 Datacenter / x64  OK    OK    OK    OK  UNNEEDED, same version is already published
merida1macOS 12.7.5 Monterey / x86_64  OK    OK    OK    OK  UNNEEDED, same version is already published
kjohnson1macOS 13.6.6 Ventura / arm64  OK    OK    OK    OK  UNNEEDED, same version is already published


CHECK results for BiocPkgTools on palomino7

To the developers/maintainers of the BiocPkgTools package:
- Allow up to 24 hours (and sometimes 48 hours) for your latest push to git@git.bioconductor.org:packages/BiocPkgTools.git to reflect on this report. See Troubleshooting Build Report for more information.
- Use the following Renviron settings to reproduce errors and warnings.
- If 'R CMD check' started to fail recently on the Linux builder(s) over a missing dependency, add the missing dependency to 'Suggests:' in your DESCRIPTION file. See Renviron.bioc for more information.

raw results


Summary

Package: BiocPkgTools
Version: 1.22.0
Command: E:\biocbuild\bbs-3.19-bioc\R\bin\R.exe CMD check --no-multiarch --install=check:BiocPkgTools.install-out.txt --library=E:\biocbuild\bbs-3.19-bioc\R\library --no-vignettes --timings BiocPkgTools_1.22.0.tar.gz
StartedAt: 2024-10-16 23:14:46 -0400 (Wed, 16 Oct 2024)
EndedAt: 2024-10-16 23:48:50 -0400 (Wed, 16 Oct 2024)
EllapsedTime: 2044.3 seconds
RetCode: 0
Status:   OK  
CheckDir: BiocPkgTools.Rcheck
Warnings: 0

Command output

##############################################################################
##############################################################################
###
### Running command:
###
###   E:\biocbuild\bbs-3.19-bioc\R\bin\R.exe CMD check --no-multiarch --install=check:BiocPkgTools.install-out.txt --library=E:\biocbuild\bbs-3.19-bioc\R\library --no-vignettes --timings BiocPkgTools_1.22.0.tar.gz
###
##############################################################################
##############################################################################


* using log directory 'E:/biocbuild/bbs-3.19-bioc/meat/BiocPkgTools.Rcheck'
* using R version 4.4.1 (2024-06-14 ucrt)
* using platform: x86_64-w64-mingw32
* R was compiled by
    gcc.exe (GCC) 13.2.0
    GNU Fortran (GCC) 13.2.0
* running under: Windows Server 2022 x64 (build 20348)
* using session charset: UTF-8
* using option '--no-vignettes'
* checking for file 'BiocPkgTools/DESCRIPTION' ... OK
* checking extension type ... Package
* this is package 'BiocPkgTools' version '1.22.0'
* package encoding: UTF-8
* checking package namespace information ... OK
* checking package dependencies ... OK
* checking if this is a source package ... OK
* checking if there is a namespace ... OK
* checking for hidden files and directories ... OK
* checking for portable file names ... OK
* checking whether package 'BiocPkgTools' can be installed ... OK
* checking installed package size ... OK
* checking package directory ... OK
* checking 'build' directory ... OK
* checking DESCRIPTION meta-information ... NOTE
License stub is invalid DCF.
* checking top-level files ... OK
* checking for left-over files ... OK
* checking index information ... OK
* checking package subdirectories ... OK
* checking code files for non-ASCII characters ... OK
* checking R files for syntax errors ... OK
* checking whether the package can be loaded ... OK
* checking whether the package can be loaded with stated dependencies ... OK
* checking whether the package can be unloaded cleanly ... OK
* checking whether the namespace can be loaded with stated dependencies ... OK
* checking whether the namespace can be unloaded cleanly ... OK
* checking dependencies in R code ... NOTE
Unexported objects imported by ':::' calls:
  'BiocManager:::.repositories' 'BiocManager:::.repositories_base'
  'BiocManager:::.repositories_bioc'
  'BiocManager:::.repository_container_version'
  'BiocManager:::.version_bioc'
  See the note in ?`:::` about the use of this operator.
* checking S3 generic/method consistency ... OK
* checking replacement functions ... OK
* checking foreign function calls ... OK
* checking R code for possible problems ... OK
* checking Rd files ... OK
* checking Rd metadata ... OK
* checking Rd cross-references ... OK
* checking for missing documentation entries ... OK
* checking for code/documentation mismatches ... OK
* checking Rd \usage sections ... OK
* checking Rd contents ... OK
* checking for unstated dependencies in examples ... OK
* checking files in 'vignettes' ... OK
* checking examples ... OK
Examples with CPU (user + system) or elapsed time > 5s
                       user system elapsed
firstInBioc           18.00   0.78   19.57
get_bioc_data         16.70   0.61   17.90
biocDownloadStats     16.10   0.73   18.49
biocBuildReport        5.97   8.89  402.69
pkgCombDependencyGain  7.31   0.73    8.25
pkgDepMetrics          6.60   0.86    7.51
class-dependencies     6.08   0.46    6.55
inducedSubgraphByPkgs  4.89   0.33   10.87
biocMaintained         4.69   0.38    5.50
githubDetails          1.82   0.18   17.70
* checking for unstated dependencies in 'tests' ... OK
* checking tests ...
  Running 'testthat.R'
 OK
* checking for unstated dependencies in vignettes ... OK
* checking package vignettes ... OK
* checking running R code from vignettes ... SKIPPED
* checking re-building of vignette outputs ... SKIPPED
* checking PDF version of manual ... OK
* DONE

Status: 2 NOTEs
See
  'E:/biocbuild/bbs-3.19-bioc/meat/BiocPkgTools.Rcheck/00check.log'
for details.


Installation output

BiocPkgTools.Rcheck/00install.out

##############################################################################
##############################################################################
###
### Running command:
###
###   E:\biocbuild\bbs-3.19-bioc\R\bin\R.exe CMD INSTALL BiocPkgTools
###
##############################################################################
##############################################################################


* installing to library 'E:/biocbuild/bbs-3.19-bioc/R/library'
* installing *source* package 'BiocPkgTools' ...
** using staged installation
** R
** inst
** byte-compile and prepare package for lazy loading
** help
*** installing help indices
** building package indices
** installing vignettes
** testing if installed package can be loaded from temporary location
** testing if installed package can be loaded from final location
** testing if installed package keeps a record of temporary installation path
* DONE (BiocPkgTools)

Tests output

BiocPkgTools.Rcheck/tests/testthat.Rout


R version 4.4.1 (2024-06-14 ucrt) -- "Race for Your Life"
Copyright (C) 2024 The R Foundation for Statistical Computing
Platform: x86_64-w64-mingw32/x64

R is free software and comes with ABSOLUTELY NO WARRANTY.
You are welcome to redistribute it under certain conditions.
Type 'license()' or 'licence()' for distribution details.

R is a collaborative project with many contributors.
Type 'contributors()' for more information and
'citation()' on how to cite R or R packages in publications.

Type 'demo()' for some demos, 'help()' for on-line help, or
'help.start()' for an HTML browser interface to help.
Type 'q()' to quit R.

> library(testthat)
> library(BiocPkgTools)
Loading required package: htmlwidgets
> 
> test_check("BiocPkgTools")
trying URL 'https://bioconductor.org/packages/3.19/bioc/vignettes/ABSSeq/inst/doc/ABSSeq.pdf'
Content type 'application/pdf' length 835577 bytes (815 KB)
==================================================
downloaded 815 KB

[ FAIL 0 | WARN 2 | SKIP 0 | PASS 27 ]

[ FAIL 0 | WARN 2 | SKIP 0 | PASS 27 ]
> 
> proc.time()
   user  system elapsed 
  29.50    5.85 1227.95 

Example timings

BiocPkgTools.Rcheck/BiocPkgTools-Ex.timings

nameusersystemelapsed
activitySince000
anacondaDownloadStats3.010.104.60
biocBuildReport 5.97 8.89402.69
biocDownloadStats16.10 0.7318.49
biocMaintained4.690.385.50
biocPkgList1.570.111.73
biocPkgRanges000
biocRevDepEmail2.550.154.13
buildPkgDependencyDataFrame3.540.363.99
buildPkgDependencyIgraph2.020.102.26
class-dependencies6.080.466.55
firstInBioc18.00 0.7819.57
generateBiocPkgDOI000
getBiocVignette1.310.071.49
get_bioc_data16.70 0.6117.90
get_cre_orcids0.030.000.04
githubDetails 1.82 0.1817.70
githubURLParts1.450.151.64
inducedSubgraphByPkgs 4.89 0.3310.87
latestPkgStats000
orcid_table000
pkgBiocDeps1.730.051.78
pkgBiocRevDeps3.410.083.49
pkgCombDependencyGain7.310.738.25
pkgDepImports0.20.00.2
pkgDepMetrics6.600.867.51
pkgDownloadRank1.950.123.68
pkgDownloadStats0.030.000.06
problemPage000
repositoryStats0.080.000.08
subgraphByDegree1.280.111.42