| Back to Multiple platform build/check report for BioC 3.19: simplified long |
|
This page was generated on 2024-10-18 20:38 -0400 (Fri, 18 Oct 2024).
| Hostname | OS | Arch (*) | R version | Installed pkgs |
|---|---|---|---|---|
| nebbiolo1 | Linux (Ubuntu 22.04.3 LTS) | x86_64 | 4.4.1 (2024-06-14) -- "Race for Your Life" | 4763 |
| palomino7 | Windows Server 2022 Datacenter | x64 | 4.4.1 (2024-06-14 ucrt) -- "Race for Your Life" | 4500 |
| merida1 | macOS 12.7.5 Monterey | x86_64 | 4.4.1 (2024-06-14) -- "Race for Your Life" | 4530 |
| kjohnson1 | macOS 13.6.6 Ventura | arm64 | 4.4.1 (2024-06-14) -- "Race for Your Life" | 4480 |
| Click on any hostname to see more info about the system (e.g. compilers) (*) as reported by 'uname -p', except on Windows and Mac OS X | ||||
| Package 217/2300 | Hostname | OS / Arch | INSTALL | BUILD | CHECK | BUILD BIN | ||||||||
| BioQC 1.32.0 (landing page) Jitao David Zhang
| nebbiolo1 | Linux (Ubuntu 22.04.3 LTS) / x86_64 | OK | OK | OK | |||||||||
| palomino7 | Windows Server 2022 Datacenter / x64 | OK | OK | OK | OK | |||||||||
| merida1 | macOS 12.7.5 Monterey / x86_64 | OK | OK | OK | OK | |||||||||
| kjohnson1 | macOS 13.6.6 Ventura / arm64 | OK | OK | OK | OK | |||||||||
|
To the developers/maintainers of the BioQC package: - Allow up to 24 hours (and sometimes 48 hours) for your latest push to git@git.bioconductor.org:packages/BioQC.git to reflect on this report. See Troubleshooting Build Report for more information. - Use the following Renviron settings to reproduce errors and warnings. - If 'R CMD check' started to fail recently on the Linux builder(s) over a missing dependency, add the missing dependency to 'Suggests:' in your DESCRIPTION file. See Renviron.bioc for more information. |
| Package: BioQC |
| Version: 1.32.0 |
| Command: /home/biocbuild/bbs-3.19-bioc/R/bin/R CMD check --install=check:BioQC.install-out.txt --library=/home/biocbuild/bbs-3.19-bioc/R/site-library --timings BioQC_1.32.0.tar.gz |
| StartedAt: 2024-10-16 22:11:06 -0400 (Wed, 16 Oct 2024) |
| EndedAt: 2024-10-16 22:13:43 -0400 (Wed, 16 Oct 2024) |
| EllapsedTime: 157.5 seconds |
| RetCode: 0 |
| Status: OK |
| CheckDir: BioQC.Rcheck |
| Warnings: 0 |
##############################################################################
##############################################################################
###
### Running command:
###
### /home/biocbuild/bbs-3.19-bioc/R/bin/R CMD check --install=check:BioQC.install-out.txt --library=/home/biocbuild/bbs-3.19-bioc/R/site-library --timings BioQC_1.32.0.tar.gz
###
##############################################################################
##############################################################################
* using log directory ‘/home/biocbuild/bbs-3.19-bioc/meat/BioQC.Rcheck’
* using R version 4.4.1 (2024-06-14)
* using platform: x86_64-pc-linux-gnu
* R was compiled by
gcc (Ubuntu 11.4.0-1ubuntu1~22.04) 11.4.0
GNU Fortran (Ubuntu 11.4.0-1ubuntu1~22.04) 11.4.0
* running under: Ubuntu 22.04.5 LTS
* using session charset: UTF-8
* checking for file ‘BioQC/DESCRIPTION’ ... OK
* checking extension type ... Package
* this is package ‘BioQC’ version ‘1.32.0’
* package encoding: UTF-8
* checking package namespace information ... OK
* checking package dependencies ... OK
* checking if this is a source package ... OK
* checking if there is a namespace ... OK
* checking for hidden files and directories ... OK
* checking for portable file names ... OK
* checking for sufficient/correct file permissions ... OK
* checking whether package ‘BioQC’ can be installed ... OK
* used C compiler: ‘gcc (Ubuntu 11.4.0-1ubuntu1~22.04) 11.4.0’
* used C++ compiler: ‘g++ (Ubuntu 11.4.0-1ubuntu1~22.04) 11.4.0’
* checking installed package size ... OK
* checking package directory ... OK
* checking ‘build’ directory ... OK
* checking DESCRIPTION meta-information ... OK
* checking top-level files ... OK
* checking for left-over files ... OK
* checking index information ... OK
* checking package subdirectories ... OK
* checking code files for non-ASCII characters ... OK
* checking R files for syntax errors ... OK
* checking whether the package can be loaded ... OK
* checking whether the package can be loaded with stated dependencies ... OK
* checking whether the package can be unloaded cleanly ... OK
* checking whether the namespace can be loaded with stated dependencies ... OK
* checking whether the namespace can be unloaded cleanly ... OK
* checking loading without being on the library search path ... OK
* checking dependencies in R code ... OK
* checking S3 generic/method consistency ... OK
* checking replacement functions ... OK
* checking foreign function calls ... OK
* checking R code for possible problems ... OK
* checking Rd files ... NOTE
checkRd: (-1) readCurrentSignatures.Rd:13: Lost braces
13 | \item{namespace}{Character, namespace of the gene-set, or code{NULL}, passed
| ^
checkRd: (-1) wmwTest.Rd:282: Lost braces
282 | code{wilcox.test} in the \code{stats} package, and \code{rankSumTestWithCorrelation} in
| ^
* checking Rd metadata ... OK
* checking Rd cross-references ... OK
* checking for missing documentation entries ... OK
* checking for code/documentation mismatches ... OK
* checking Rd \usage sections ... OK
* checking Rd contents ... OK
* checking for unstated dependencies in examples ... OK
* checking line endings in C/C++/Fortran sources/headers ... OK
* checking line endings in Makefiles ... OK
* checking compilation flags in Makevars ... OK
* checking for GNU extensions in Makefiles ... OK
* checking for portable use of $(BLAS_LIBS) and $(LAPACK_LIBS) ... OK
* checking use of PKG_*FLAGS in Makefiles ... OK
* checking compiled code ... NOTE
Note: information on .o files is not available
* checking files in ‘vignettes’ ... OK
* checking examples ... OK
* checking for unstated dependencies in ‘tests’ ... OK
* checking tests ...
Running ‘testthat.R’
OK
* checking for unstated dependencies in vignettes ... OK
* checking package vignettes ... OK
* checking re-building of vignette outputs ... OK
* checking PDF version of manual ... OK
* DONE
Status: 2 NOTEs
See
‘/home/biocbuild/bbs-3.19-bioc/meat/BioQC.Rcheck/00check.log’
for details.
BioQC.Rcheck/00install.out
##############################################################################
##############################################################################
###
### Running command:
###
### /home/biocbuild/bbs-3.19-bioc/R/bin/R CMD INSTALL BioQC
###
##############################################################################
##############################################################################
* installing to library ‘/home/biocbuild/bbs-3.19-bioc/R/site-library’
* installing *source* package ‘BioQC’ ...
** using staged installation
** libs
using C compiler: ‘gcc (Ubuntu 11.4.0-1ubuntu1~22.04) 11.4.0’
using C++ compiler: ‘g++ (Ubuntu 11.4.0-1ubuntu1~22.04) 11.4.0’
gcc -I"/home/biocbuild/bbs-3.19-bioc/R/include" -DNDEBUG `/home/biocbuild/bbs-3.19-bioc/R/bin/Rscript -e 'Rcpp:::CxxFlags()'` -I'/home/biocbuild/bbs-3.19-bioc/R/site-library/Rcpp/include' -I/usr/local/include -fpic -g -O2 -Wall -c gini.c -o gini.o
gcc -I"/home/biocbuild/bbs-3.19-bioc/R/include" -DNDEBUG `/home/biocbuild/bbs-3.19-bioc/R/bin/Rscript -e 'Rcpp:::CxxFlags()'` -I'/home/biocbuild/bbs-3.19-bioc/R/site-library/Rcpp/include' -I/usr/local/include -fpic -g -O2 -Wall -c init.c -o init.o
g++ -std=gnu++17 -I"/home/biocbuild/bbs-3.19-bioc/R/include" -DNDEBUG `/home/biocbuild/bbs-3.19-bioc/R/bin/Rscript -e 'Rcpp:::CxxFlags()'` -I'/home/biocbuild/bbs-3.19-bioc/R/site-library/Rcpp/include' -I/usr/local/include -fpic -g -O2 -Wall -c read_gmt.cpp -o read_gmt.o
gcc -I"/home/biocbuild/bbs-3.19-bioc/R/include" -DNDEBUG `/home/biocbuild/bbs-3.19-bioc/R/bin/Rscript -e 'Rcpp:::CxxFlags()'` -I'/home/biocbuild/bbs-3.19-bioc/R/site-library/Rcpp/include' -I/usr/local/include -fpic -g -O2 -Wall -c stat_rank.c -o stat_rank.o
gcc -I"/home/biocbuild/bbs-3.19-bioc/R/include" -DNDEBUG `/home/biocbuild/bbs-3.19-bioc/R/bin/Rscript -e 'Rcpp:::CxxFlags()'` -I'/home/biocbuild/bbs-3.19-bioc/R/site-library/Rcpp/include' -I/usr/local/include -fpic -g -O2 -Wall -c wmw_test.c -o wmw_test.o
wmw_test.c: In function ‘wmw_test_list’:
wmw_test.c:118: warning: ignoring ‘#pragma omp parallel’ [-Wunknown-pragmas]
118 | #pragma omp parallel for
|
wmw_test.c: In function ‘wmw_test’:
wmw_test.c:168: warning: ignoring ‘#pragma omp parallel’ [-Wunknown-pragmas]
168 | #pragma omp parallel for
|
wmw_test.c: In function ‘signed_wmw_test_list’:
wmw_test.c:201: warning: ignoring ‘#pragma omp parallel’ [-Wunknown-pragmas]
201 | #pragma omp parallel for
|
wmw_test.c: In function ‘signed_wmw_test’:
wmw_test.c:270: warning: ignoring ‘#pragma omp parallel’ [-Wunknown-pragmas]
270 | #pragma omp parallel for
|
g++ -std=gnu++17 -shared -L/home/biocbuild/bbs-3.19-bioc/R/lib -L/usr/local/lib -o BioQC.so gini.o init.o read_gmt.o stat_rank.o wmw_test.o -L/home/biocbuild/bbs-3.19-bioc/R/lib -lR
installing to /home/biocbuild/bbs-3.19-bioc/R/site-library/00LOCK-BioQC/00new/BioQC/libs
** R
** inst
** byte-compile and prepare package for lazy loading
** help
*** installing help indices
*** copying figures
** building package indices
** installing vignettes
** testing if installed package can be loaded from temporary location
** checking absolute paths in shared objects and dynamic libraries
** testing if installed package can be loaded from final location
** testing if installed package keeps a record of temporary installation path
* DONE (BioQC)
BioQC.Rcheck/tests/testthat.Rout
R version 4.4.1 (2024-06-14) -- "Race for Your Life"
Copyright (C) 2024 The R Foundation for Statistical Computing
Platform: x86_64-pc-linux-gnu
R is free software and comes with ABSOLUTELY NO WARRANTY.
You are welcome to redistribute it under certain conditions.
Type 'license()' or 'licence()' for distribution details.
R is a collaborative project with many contributors.
Type 'contributors()' for more information and
'citation()' on how to cite R or R packages in publications.
Type 'demo()' for some demos, 'help()' for on-line help, or
'help.start()' for an HTML browser interface to help.
Type 'q()' to quit R.
> library(testthat)
> library(BioQC)
Loading required package: Biobase
Loading required package: BiocGenerics
Attaching package: 'BiocGenerics'
The following objects are masked from 'package:stats':
IQR, mad, sd, var, xtabs
The following objects are masked from 'package:base':
Filter, Find, Map, Position, Reduce, anyDuplicated, aperm, append,
as.data.frame, basename, cbind, colnames, dirname, do.call,
duplicated, eval, evalq, get, grep, grepl, intersect, is.unsorted,
lapply, mapply, match, mget, order, paste, pmax, pmax.int, pmin,
pmin.int, rank, rbind, rownames, sapply, setdiff, table, tapply,
union, unique, unsplit, which.max, which.min
Welcome to Bioconductor
Vignettes contain introductory material; view with
'browseVignettes()'. To cite Bioconductor, see
'citation("Biobase")', and for packages 'citation("pkgname")'.
>
> test_check("BioQC")
[ FAIL 0 | WARN 0 | SKIP 0 | PASS 125 ]
>
> proc.time()
user system elapsed
7.132 0.228 7.351
BioQC.Rcheck/BioQC-Ex.timings
| name | user | system | elapsed | |
| GmtList | 0.002 | 0.000 | 0.002 | |
| IndexList | 0.003 | 0.000 | 0.003 | |
| SignedGenesets | 0 | 0 | 0 | |
| SignedIndexList | 0.002 | 0.000 | 0.002 | |
| absLog10p | 0.001 | 0.000 | 0.001 | |
| appendGmtList | 0.004 | 0.000 | 0.005 | |
| as.GmtList | 0.000 | 0.000 | 0.001 | |
| entropy | 0.002 | 0.000 | 0.002 | |
| entropyDiversity | 0.008 | 0.000 | 0.008 | |
| entropySpecificity | 0.005 | 0.000 | 0.005 | |
| filterPmat | 0.000 | 0.002 | 0.002 | |
| getLeadingEdgeIndexFromVector | 0.001 | 0.003 | 0.003 | |
| gini | 0.000 | 0.001 | 0.001 | |
| gmtlist2signedGenesets | 0.002 | 0.002 | 0.004 | |
| matchGenes | 0.068 | 0.000 | 0.069 | |
| offset-set | 0.001 | 0.000 | 0.001 | |
| offset | 0 | 0 | 0 | |
| prettySigNames | 0.041 | 0.000 | 0.043 | |
| readCurrentSignatures | 0.039 | 0.000 | 0.039 | |
| readGmt | 0.049 | 0.008 | 0.057 | |
| readSignedGmt | 0.006 | 0.000 | 0.006 | |
| sampleSpecialization | 0.001 | 0.004 | 0.005 | |
| setNamespace | 0.006 | 0.000 | 0.005 | |
| simplifyMatrix | 0.001 | 0.000 | 0.000 | |
| sub-.GmtList | 0.000 | 0.002 | 0.002 | |
| sub-sub-.GmtList | 0.000 | 0.001 | 0.001 | |
| uniqGenesetsByNamespace | 0.006 | 0.000 | 0.006 | |
| wmwLeadingEdge | 0.007 | 0.000 | 0.008 | |
| wmwTest | 0.177 | 0.008 | 0.186 | |
| wmwTestInR | 0.004 | 0.000 | 0.004 | |