Back to First build/check report with an "external build node" |
This page was generated on 2023-06-01 18:17:20 -0400 (Thu, 01 Jun 2023).
Hostname | OS | Arch (*) | R version | Installed pkgs |
---|---|---|---|---|
xps15 | Linux (Ubuntu 23.04) | x86_64 | 4.3.0 Patched (2023-05-23 r84466) -- "Already Tomorrow" | 544 |
Click on any hostname to see more info about the system (e.g. compilers) (*) as reported by 'uname -p', except on Windows and Mac OS X |
To the developers/maintainers of the zlibbioc package: Use the following Renviron settings to reproduce errors and warnings. Note: If "R CMD check" recently failed on the Linux builder over a missing dependency, add the missing dependency to "Suggests" in your DESCRIPTION file. See the Renviron.bioc for details. |
Package 91/91 | Hostname | OS / Arch | INSTALL | BUILD | CHECK | BUILD BIN | |||||||
zlibbioc 1.47.0 (landing page) Bioconductor Package Maintainer
| xps15 | Linux (Ubuntu 23.04) / x86_64 | OK | OK | WARNINGS | ||||||||
Package: zlibbioc |
Version: 1.47.0 |
Command: /home/hpages/bbs-3.18-bioc/R/bin/R CMD INSTALL zlibbioc |
StartedAt: 2023-06-01 12:18:53 -0700 (Thu, 01 Jun 2023) |
EndedAt: 2023-06-01 12:18:56 -0700 (Thu, 01 Jun 2023) |
EllapsedTime: 3.1 seconds |
RetCode: 0 |
Status: OK |
############################################################################## ############################################################################## ### ### Running command: ### ### /home/hpages/bbs-3.18-bioc/R/bin/R CMD INSTALL zlibbioc ### ############################################################################## ############################################################################## * installing to library ‘/home/hpages/bbs-3.18-bioc-testing/Rlibs’ * installing *source* package ‘zlibbioc’ ... ** using staged installation configure: creating ./config.status config.status: creating src/Makevars ** libs using C compiler: ‘gcc (Ubuntu 12.2.0-17ubuntu1) 12.2.0’ mkdir -p "/home/hpages/bbs-3.18-bioc-testing/Rlibs/00LOCK-zlibbioc/00new/zlibbioc/include" gcc -I"/home/hpages/bbs-3.18-bioc/R/include" -DNDEBUG -I/usr/local/include -fpic -g -O2 -Wall -c R_init_zlibbioc.c -o R_init_zlibbioc.o gcc -shared -L/usr/local/lib -o zlibbioc.so R_init_zlibbioc.o installing to /home/hpages/bbs-3.18-bioc-testing/Rlibs/00LOCK-zlibbioc/00new/zlibbioc/libs ** R ** byte-compile and prepare package for lazy loading ** help *** installing help indices ** building package indices ** installing vignettes ** testing if installed package can be loaded from temporary location ** checking absolute paths in shared objects and dynamic libraries ** testing if installed package can be loaded from final location ** testing if installed package keeps a record of temporary installation path * DONE (zlibbioc)