Back to First build/check report with an "external build node"

This page was generated on 2023-06-01 18:17:20 -0400 (Thu, 01 Jun 2023).

HostnameOSArch (*)R versionInstalled pkgs
xps15Linux (Ubuntu 23.04)x86_644.3.0 Patched (2023-05-23 r84466) -- "Already Tomorrow" 544
Click on any hostname to see more info about the system (e.g. compilers)      (*) as reported by 'uname -p', except on Windows and Mac OS X

INSTALL results for tximeta on xps15


To the developers/maintainers of the tximeta package:
Use the following Renviron settings to reproduce errors and warnings.

Note: If "R CMD check" recently failed on the Linux builder over a missing dependency, add the missing dependency to "Suggests" in your DESCRIPTION file. See the Renviron.bioc for details.

raw results

Package 85/91HostnameOS / ArchINSTALLBUILDCHECKBUILD BIN
tximeta 1.19.0  (landing page)
Michael Love
Snapshot Date: 2023-06-01 15:10:15 -0400 (Thu, 01 Jun 2023)
git_url: https://git.bioconductor.org/packages/tximeta
git_branch: devel
git_last_commit: 60716e1
git_last_commit_date: 2023-04-25 11:04:06 -0400 (Tue, 25 Apr 2023)
xps15Linux (Ubuntu 23.04) / x86_64  OK    OK    OK  

Summary

Package: tximeta
Version: 1.19.0
Command: /home/hpages/bbs-3.18-bioc/R/bin/R CMD INSTALL tximeta
StartedAt: 2023-06-01 12:28:15 -0700 (Thu, 01 Jun 2023)
EndedAt: 2023-06-01 12:28:57 -0700 (Thu, 01 Jun 2023)
EllapsedTime: 41.6 seconds
RetCode: 0
Status:   OK  

Command output

##############################################################################
##############################################################################
###
### Running command:
###
###   /home/hpages/bbs-3.18-bioc/R/bin/R CMD INSTALL tximeta
###
##############################################################################
##############################################################################


* installing to library ‘/home/hpages/bbs-3.18-bioc-testing/Rlibs’
* installing *source* package ‘tximeta’ ...
** using staged installation
** R
** inst
** byte-compile and prepare package for lazy loading
** help
*** installing help indices
** building package indices
** installing vignettes
** testing if installed package can be loaded from temporary location
** testing if installed package can be loaded from final location
** testing if installed package keeps a record of temporary installation path
* DONE (tximeta)