Back to BiocCheck report for BioC 3.18

This page was generated on 2023-06-17 02:24:58 -0400 (Sat, 17 Jun 2023).

HostnameOSArch (*)R versionInstalled pkgs
nebbiolo2Linux (Ubuntu 22.04.2 LTS)x86_644.3.0 RC (2023-04-18 r84287) -- "Already Tomorrow" 4693
Click on any hostname to see more info about the system (e.g. compilers)      (*) as reported by 'uname -p', except on Windows and Mac OS X

Package 85/92HostnameOS / ArchBIOCCHECK
tkWidgets 1.79.0  (landing page)
J. Zhang
Snapshot Date: 2023-06-17 01:11:23 -0400 (Sat, 17 Jun 2023)
git_url: https://git.bioconductor.org/packages/tkWidgets
git_branch: devel
git_last_commit: e1fdf83
git_last_commit_date: 2023-04-25 09:38:34 -0400 (Tue, 25 Apr 2023)
nebbiolo2Linux (Ubuntu 22.04.2 LTS) / x86_64  ERROR  

BUILD results for tkWidgets on nebbiolo2


To the developers/maintainers of the tkWidgets package:
- Use the following Renviron settings to reproduce errors and warnings.
- If 'R CMD check' started to fail recently on the Linux builder(s) over a missing dependency, add the missing dependency to 'Suggests:' in your DESCRIPTION file. See Renviron.bioc for more information.

raw results


Summary

Package: tkWidgets
Version: 1.79.0
Command: /home/biocbuild/bbs-3.18-bioc/R/bin/R CMD build --keep-empty-dirs --no-resave-data tkWidgets
StartedAt: 2023-06-17 01:39:20 -0400 (Sat, 17 Jun 2023)
EndedAt: 2023-06-17 01:39:30 -0400 (Sat, 17 Jun 2023)
EllapsedTime: 10.3 seconds
RetCode: 0
Status:   OK  
PackageFile: tkWidgets_1.79.0.tar.gz
PackageFileSize: 328.8 KiB

Command output

##############################################################################
##############################################################################
###
### Running command:
###
###   /home/biocbuild/bbs-3.18-bioc/R/bin/R CMD build --keep-empty-dirs --no-resave-data tkWidgets
###
##############################################################################
##############################################################################


* checking for file ‘tkWidgets/DESCRIPTION’ ... OK
* preparing ‘tkWidgets’:
* checking DESCRIPTION meta-information ... OK
* installing the package to build vignettes
* creating vignettes ... OK
* checking for LF line-endings in source and make files and shell scripts
* checking for empty or unneeded directories
* building ‘tkWidgets_1.79.0.tar.gz’